BEGIN:VCALENDAR
VERSION:2.0
PRODID:-//jEvents 2.0 for Joomla//EN
CALSCALE:GREGORIAN
METHOD:PUBLISH
BEGIN:VTIMEZONE
TZID:America/Chicago
BEGIN:STANDARD
DTSTART:20231105T010000
RDATE:20240310T030000
TZOFFSETFROM:-0500
TZOFFSETTO:-0600
TZNAME:America/Chicago CST
END:STANDARD
BEGIN:STANDARD
DTSTART:20241103T010000
RDATE:20250309T030000
TZOFFSETFROM:-0500
TZOFFSETTO:-0600
TZNAME:America/Chicago CST
END:STANDARD
BEGIN:STANDARD
DTSTART:20251102T010000
RDATE:20260308T030000
TZOFFSETFROM:-0500
TZOFFSETTO:-0600
TZNAME:America/Chicago CST
END:STANDARD
BEGIN:STANDARD
DTSTART:20261101T010000
RDATE:20270314T030000
TZOFFSETFROM:-0500
TZOFFSETTO:-0600
TZNAME:America/Chicago CST
END:STANDARD
BEGIN:STANDARD
DTSTART:20271107T010000
RDATE:20280312T030000
TZOFFSETFROM:-0500
TZOFFSETTO:-0600
TZNAME:America/Chicago CST
END:STANDARD
BEGIN:STANDARD
DTSTART:20281105T010000
RDATE:20290311T030000
TZOFFSETFROM:-0500
TZOFFSETTO:-0600
TZNAME:America/Chicago CST
END:STANDARD
BEGIN:DAYLIGHT
DTSTART:20230824T080000
RDATE:20231105T010000
TZOFFSETFROM:-0600
TZOFFSETTO:-0500
TZNAME:America/Chicago CDT
END:DAYLIGHT
BEGIN:DAYLIGHT
DTSTART:20240310T030000
RDATE:20241103T010000
TZOFFSETFROM:-0600
TZOFFSETTO:-0500
TZNAME:America/Chicago CDT
END:DAYLIGHT
BEGIN:DAYLIGHT
DTSTART:20250309T030000
RDATE:20251102T010000
TZOFFSETFROM:-0600
TZOFFSETTO:-0500
TZNAME:America/Chicago CDT
END:DAYLIGHT
BEGIN:DAYLIGHT
DTSTART:20260308T030000
RDATE:20261101T010000
TZOFFSETFROM:-0600
TZOFFSETTO:-0500
TZNAME:America/Chicago CDT
END:DAYLIGHT
BEGIN:DAYLIGHT
DTSTART:20270314T030000
RDATE:20271107T010000
TZOFFSETFROM:-0600
TZOFFSETTO:-0500
TZNAME:America/Chicago CDT
END:DAYLIGHT
BEGIN:DAYLIGHT
DTSTART:20280312T030000
RDATE:20281105T010000
TZOFFSETFROM:-0600
TZOFFSETTO:-0500
TZNAME:America/Chicago CDT
END:DAYLIGHT
END:VTIMEZONE
BEGIN:VEVENT
UID:8c9b882643729e3b685fec1ccb7cc229
CATEGORIES:5K
CREATED:20240507T045544
SUMMARY:Butterflies & Blueberries 5K Walk/Run
GEO:-93.49233246;36.96750259
LOCATION:Burtons Farm - 445 Silver Lake Road\, Billings\, MO\, \, 
URL;VALUE=URI:https://beta.actnowracing.com/events/1000/butterflies-blueberries-5k-walk-r
 un-geo-93-49233246-36-96750259?tmpl=component
DESCRIPTION:Join us for the 2nd Annual Butterflies &amp; Blueberries a 5k trail run/wal
 k, lovingly honoring and remembering Amaris Eliana Young.\nEnjoy the challe
 nging, yet beautiful trail like course on the Burtons farm where Amaris spe
 nt many summers working for the Burtons during blueberry season, planting a
 nd picking flowers, practicing driving a standard, her sisters baby shower,
  fall bonfires &amp; hay rides just to name a few! \n \nA little of Amaris’
  story.\nAmaris was all set to start school in the fall of 2022 with O.T.C.
  in their dental hygienist program. Our youth group attended High Point in 
 July of 2022; a youth church retreat partnered with Leaders Academy. It was
  an amazing week for her and when she came home July 2, 2022, she enthusias
 tically told us she’d decided to put those plans for O.T.C. on hold. Amaris
  had been called to attended Leaders Academy in the fall instead. Amaris wa
 s incredibly excited to see what God had in store for her on this new adven
 ture. \nOn July 16, 2022, a car accident forever changed her plans and on J
 uly 26,2022, Amaris went to heaven.\nTo honor Amaris' memory, her family wo
 uld like to bless another student on their adventure as they are called to 
 Leaders Academy in Hot Springs Arkansas. The goal is to cover tuition and c
 ost of living for a student.\nThere will be awards for Top 3 Male and Top 3
  Female finishers. Awards will be presented by her family after the race!\n
 There will be a donation breakfast, with the famous Burtons buttermilk panc
 akes &amp; blueberry syrup to be served!\n This event was imported from: ht
 tps://beta.actnowracing.com/events/1000/butterflies-blueberries-5k-walk-run
 -geo-93-49233246-36-96750259?tmpl=component
X-ALT-DESC;FMTTYPE=text/html:<p>Join us for the 2nd Annual Butterflies &amp; Blueberries a 5k trail run/
 walk, lovingly honoring and remembering Amaris Eliana Young.</p><p>Enjoy th
 e challenging, yet beautiful trail like course on the Burtons farm where Am
 aris spent many summers working for the Burtons during blueberry season, pl
 anting and picking flowers, practicing driving a standard, her sisters baby
  shower, fall bonfires &amp; hay rides just to name a few! <br> <br>A littl
 e of Amaris’ story.<br>Amaris was all set to start school in the fall of 20
 22 with O.T.C. in their dental hygienist program. Our youth group attended 
 High Point in July of 2022; a youth church retreat partnered with Leaders A
 cademy. It was an amazing week for her and when she came home July 2, 2022,
  she enthusiastically told us she’d decided to put those plans for O.T.C. o
 n hold. Amaris had been called to attended Leaders Academy in the fall inst
 ead. Amaris was incredibly excited to see what God had in store for her on 
 this new adventure. <br>On July 16, 2022, a car accident forever changed he
 r plans and on July 26,2022, Amaris went to heaven.</p><p>To honor Amaris' 
 memory, her family would like to bless another student on their adventure a
 s they are called to Leaders Academy in Hot Springs Arkansas. The goal is t
 o cover tuition and cost of living for a student.</p><p>There will be award
 s for Top 3 Male and Top 3 Female finishers. Awards will be presented by he
 r family after the race!</p><p>There will be a donation breakfast, with the
  famous Burtons buttermilk pancakes &amp; blueberry syrup to be served!</p>
  <a href="https://beta.actnowracing.com/events/1000/butterflies-blueberries
 -5k-walk-run-geo-93-49233246-36-96750259?tmpl=component">This event was imp
 orted from: https://beta.actnowracing.com/events/1000/butterflies-blueberri
 es-5k-walk-run-geo-93-49233246-36-96750259?tmpl=component</a>CONTACT:Contact Samantha Young at  RegularLabs.EmailProtector.unCloak("ep_f2f3ab63");
DTSTAMP:20260424T101414
DTSTART;TZID=America/Chicago:20240824T080000
SEQUENCE:0
TRANSP:OPAQUE
END:VEVENT
END:VCALENDAR