BEGIN:VCALENDAR
VERSION:2.0
PRODID:-//jEvents 2.0 for Joomla//EN
CALSCALE:GREGORIAN
METHOD:PUBLISH
BEGIN:VTIMEZONE
TZID:America/Chicago
BEGIN:STANDARD
DTSTART:20141102T010000
RDATE:20150308T030000
TZOFFSETFROM:-0500
TZOFFSETTO:-0600
TZNAME:America/Chicago CST
END:STANDARD
BEGIN:STANDARD
DTSTART:20151101T010000
RDATE:20160313T030000
TZOFFSETFROM:-0500
TZOFFSETTO:-0600
TZNAME:America/Chicago CST
END:STANDARD
BEGIN:STANDARD
DTSTART:20161106T010000
RDATE:20170312T030000
TZOFFSETFROM:-0500
TZOFFSETTO:-0600
TZNAME:America/Chicago CST
END:STANDARD
BEGIN:STANDARD
DTSTART:20171105T010000
RDATE:20180311T030000
TZOFFSETFROM:-0500
TZOFFSETTO:-0600
TZNAME:America/Chicago CST
END:STANDARD
BEGIN:STANDARD
DTSTART:20181104T010000
RDATE:20190310T030000
TZOFFSETFROM:-0500
TZOFFSETTO:-0600
TZNAME:America/Chicago CST
END:STANDARD
BEGIN:STANDARD
DTSTART:20191103T010000
RDATE:20200308T030000
TZOFFSETFROM:-0500
TZOFFSETTO:-0600
TZNAME:America/Chicago CST
END:STANDARD
BEGIN:STANDARD
DTSTART:20201101T010000
RDATE:20210314T030000
TZOFFSETFROM:-0500
TZOFFSETTO:-0600
TZNAME:America/Chicago CST
END:STANDARD
BEGIN:STANDARD
DTSTART:20211107T010000
RDATE:20220313T030000
TZOFFSETFROM:-0500
TZOFFSETTO:-0600
TZNAME:America/Chicago CST
END:STANDARD
BEGIN:STANDARD
DTSTART:20221106T010000
RDATE:20230312T030000
TZOFFSETFROM:-0500
TZOFFSETTO:-0600
TZNAME:America/Chicago CST
END:STANDARD
BEGIN:STANDARD
DTSTART:20231105T010000
RDATE:20240310T030000
TZOFFSETFROM:-0500
TZOFFSETTO:-0600
TZNAME:America/Chicago CST
END:STANDARD
BEGIN:STANDARD
DTSTART:20241103T010000
RDATE:20250309T030000
TZOFFSETFROM:-0500
TZOFFSETTO:-0600
TZNAME:America/Chicago CST
END:STANDARD
BEGIN:STANDARD
DTSTART:20251102T010000
RDATE:20260308T030000
TZOFFSETFROM:-0500
TZOFFSETTO:-0600
TZNAME:America/Chicago CST
END:STANDARD
BEGIN:STANDARD
DTSTART:20261101T010000
RDATE:20270314T030000
TZOFFSETFROM:-0500
TZOFFSETTO:-0600
TZNAME:America/Chicago CST
END:STANDARD
BEGIN:STANDARD
DTSTART:20271107T010000
RDATE:20280312T030000
TZOFFSETFROM:-0500
TZOFFSETTO:-0600
TZNAME:America/Chicago CST
END:STANDARD
BEGIN:STANDARD
DTSTART:20281105T010000
RDATE:20290311T030000
TZOFFSETFROM:-0500
TZOFFSETTO:-0600
TZNAME:America/Chicago CST
END:STANDARD
BEGIN:DAYLIGHT
DTSTART:20141030T080000
RDATE:20141102T010000
TZOFFSETFROM:-0600
TZOFFSETTO:-0500
TZNAME:America/Chicago CDT
END:DAYLIGHT
BEGIN:DAYLIGHT
DTSTART:20150308T030000
RDATE:20151101T010000
TZOFFSETFROM:-0600
TZOFFSETTO:-0500
TZNAME:America/Chicago CDT
END:DAYLIGHT
BEGIN:DAYLIGHT
DTSTART:20160313T030000
RDATE:20161106T010000
TZOFFSETFROM:-0600
TZOFFSETTO:-0500
TZNAME:America/Chicago CDT
END:DAYLIGHT
BEGIN:DAYLIGHT
DTSTART:20170312T030000
RDATE:20171105T010000
TZOFFSETFROM:-0600
TZOFFSETTO:-0500
TZNAME:America/Chicago CDT
END:DAYLIGHT
BEGIN:DAYLIGHT
DTSTART:20180311T030000
RDATE:20181104T010000
TZOFFSETFROM:-0600
TZOFFSETTO:-0500
TZNAME:America/Chicago CDT
END:DAYLIGHT
BEGIN:DAYLIGHT
DTSTART:20190310T030000
RDATE:20191103T010000
TZOFFSETFROM:-0600
TZOFFSETTO:-0500
TZNAME:America/Chicago CDT
END:DAYLIGHT
BEGIN:DAYLIGHT
DTSTART:20200308T030000
RDATE:20201101T010000
TZOFFSETFROM:-0600
TZOFFSETTO:-0500
TZNAME:America/Chicago CDT
END:DAYLIGHT
BEGIN:DAYLIGHT
DTSTART:20210314T030000
RDATE:20211107T010000
TZOFFSETFROM:-0600
TZOFFSETTO:-0500
TZNAME:America/Chicago CDT
END:DAYLIGHT
BEGIN:DAYLIGHT
DTSTART:20220313T030000
RDATE:20221106T010000
TZOFFSETFROM:-0600
TZOFFSETTO:-0500
TZNAME:America/Chicago CDT
END:DAYLIGHT
BEGIN:DAYLIGHT
DTSTART:20230312T030000
RDATE:20231105T010000
TZOFFSETFROM:-0600
TZOFFSETTO:-0500
TZNAME:America/Chicago CDT
END:DAYLIGHT
BEGIN:DAYLIGHT
DTSTART:20240310T030000
RDATE:20241103T010000
TZOFFSETFROM:-0600
TZOFFSETTO:-0500
TZNAME:America/Chicago CDT
END:DAYLIGHT
BEGIN:DAYLIGHT
DTSTART:20250309T030000
RDATE:20251102T010000
TZOFFSETFROM:-0600
TZOFFSETTO:-0500
TZNAME:America/Chicago CDT
END:DAYLIGHT
BEGIN:DAYLIGHT
DTSTART:20260308T030000
RDATE:20261101T010000
TZOFFSETFROM:-0600
TZOFFSETTO:-0500
TZNAME:America/Chicago CDT
END:DAYLIGHT
BEGIN:DAYLIGHT
DTSTART:20270314T030000
RDATE:20271107T010000
TZOFFSETFROM:-0600
TZOFFSETTO:-0500
TZNAME:America/Chicago CDT
END:DAYLIGHT
BEGIN:DAYLIGHT
DTSTART:20280312T030000
RDATE:20281105T010000
TZOFFSETFROM:-0600
TZOFFSETTO:-0500
TZNAME:America/Chicago CDT
END:DAYLIGHT
END:VTIMEZONE
BEGIN:VEVENT
UID:6d38a7f6f015047a53bf34b7d677c2dc
CATEGORIES:5K, Fun Run/Walk
CREATED:20141031T052629
SUMMARY:2015 Run for the Orchard 5K, 1 Mile Fun Run and Toddler .25K
GEO:-93.37454987;37.19787598
LOCATION:Willard Orchard Hills Elementary - 4595 W. Farm Road 140\, Springfield\, MO
 \, 65802\, 
URL;VALUE=URI:https://beta.actnowracing.com/events/101/2015-run-for-the-orchard-5k-1-mile
 -fun-run-and-toddler-25k-geo-93-37454987-37-19787598?tmpl=component
DESCRIPTION:Saturday, October 31, 2015 - Willard Orchard Hills Elementary5K Open Route 
 - 1 Mile Fun Run Open Route - Toddler .25K\nNon-Refundable Entry Fee $20 pe
 r participant - $25 on race day\nUnder 18 Entry Fee $10 per participant - $
 15 on race day\nPreschool (PreK-Toddler) Entry Fee $5 per child - $10 on ra
 ce day\nPacket Pickup &amp; Registration:\n4:00 pm – 7:00 pm at WOHE, Thurs
 day, October 29th\n7:00 am – 7:45 am at WOHE, Race Day - Saturday, October 
 31st\nWillard Orchard Hills Elementary invites you to participate in their 
 sixth annual 5K Run on October 31, 2015. Our 5K is the most family friendly
  race in the area! Feel free to dress up in a costume on race day for a lit
 tle extra added fun!\nWe have a 5K open route race where students, runners,
  and their families can participate. For those interested in a shorter rout
 e, a one mile open route fun run will also be available. Don’t forget the h
 ighly anticipate .25 Toddler Run!\nProceeds from this event will benefit Wi
 llard Orchard Hills Elementary School and the Care To Learn Foundation. Ent
 ry fees for adults are $20.00 per participant and $25.00 the day of the rac
 e. Under 18 entry fee is $10 per participant and $15 on race day. Preschool
  age (preschool – toddler) entry fee is $5 per child and $10 on race day.\n
 In order to ensure you receive a race t-shirt, your entry form and fee need
  to be submitted no later than Monday, October 12, 2015 at Willard Orchard 
 Hills Elementary. Unfortunately, t-shirts will not be guaranteed after this
  date. Entries can be dropped by WOHE or mailed to the school at 4595 W. Fa
 rm Road 140, Springfield MO 65802. We also offer an on-line registration fo
 r your convenience. Visit actnowracing.com and then look for WOHE 5K. There
  will be a small service charge added to all on-line registrations.\nWe loo
 k forward to seeing you on race day!\n• Race timed by ActNow Racing\n• A ne
 w open route down Farm Rd 140\n• Free child care provided during 5K\n• Will
 ard High School Cheerleaders cheering you on\nSchedule of Events on Race Mo
 rning\n7:00-9:00 Registration\n8:30-9:20 Food in the Commons\n8:00 5K Run S
 tart Time!\n9:00 One Mile Fun Run\n9:30 Tot Run\n9:45 Awards Assembly - Com
 mons\nWillard Orchard Registration Form (https://actnowracing.com/images/Ev
 ents/Willard_Orchard_Hills/2015/Official_Entry_Form2015_WOHE_5K.pdf)\n \n T
 his event was imported from: https://beta.actnowracing.com/events/101/2015-
 run-for-the-orchard-5k-1-mile-fun-run-and-toddler-25k-geo-93-37454987-37-19
 787598?tmpl=component
X-ALT-DESC;FMTTYPE=text/html:<h1 style="text-align: center;"><strong>Saturday, October 31, 2015 - Willar
 d Orchard Hills Elementary</strong></h1><p style="text-align: center;">5K O
 pen Route - 1 Mile Fun Run Open Route - Toddler .25K<br />Non-Refundable En
 try Fee $20 per participant - $25 on race day<br />Under 18 Entry Fee $10 p
 er participant - $15 on race day<br />Preschool (PreK-Toddler) Entry Fee $5
  per child - $10 on race day</p><p style="text-align: left;"><strong>Packet
  Pickup &amp; Registration:</strong><br />4:00 pm – 7:00 pm at WOHE, Thursd
 ay, October 29th<br />7:00 am – 7:45 am at WOHE, Race Day - Saturday, Octob
 er 31st</p><p style="text-align: left;">Willard Orchard Hills Elementary in
 vites you to participate in their sixth annual 5K Run on October 31, 2015. 
 Our 5K is the most family friendly race in the area! Feel free to dress up 
 in a costume on race day for a little extra added fun!<br />We have a 5K op
 en route race where students, runners, and their families can participate. 
 For those interested in a shorter route, a one mile open route fun run will
  also be available. Don’t forget the highly anticipate .25 Toddler Run!<br 
 />Proceeds from this event will benefit Willard Orchard Hills Elementary Sc
 hool and the Care To Learn Foundation. Entry fees for adults are $20.00 per
  participant and $25.00 the day of the race. Under 18 entry fee is $10 per 
 participant and $15 on race day. Preschool age (preschool – toddler) entry 
 fee is $5 per child and $10 on race day.<br />In order to ensure you receiv
 e a race t-shirt, your entry form and fee need to be submitted no later tha
 n <strong>Monday, October 12, 2015</strong> at Willard Orchard Hills Elemen
 tary. Unfortunately, t-shirts will not be guaranteed after this date. Entri
 es can be dropped by WOHE or mailed to the school at 4595 W. Farm Road 140,
  Springfield MO 65802. We also offer an on-line registration for your conve
 nience. Visit actnowracing.com and then look for WOHE 5K. There will be a s
 mall service charge added to all on-line registrations.</p><p style="text-a
 lign: left;">We look forward to seeing you on race day!<br />• Race timed b
 y ActNow Racing<br />• A new open route down Farm Rd 140<br />• Free child 
 care provided during 5K<br />• Willard High School Cheerleaders cheering yo
 u on</p><p style="text-align: left;"><strong>Schedule of Events on Race Mor
 ning</strong><br />7:00-9:00 Registration<br />8:30-9:20 Food in the Common
 s<br />8:00 5K Run Start Time!<br />9:00 One Mile Fun Run<br />9:30 Tot Run
 <br />9:45 Awards Assembly - Commons</p><p style="text-align: left;"><a hre
 f="https://actnowracing.com/images/Events/Willard_Orchard_Hills/2015/Offici
 al_Entry_Form2015_WOHE_5K.pdf" class="wf_file"><span class="wf_file_text">W
 illard Orchard Registration Form</span></a></p><p>&nbsp;</p> <a href="https
 ://beta.actnowracing.com/events/101/2015-run-for-the-orchard-5k-1-mile-fun-
 run-and-toddler-25k-geo-93-37454987-37-19787598?tmpl=component">This event 
 was imported from: https://beta.actnowracing.com/events/101/2015-run-for-th
 e-orchard-5k-1-mile-fun-run-and-toddler-25k-geo-93-37454987-37-19787598?tmp
 l=component</a>CONTACT:Christy Tree at RegularLabs.EmailProtector.unCloak("ep_f21729ee"); for more information.
DTSTAMP:20260423T073959
DTSTART;TZID=America/Chicago:20151031T080000
SEQUENCE:0
TRANSP:OPAQUE
END:VEVENT
END:VCALENDAR