BEGIN:VCALENDAR
VERSION:2.0
PRODID:-//jEvents 2.0 for Joomla//EN
CALSCALE:GREGORIAN
METHOD:PUBLISH
BEGIN:VTIMEZONE
TZID:America/Chicago
BEGIN:STANDARD
DTSTART:20231105T010000
RDATE:20240310T030000
TZOFFSETFROM:-0500
TZOFFSETTO:-0600
TZNAME:America/Chicago CST
END:STANDARD
BEGIN:STANDARD
DTSTART:20241103T010000
RDATE:20250309T030000
TZOFFSETFROM:-0500
TZOFFSETTO:-0600
TZNAME:America/Chicago CST
END:STANDARD
BEGIN:STANDARD
DTSTART:20251102T010000
RDATE:20260308T030000
TZOFFSETFROM:-0500
TZOFFSETTO:-0600
TZNAME:America/Chicago CST
END:STANDARD
BEGIN:STANDARD
DTSTART:20261101T010000
RDATE:20270314T030000
TZOFFSETFROM:-0500
TZOFFSETTO:-0600
TZNAME:America/Chicago CST
END:STANDARD
BEGIN:STANDARD
DTSTART:20271107T010000
RDATE:20280312T030000
TZOFFSETFROM:-0500
TZOFFSETTO:-0600
TZNAME:America/Chicago CST
END:STANDARD
BEGIN:STANDARD
DTSTART:20281105T010000
RDATE:20290311T030000
TZOFFSETFROM:-0500
TZOFFSETTO:-0600
TZNAME:America/Chicago CST
END:STANDARD
BEGIN:DAYLIGHT
DTSTART:20230831T073000
RDATE:20231105T010000
TZOFFSETFROM:-0600
TZOFFSETTO:-0500
TZNAME:America/Chicago CDT
END:DAYLIGHT
BEGIN:DAYLIGHT
DTSTART:20240310T030000
RDATE:20241103T010000
TZOFFSETFROM:-0600
TZOFFSETTO:-0500
TZNAME:America/Chicago CDT
END:DAYLIGHT
BEGIN:DAYLIGHT
DTSTART:20250309T030000
RDATE:20251102T010000
TZOFFSETFROM:-0600
TZOFFSETTO:-0500
TZNAME:America/Chicago CDT
END:DAYLIGHT
BEGIN:DAYLIGHT
DTSTART:20260308T030000
RDATE:20261101T010000
TZOFFSETFROM:-0600
TZOFFSETTO:-0500
TZNAME:America/Chicago CDT
END:DAYLIGHT
BEGIN:DAYLIGHT
DTSTART:20270314T030000
RDATE:20271107T010000
TZOFFSETFROM:-0600
TZOFFSETTO:-0500
TZNAME:America/Chicago CDT
END:DAYLIGHT
BEGIN:DAYLIGHT
DTSTART:20280312T030000
RDATE:20281105T010000
TZOFFSETFROM:-0600
TZOFFSETTO:-0500
TZNAME:America/Chicago CDT
END:DAYLIGHT
END:VTIMEZONE
BEGIN:VEVENT
UID:ff82da5e74c15d8a579ae98017eca729
CATEGORIES:Other
CREATED:20240710T045335
SUMMARY:JDRF Bicycle Ride
GEO:-93.26676941;37.25248337
LOCATION:Moon Town Crossing - 3060 N.  Kentwood\, Springfield\, MO\, \, 
URL;VALUE=URI:https://beta.actnowracing.com/events/1011/jdrf-bicycle-ride-geo-93-26676941
 -37-25248337?tmpl=component
DESCRIPTION:The JDRF Springfield Ride Team invites you to join them for the 15th Annual
  JDRF Bicycle Ride benefiting JDRF. \n This event was imported from: https:
 //beta.actnowracing.com/events/1011/jdrf-bicycle-ride-geo-93-26676941-37-25
 248337?tmpl=component
X-ALT-DESC;FMTTYPE=text/html:<p>The JDRF Springfield Ride Team invites you to join them for the 15th Ann
 ual JDRF Bicycle Ride benefiting JDRF.&nbsp;</p> <a href="https://beta.actn
 owracing.com/events/1011/jdrf-bicycle-ride-geo-93-26676941-37-25248337?tmpl
 =component">This event was imported from: https://beta.actnowracing.com/eve
 nts/1011/jdrf-bicycle-ride-geo-93-26676941-37-25248337?tmpl=component</a>CONTACT:Matt Wegenka at RegularLabs.EmailProtector.unCloak("ep_7b7d672a");
DTSTAMP:20260424T100031
DTSTART;TZID=America/Chicago:20240831T073000
SEQUENCE:0
TRANSP:OPAQUE
END:VEVENT
END:VCALENDAR