BEGIN:VCALENDAR
VERSION:2.0
PRODID:-//jEvents 2.0 for Joomla//EN
CALSCALE:GREGORIAN
METHOD:PUBLISH
BEGIN:VTIMEZONE
TZID:America/Chicago
BEGIN:STANDARD
DTSTART:20231105T010000
RDATE:20240310T030000
TZOFFSETFROM:-0500
TZOFFSETTO:-0600
TZNAME:America/Chicago CST
END:STANDARD
BEGIN:STANDARD
DTSTART:20241103T010000
RDATE:20250309T030000
TZOFFSETFROM:-0500
TZOFFSETTO:-0600
TZNAME:America/Chicago CST
END:STANDARD
BEGIN:STANDARD
DTSTART:20251102T010000
RDATE:20260308T030000
TZOFFSETFROM:-0500
TZOFFSETTO:-0600
TZNAME:America/Chicago CST
END:STANDARD
BEGIN:STANDARD
DTSTART:20261101T010000
RDATE:20270314T030000
TZOFFSETFROM:-0500
TZOFFSETTO:-0600
TZNAME:America/Chicago CST
END:STANDARD
BEGIN:STANDARD
DTSTART:20271107T010000
RDATE:20280312T030000
TZOFFSETFROM:-0500
TZOFFSETTO:-0600
TZNAME:America/Chicago CST
END:STANDARD
BEGIN:STANDARD
DTSTART:20281105T010000
RDATE:20290311T030000
TZOFFSETFROM:-0500
TZOFFSETTO:-0600
TZNAME:America/Chicago CST
END:STANDARD
BEGIN:DAYLIGHT
DTSTART:20231026T090000
RDATE:20231105T010000
TZOFFSETFROM:-0600
TZOFFSETTO:-0500
TZNAME:America/Chicago CDT
END:DAYLIGHT
BEGIN:DAYLIGHT
DTSTART:20240310T030000
RDATE:20241103T010000
TZOFFSETFROM:-0600
TZOFFSETTO:-0500
TZNAME:America/Chicago CDT
END:DAYLIGHT
BEGIN:DAYLIGHT
DTSTART:20250309T030000
RDATE:20251102T010000
TZOFFSETFROM:-0600
TZOFFSETTO:-0500
TZNAME:America/Chicago CDT
END:DAYLIGHT
BEGIN:DAYLIGHT
DTSTART:20260308T030000
RDATE:20261101T010000
TZOFFSETFROM:-0600
TZOFFSETTO:-0500
TZNAME:America/Chicago CDT
END:DAYLIGHT
BEGIN:DAYLIGHT
DTSTART:20270314T030000
RDATE:20271107T010000
TZOFFSETFROM:-0600
TZOFFSETTO:-0500
TZNAME:America/Chicago CDT
END:DAYLIGHT
BEGIN:DAYLIGHT
DTSTART:20280312T030000
RDATE:20281105T010000
TZOFFSETFROM:-0600
TZOFFSETTO:-0500
TZNAME:America/Chicago CDT
END:DAYLIGHT
END:VTIMEZONE
BEGIN:VEVENT
UID:47303b50cf5e4cd85d2482d16bd0da51
CATEGORIES:5K, 10K
CREATED:20240716T052230
SUMMARY:Halloween Hustle
GEO:-93.29061127;37.21806335
LOCATION:City Utilities - 301 E. Central\, Springfield\, MO\, \, 
URL;VALUE=URI:https://beta.actnowracing.com/events/1012/halloween-hustle-geo-93-29061127-
 37-21806335?tmpl=component
DESCRIPTION:<p>The Halloween Hustle is a local race presented by City Utilities with 10
 0% of proceeds benefiting a local charity—Harmony House. The race starts an
 d ends at City Utilities’ main office, 301 East Central Street. This relati
 vely flat race route winds through historic mid-town Springfield. Expect no
  tricks, but lots of treats at the Halloween Hustle—with candy for your lit
 tle ghosts and goblins on every corner. An event for kids of all ages—runne
 rs are encouraged get in the holiday spirit and wear their Halloween costum
 es. As one of the longest running 5k’s in the Springfield community, this h
 as become a Halloween tradition for many families year after year.</p><p>Th
 e Halloween Hustle benefits Harmony House—Springfield’s only domestic viole
 nce shelter. Every penny raised from the Halloween Hustle will support Harm
 ony House and the work they do every day providing shelter, advocacy, and e
 ducation to survivors of domestic abuse. When you take part in the Hallowee
 n Hustle, you are helping Harmony House provide a safe, warm place for loca
 l survivors of domestic abuse and their children. Your involvement gives a 
 survivor a chance to escape abuse and access to resources such as food, clo
 thing, court advocacy, life skills classes and more. Your donation stays lo
 cal and helps Harmony House continue to provide these much-needed services 
 in our community. Help us make a difference!</p> <a href="https://beta.actn
 owracing.com/events/1012/halloween-hustle-geo-93-29061127-37-21806335?tmpl=
 component">This event was imported from: https://beta.actnowracing.com/even
 ts/1012/halloween-hustle-geo-93-29061127-37-21806335?tmpl=component</a>CONTACT:Contact Whitney Mann at RegularLabs.EmailProtector.unCloak("ep_dcf67e46"); for more information!
DTSTAMP:20260425T025020
DTSTART;TZID=America/Chicago:20241026T090000
SEQUENCE:0
TRANSP:OPAQUE
END:VEVENT
END:VCALENDAR