BEGIN:VCALENDAR
VERSION:2.0
PRODID:-//jEvents 2.0 for Joomla//EN
CALSCALE:GREGORIAN
METHOD:PUBLISH
BEGIN:VTIMEZONE
TZID:America/Chicago
BEGIN:STANDARD
DTSTART:20231105T010000
RDATE:20240310T030000
TZOFFSETFROM:-0500
TZOFFSETTO:-0600
TZNAME:America/Chicago CST
END:STANDARD
BEGIN:STANDARD
DTSTART:20241103T010000
RDATE:20250309T030000
TZOFFSETFROM:-0500
TZOFFSETTO:-0600
TZNAME:America/Chicago CST
END:STANDARD
BEGIN:STANDARD
DTSTART:20251102T010000
RDATE:20260308T030000
TZOFFSETFROM:-0500
TZOFFSETTO:-0600
TZNAME:America/Chicago CST
END:STANDARD
BEGIN:STANDARD
DTSTART:20261101T010000
RDATE:20270314T030000
TZOFFSETFROM:-0500
TZOFFSETTO:-0600
TZNAME:America/Chicago CST
END:STANDARD
BEGIN:STANDARD
DTSTART:20271107T010000
RDATE:20280312T030000
TZOFFSETFROM:-0500
TZOFFSETTO:-0600
TZNAME:America/Chicago CST
END:STANDARD
BEGIN:STANDARD
DTSTART:20281105T010000
RDATE:20290311T030000
TZOFFSETFROM:-0500
TZOFFSETTO:-0600
TZNAME:America/Chicago CST
END:STANDARD
BEGIN:DAYLIGHT
DTSTART:20231011T173000
RDATE:20231105T010000
TZOFFSETFROM:-0600
TZOFFSETTO:-0500
TZNAME:America/Chicago CDT
END:DAYLIGHT
BEGIN:DAYLIGHT
DTSTART:20240310T030000
RDATE:20241103T010000
TZOFFSETFROM:-0600
TZOFFSETTO:-0500
TZNAME:America/Chicago CDT
END:DAYLIGHT
BEGIN:DAYLIGHT
DTSTART:20250309T030000
RDATE:20251102T010000
TZOFFSETFROM:-0600
TZOFFSETTO:-0500
TZNAME:America/Chicago CDT
END:DAYLIGHT
BEGIN:DAYLIGHT
DTSTART:20260308T030000
RDATE:20261101T010000
TZOFFSETFROM:-0600
TZOFFSETTO:-0500
TZNAME:America/Chicago CDT
END:DAYLIGHT
BEGIN:DAYLIGHT
DTSTART:20270314T030000
RDATE:20271107T010000
TZOFFSETFROM:-0600
TZOFFSETTO:-0500
TZNAME:America/Chicago CDT
END:DAYLIGHT
BEGIN:DAYLIGHT
DTSTART:20280312T030000
RDATE:20281105T010000
TZOFFSETFROM:-0600
TZOFFSETTO:-0500
TZNAME:America/Chicago CDT
END:DAYLIGHT
END:VTIMEZONE
BEGIN:VEVENT
UID:a8833303c0517bde5af78b57db5c33d3
CATEGORIES:5K, 1 Mile
CREATED:20240828T041936
SUMMARY:OTC PTA 5K & 1.55 Mile Walk/Run
GEO:-93.25058746;37.03130341
LOCATION:OTC Richwood Valley Campus - 3369 W Jackson St.\, Nixa\, MO\, \, 65714
URL;VALUE=URI:https://beta.actnowracing.com/events/1040/otc-pta-5k-1-55-mile-walk-run-geo
 -93-25058746-37-03130341?tmpl=component
DESCRIPTION:<p>The Physical Therapist Assistant Program presents: PTA 5K &amp; 1.55 Mil
 e Walk/Run !&nbsp; All proceeds benefit the Physical Therapist Assistant Pr
 ogram, which helps students by funding endowment scholarships.</p><p style=
 "text-align: center;">There will be Music, Food &amp; a Bonfire!</p> <a hre
 f="https://beta.actnowracing.com/events/1040/otc-pta-5k-1-55-mile-walk-run-
 geo-93-25058746-37-03130341?tmpl=component">This event was imported from: h
 ttps://beta.actnowracing.com/events/1040/otc-pta-5k-1-55-mile-walk-run-geo-
 93-25058746-37-03130341?tmpl=component</a>CONTACT:(417) 447-7873 or e-mail  RegularLabs.EmailProtector.unCloak("ep_fbe3a5a4");.
DTSTAMP:20260424T233937
DTSTART;TZID=America/Chicago:20241011T173000
SEQUENCE:0
TRANSP:OPAQUE
END:VEVENT
END:VCALENDAR