BEGIN:VCALENDAR
VERSION:2.0
PRODID:-//jEvents 2.0 for Joomla//EN
CALSCALE:GREGORIAN
METHOD:PUBLISH
BEGIN:VTIMEZONE
TZID:America/Chicago
BEGIN:STANDARD
DTSTART:20231128T080000
RDATE:20240310T030000
TZOFFSETFROM:-0500
TZOFFSETTO:-0600
TZNAME:America/Chicago CST
END:STANDARD
BEGIN:STANDARD
DTSTART:20241103T010000
RDATE:20250309T030000
TZOFFSETFROM:-0500
TZOFFSETTO:-0600
TZNAME:America/Chicago CST
END:STANDARD
BEGIN:STANDARD
DTSTART:20251102T010000
RDATE:20260308T030000
TZOFFSETFROM:-0500
TZOFFSETTO:-0600
TZNAME:America/Chicago CST
END:STANDARD
BEGIN:STANDARD
DTSTART:20261101T010000
RDATE:20270314T030000
TZOFFSETFROM:-0500
TZOFFSETTO:-0600
TZNAME:America/Chicago CST
END:STANDARD
BEGIN:STANDARD
DTSTART:20271107T010000
RDATE:20280312T030000
TZOFFSETFROM:-0500
TZOFFSETTO:-0600
TZNAME:America/Chicago CST
END:STANDARD
BEGIN:STANDARD
DTSTART:20281105T010000
RDATE:20290311T030000
TZOFFSETFROM:-0500
TZOFFSETTO:-0600
TZNAME:America/Chicago CST
END:STANDARD
BEGIN:DAYLIGHT
DTSTART:20240310T030000
RDATE:20241103T010000
TZOFFSETFROM:-0600
TZOFFSETTO:-0500
TZNAME:America/Chicago CDT
END:DAYLIGHT
BEGIN:DAYLIGHT
DTSTART:20250309T030000
RDATE:20251102T010000
TZOFFSETFROM:-0600
TZOFFSETTO:-0500
TZNAME:America/Chicago CDT
END:DAYLIGHT
BEGIN:DAYLIGHT
DTSTART:20260308T030000
RDATE:20261101T010000
TZOFFSETFROM:-0600
TZOFFSETTO:-0500
TZNAME:America/Chicago CDT
END:DAYLIGHT
BEGIN:DAYLIGHT
DTSTART:20270314T030000
RDATE:20271107T010000
TZOFFSETFROM:-0600
TZOFFSETTO:-0500
TZNAME:America/Chicago CDT
END:DAYLIGHT
BEGIN:DAYLIGHT
DTSTART:20280312T030000
RDATE:20281105T010000
TZOFFSETFROM:-0600
TZOFFSETTO:-0500
TZNAME:America/Chicago CDT
END:DAYLIGHT
END:VTIMEZONE
BEGIN:VEVENT
UID:103775b8f44513de665d61558aa3b72b
CATEGORIES:5K, 1 Mile
CREATED:20241029T133212
SUMMARY:Strafford Turkey Trot
GEO:-93.11849213;37.27151108
LOCATION:Strafford High School - 201 West McCabe Street\, Strafford\, MO\, \, 
URL;VALUE=URI:https://beta.actnowracing.com/events/1048/strafford-turkey-trot-geo-93-1184
 9213-37-27151108?tmpl=component
DESCRIPTION:Join us Thursday, November 28th for the Annual Strafford Turkey Trot 1 Mile
  Walk/5K Run/Walk!\nFirst time racers &amp; walkers welcome!  This course i
 s super flat &amp; super fast!\nDonations only, with proceeds going to the 
 Strafford Cross Country Team and/or Care to Learn; Your Choice!  \n This ev
 ent was imported from: https://beta.actnowracing.com/events/1048/strafford-
 turkey-trot-geo-93-11849213-37-27151108?tmpl=component
X-ALT-DESC;FMTTYPE=text/html:<p>Join us Thursday, November 28th for the Annual Strafford Turkey Trot 1 M
 ile Walk/5K Run/Walk!</p><p>First time racers &amp; walkers welcome!&nbsp; 
 This course is super flat &amp; super fast!</p><p>Donations only, with proc
 eeds going to the Strafford Cross Country Team and/or Care to Learn; Your C
 hoice! &nbsp;</p> <a href="https://beta.actnowracing.com/events/1048/straff
 ord-turkey-trot-geo-93-11849213-37-27151108?tmpl=component">This event was 
 imported from: https://beta.actnowracing.com/events/1048/strafford-turkey-t
 rot-geo-93-11849213-37-27151108?tmpl=component</a>CONTACT:Garrett Morey at RegularLabs.EmailProtector.unCloak("ep_0cfddd5a");
DTSTAMP:20260425T025020
DTSTART;TZID=America/Chicago:20241128T080000
SEQUENCE:0
TRANSP:OPAQUE
END:VEVENT
END:VCALENDAR