BEGIN:VCALENDAR
VERSION:2.0
PRODID:-//jEvents 2.0 for Joomla//EN
CALSCALE:GREGORIAN
METHOD:PUBLISH
BEGIN:VTIMEZONE
TZID:America/Chicago
BEGIN:STANDARD
DTSTART:20240215T073000
RDATE:20240310T030000
TZOFFSETFROM:-0500
TZOFFSETTO:-0600
TZNAME:America/Chicago CST
END:STANDARD
BEGIN:STANDARD
DTSTART:20241103T010000
RDATE:20250309T030000
TZOFFSETFROM:-0500
TZOFFSETTO:-0600
TZNAME:America/Chicago CST
END:STANDARD
BEGIN:STANDARD
DTSTART:20251102T010000
RDATE:20260308T030000
TZOFFSETFROM:-0500
TZOFFSETTO:-0600
TZNAME:America/Chicago CST
END:STANDARD
BEGIN:STANDARD
DTSTART:20261101T010000
RDATE:20270314T030000
TZOFFSETFROM:-0500
TZOFFSETTO:-0600
TZNAME:America/Chicago CST
END:STANDARD
BEGIN:STANDARD
DTSTART:20271107T010000
RDATE:20280312T030000
TZOFFSETFROM:-0500
TZOFFSETTO:-0600
TZNAME:America/Chicago CST
END:STANDARD
BEGIN:STANDARD
DTSTART:20281105T010000
RDATE:20290311T030000
TZOFFSETFROM:-0500
TZOFFSETTO:-0600
TZNAME:America/Chicago CST
END:STANDARD
BEGIN:DAYLIGHT
DTSTART:20240310T030000
RDATE:20241103T010000
TZOFFSETFROM:-0600
TZOFFSETTO:-0500
TZNAME:America/Chicago CDT
END:DAYLIGHT
BEGIN:DAYLIGHT
DTSTART:20250309T030000
RDATE:20251102T010000
TZOFFSETFROM:-0600
TZOFFSETTO:-0500
TZNAME:America/Chicago CDT
END:DAYLIGHT
BEGIN:DAYLIGHT
DTSTART:20260308T030000
RDATE:20261101T010000
TZOFFSETFROM:-0600
TZOFFSETTO:-0500
TZNAME:America/Chicago CDT
END:DAYLIGHT
BEGIN:DAYLIGHT
DTSTART:20270314T030000
RDATE:20271107T010000
TZOFFSETFROM:-0600
TZOFFSETTO:-0500
TZNAME:America/Chicago CDT
END:DAYLIGHT
BEGIN:DAYLIGHT
DTSTART:20280312T030000
RDATE:20281105T010000
TZOFFSETFROM:-0600
TZOFFSETTO:-0500
TZNAME:America/Chicago CDT
END:DAYLIGHT
END:VTIMEZONE
BEGIN:VEVENT
UID:0d24d125b4baa3fac7e3ff6b6c00e3c6
CATEGORIES:10K, Half Marathon, Relay, Other
CREATED:20241202T051646
SUMMARY:Heart of the Ozarks Half Marathon, 10K, 13.1 Relay and Mindy's Run
GEO:-91.85121155;36.72794342
LOCATION:Post Office Event Center - 204 East Main Street\, West Plains\, MO\, 65775\
 , 
URL;VALUE=URI:https://beta.actnowracing.com/events/1050/heart-of-the-ozarks-half-marathon
 -10k-13-1-relay-and-mindys-run-geo-91-85121155-36-72794342?tmpl=component
DESCRIPTION:<p>With distances ranging from 2.5 to 13.1 miles we have a race for everyon
 e. Come see why everyone loves this race!</p><p style="text-align: center;"
 ><strong><a href="https://www.heartoftheozarkshalfmarathon.com/index.html" 
 target="_blank" rel="noopener">CLICK HERE FOR FURTHER INFORMATION</a></stro
 ng></p> <a href="https://beta.actnowracing.com/events/1050/heart-of-the-oza
 rks-half-marathon-10k-13-1-relay-and-mindys-run-geo-91-85121155-36-72794342
 ?tmpl=component">This event was imported from: https://beta.actnowracing.co
 m/events/1050/heart-of-the-ozarks-half-marathon-10k-13-1-relay-and-mindys-r
 un-geo-91-85121155-36-72794342?tmpl=component</a>CONTACT:Wes at RegularLabs.EmailProtector.unCloak("ep_34919dc9");
DTSTAMP:20260423T192213
DTSTART;TZID=America/Chicago:20250215T073000
SEQUENCE:0
TRANSP:OPAQUE
END:VEVENT
END:VCALENDAR