BEGIN:VCALENDAR
VERSION:2.0
PRODID:-//jEvents 2.0 for Joomla//EN
CALSCALE:GREGORIAN
METHOD:PUBLISH
BEGIN:VTIMEZONE
TZID:America/Chicago
BEGIN:STANDARD
DTSTART:20141102T010000
RDATE:20150308T030000
TZOFFSETFROM:-0500
TZOFFSETTO:-0600
TZNAME:America/Chicago CST
END:STANDARD
BEGIN:STANDARD
DTSTART:20151101T010000
RDATE:20160313T030000
TZOFFSETFROM:-0500
TZOFFSETTO:-0600
TZNAME:America/Chicago CST
END:STANDARD
BEGIN:STANDARD
DTSTART:20161106T010000
RDATE:20170312T030000
TZOFFSETFROM:-0500
TZOFFSETTO:-0600
TZNAME:America/Chicago CST
END:STANDARD
BEGIN:STANDARD
DTSTART:20171105T010000
RDATE:20180311T030000
TZOFFSETFROM:-0500
TZOFFSETTO:-0600
TZNAME:America/Chicago CST
END:STANDARD
BEGIN:STANDARD
DTSTART:20181104T010000
RDATE:20190310T030000
TZOFFSETFROM:-0500
TZOFFSETTO:-0600
TZNAME:America/Chicago CST
END:STANDARD
BEGIN:STANDARD
DTSTART:20191103T010000
RDATE:20200308T030000
TZOFFSETFROM:-0500
TZOFFSETTO:-0600
TZNAME:America/Chicago CST
END:STANDARD
BEGIN:STANDARD
DTSTART:20201101T010000
RDATE:20210314T030000
TZOFFSETFROM:-0500
TZOFFSETTO:-0600
TZNAME:America/Chicago CST
END:STANDARD
BEGIN:STANDARD
DTSTART:20211107T010000
RDATE:20220313T030000
TZOFFSETFROM:-0500
TZOFFSETTO:-0600
TZNAME:America/Chicago CST
END:STANDARD
BEGIN:STANDARD
DTSTART:20221106T010000
RDATE:20230312T030000
TZOFFSETFROM:-0500
TZOFFSETTO:-0600
TZNAME:America/Chicago CST
END:STANDARD
BEGIN:STANDARD
DTSTART:20231105T010000
RDATE:20240310T030000
TZOFFSETFROM:-0500
TZOFFSETTO:-0600
TZNAME:America/Chicago CST
END:STANDARD
BEGIN:STANDARD
DTSTART:20241103T010000
RDATE:20250309T030000
TZOFFSETFROM:-0500
TZOFFSETTO:-0600
TZNAME:America/Chicago CST
END:STANDARD
BEGIN:STANDARD
DTSTART:20251102T010000
RDATE:20260308T030000
TZOFFSETFROM:-0500
TZOFFSETTO:-0600
TZNAME:America/Chicago CST
END:STANDARD
BEGIN:STANDARD
DTSTART:20261101T010000
RDATE:20270314T030000
TZOFFSETFROM:-0500
TZOFFSETTO:-0600
TZNAME:America/Chicago CST
END:STANDARD
BEGIN:STANDARD
DTSTART:20271107T010000
RDATE:20280312T030000
TZOFFSETFROM:-0500
TZOFFSETTO:-0600
TZNAME:America/Chicago CST
END:STANDARD
BEGIN:STANDARD
DTSTART:20281105T010000
RDATE:20290311T030000
TZOFFSETFROM:-0500
TZOFFSETTO:-0600
TZNAME:America/Chicago CST
END:STANDARD
BEGIN:DAYLIGHT
DTSTART:20140626T073000
RDATE:20141102T010000
TZOFFSETFROM:-0600
TZOFFSETTO:-0500
TZNAME:America/Chicago CDT
END:DAYLIGHT
BEGIN:DAYLIGHT
DTSTART:20150308T030000
RDATE:20151101T010000
TZOFFSETFROM:-0600
TZOFFSETTO:-0500
TZNAME:America/Chicago CDT
END:DAYLIGHT
BEGIN:DAYLIGHT
DTSTART:20160313T030000
RDATE:20161106T010000
TZOFFSETFROM:-0600
TZOFFSETTO:-0500
TZNAME:America/Chicago CDT
END:DAYLIGHT
BEGIN:DAYLIGHT
DTSTART:20170312T030000
RDATE:20171105T010000
TZOFFSETFROM:-0600
TZOFFSETTO:-0500
TZNAME:America/Chicago CDT
END:DAYLIGHT
BEGIN:DAYLIGHT
DTSTART:20180311T030000
RDATE:20181104T010000
TZOFFSETFROM:-0600
TZOFFSETTO:-0500
TZNAME:America/Chicago CDT
END:DAYLIGHT
BEGIN:DAYLIGHT
DTSTART:20190310T030000
RDATE:20191103T010000
TZOFFSETFROM:-0600
TZOFFSETTO:-0500
TZNAME:America/Chicago CDT
END:DAYLIGHT
BEGIN:DAYLIGHT
DTSTART:20200308T030000
RDATE:20201101T010000
TZOFFSETFROM:-0600
TZOFFSETTO:-0500
TZNAME:America/Chicago CDT
END:DAYLIGHT
BEGIN:DAYLIGHT
DTSTART:20210314T030000
RDATE:20211107T010000
TZOFFSETFROM:-0600
TZOFFSETTO:-0500
TZNAME:America/Chicago CDT
END:DAYLIGHT
BEGIN:DAYLIGHT
DTSTART:20220313T030000
RDATE:20221106T010000
TZOFFSETFROM:-0600
TZOFFSETTO:-0500
TZNAME:America/Chicago CDT
END:DAYLIGHT
BEGIN:DAYLIGHT
DTSTART:20230312T030000
RDATE:20231105T010000
TZOFFSETFROM:-0600
TZOFFSETTO:-0500
TZNAME:America/Chicago CDT
END:DAYLIGHT
BEGIN:DAYLIGHT
DTSTART:20240310T030000
RDATE:20241103T010000
TZOFFSETFROM:-0600
TZOFFSETTO:-0500
TZNAME:America/Chicago CDT
END:DAYLIGHT
BEGIN:DAYLIGHT
DTSTART:20250309T030000
RDATE:20251102T010000
TZOFFSETFROM:-0600
TZOFFSETTO:-0500
TZNAME:America/Chicago CDT
END:DAYLIGHT
BEGIN:DAYLIGHT
DTSTART:20260308T030000
RDATE:20261101T010000
TZOFFSETFROM:-0600
TZOFFSETTO:-0500
TZNAME:America/Chicago CDT
END:DAYLIGHT
BEGIN:DAYLIGHT
DTSTART:20270314T030000
RDATE:20271107T010000
TZOFFSETFROM:-0600
TZOFFSETTO:-0500
TZNAME:America/Chicago CDT
END:DAYLIGHT
BEGIN:DAYLIGHT
DTSTART:20280312T030000
RDATE:20281105T010000
TZOFFSETFROM:-0600
TZOFFSETTO:-0500
TZNAME:America/Chicago CDT
END:DAYLIGHT
END:VTIMEZONE
BEGIN:VEVENT
UID:cdc7c2c46749d4d9347073993230c20d
CATEGORIES:5K
CREATED:20141228T074233
SUMMARY:6th Annual Run for the Parks 5K
GEO:-93.71797943;36.97089005
LOCATION:White Park - \, Aurora\, MO\, \, 
URL;VALUE=URI:https://beta.actnowracing.com/events/106/6th-annual-run-for-the-parks-5k-ge
 o-93-71797943-36-97089005?tmpl=component
DESCRIPTION:<p>6th Annual Run for the Parks 5K hosted by the Aurora Trails Committee is
  set for Saturday, June 27, 2015 at 7:30am. &nbsp;<strong>- - NEW LOCATION 
 - - WHITE PARK</strong></p><p><strong>Entry Fee:</strong> $20 Pre-Registere
 d/Kids 12 &amp; Under $10</p><p><strong>Race Day Registration:</strong> $25
 /Kids 12 &amp; Under $15 - Race Day Registrations opens at 6:30AM</p><p><st
 rong>Shirts:</strong> T-Shirts to all Participants.</p><p><strong>Awards:</
 strong> Overall Male &amp; Female; Masters Male &amp; Female; Finisher's Ri
 bbons to all kids 12 &amp; Under. CUstom Medals (3 deep) for the following 
 Age Categories: 9 &amp; Under, 10-14, 15-19, 20-29, 30-39, 40-49, 50-59, 60
 -69, 70 &amp; Over</p><p><strong>Post Race: </strong>Awards Ceremony, food 
 &amp; drinks!</p><p><strong>Course:</strong> Mostly flat, walkers welcome.<
 /p><p><em><strong>Goody Bags to first 125 pre-registered entrants!</strong>
 </em></p><p>All proceeds from the race will go toward funding the continued
  trail project.</p><p>The first phase of the trail—a one mile asphalt secti
 on within the boundaries of White Park---is complete! We have recently rece
 ived another substantial grant so we will begin on Phase 2 of the project t
 he summer of 2016. This phase will branch off of the existing trail in Whit
 e Park, continuing west along the drainage ditch, with an underpass to cros
 s Carnation St. and finishing by connecting to Pate Elementary School.</p><
 p><a href="http://actnowracing.com/images/Events/Run_for_the_Parks/2015/Run
 _for_the_Parks_2015.pdf" class="wf_file"><span class="wf_file_text">Run for
  the Parks Registration Form</span></a></p> <a href="https://beta.actnowrac
 ing.com/events/106/6th-annual-run-for-the-parks-5k-geo-93-71797943-36-97089
 005?tmpl=component">This event was imported from: https://beta.actnowracing
 .com/events/106/6th-annual-run-for-the-parks-5k-geo-93-71797943-36-97089005
 ?tmpl=component</a>CONTACT:Melissa Briggs at RegularLabs.EmailProtector.unCloak("ep_dd957945"); or Ana Aparicio at RegularLabs.EmailProtector.unCloak("ep_f76ef89d");
DTSTAMP:20260424T093830
DTSTART;TZID=America/Chicago:20150627T073000
SEQUENCE:0
TRANSP:OPAQUE
END:VEVENT
END:VCALENDAR