BEGIN:VCALENDAR
VERSION:2.0
PRODID:-//jEvents 2.0 for Joomla//EN
CALSCALE:GREGORIAN
METHOD:PUBLISH
BEGIN:VTIMEZONE
TZID:America/Chicago
BEGIN:STANDARD
DTSTART:20241103T010000
RDATE:20250309T030000
TZOFFSETFROM:-0500
TZOFFSETTO:-0600
TZNAME:America/Chicago CST
END:STANDARD
BEGIN:STANDARD
DTSTART:20251102T010000
RDATE:20260308T030000
TZOFFSETFROM:-0500
TZOFFSETTO:-0600
TZNAME:America/Chicago CST
END:STANDARD
BEGIN:STANDARD
DTSTART:20261101T010000
RDATE:20270314T030000
TZOFFSETFROM:-0500
TZOFFSETTO:-0600
TZNAME:America/Chicago CST
END:STANDARD
BEGIN:STANDARD
DTSTART:20271107T010000
RDATE:20280312T030000
TZOFFSETFROM:-0500
TZOFFSETTO:-0600
TZNAME:America/Chicago CST
END:STANDARD
BEGIN:STANDARD
DTSTART:20281105T010000
RDATE:20290311T030000
TZOFFSETFROM:-0500
TZOFFSETTO:-0600
TZNAME:America/Chicago CST
END:STANDARD
BEGIN:DAYLIGHT
DTSTART:20240328T080000
RDATE:20241103T010000
TZOFFSETFROM:-0600
TZOFFSETTO:-0500
TZNAME:America/Chicago CDT
END:DAYLIGHT
BEGIN:DAYLIGHT
DTSTART:20250309T030000
RDATE:20251102T010000
TZOFFSETFROM:-0600
TZOFFSETTO:-0500
TZNAME:America/Chicago CDT
END:DAYLIGHT
BEGIN:DAYLIGHT
DTSTART:20260308T030000
RDATE:20261101T010000
TZOFFSETFROM:-0600
TZOFFSETTO:-0500
TZNAME:America/Chicago CDT
END:DAYLIGHT
BEGIN:DAYLIGHT
DTSTART:20270314T030000
RDATE:20271107T010000
TZOFFSETFROM:-0600
TZOFFSETTO:-0500
TZNAME:America/Chicago CDT
END:DAYLIGHT
BEGIN:DAYLIGHT
DTSTART:20280312T030000
RDATE:20281105T010000
TZOFFSETFROM:-0600
TZOFFSETTO:-0500
TZNAME:America/Chicago CDT
END:DAYLIGHT
END:VTIMEZONE
BEGIN:VEVENT
UID:b797ab9fb069eeea1f700ae2412f73f7
CATEGORIES:5K
CREATED:20241212T055111
SUMMARY:Running of the Squirrels 5K Donut Run
GEO:-93.63919067;36.99893951
LOCATION:Marionville Elementary School - 200 O'Dell\, Marionville\, MO\, \, 
URL;VALUE=URI:https://beta.actnowracing.com/events/1061/running-of-the-squirrels-5k-donut
 -run-geo-93-63919067-36-99893951?tmpl=component
DESCRIPTION:Get ready for a delightful and delicious experience at the 2025 Running of 
 the Squirrels 5K Donut Run! Whether you're a seasoned runner or a casual jo
 gger, this event promises a fun-filled day for all participants. All procee
 ds raised from our 5K will benefit the Marionville Comet Pride Marching Ban
 d. Thank you for your support!\n● Prize for Best Dressed Donut: Show off yo
 ur creativity and join the fun by dressing as a\ndonut or creating a unique
  donut-themed costume. Our judges will be looking for the\nmost innovative 
 and entertaining outfits, and the best dressed will win a special prize!\n●
  Donut Pit Stop: Need a little energy boost during your run? Stop by our do
 nut pit stop\nalong the race route for a sweet treat to keep you going.\n● 
 Donut Eating Challenge: Finish the race with a bang by participating in our
  donut eating\nchallenge at the end. Test your skills and see how many donu
 ts you can enjoy after\ncrossing the finish line!\n This event was imported
  from: https://beta.actnowracing.com/events/1061/running-of-the-squirrels-5
 k-donut-run-geo-93-63919067-36-99893951?tmpl=component
X-ALT-DESC;FMTTYPE=text/html:<p>Get ready for a delightful and delicious experience at the 2025 Running 
 of the Squirrels 5K Donut Run! Whether you're a seasoned runner or a casual
  jogger, this event promises a fun-filled day for all participants. All pro
 ceeds raised from our 5K will benefit the Marionville Comet Pride Marching 
 Band. Thank you for your support!</p><p>● Prize for Best Dressed Donut: Sho
 w off your creativity and join the fun by dressing as a<br>donut or creatin
 g a unique donut-themed costume. Our judges will be looking for the<br>most
  innovative and entertaining outfits, and the best dressed will win a speci
 al prize!</p><p>● Donut Pit Stop: Need a little energy boost during your ru
 n? Stop by our donut pit stop<br>along the race route for a sweet treat to 
 keep you going.</p><p>● Donut Eating Challenge: Finish the race with a bang
  by participating in our donut eating<br>challenge at the end. Test your sk
 ills and see how many donuts you can enjoy after<br>crossing the finish lin
 e!</p> <a href="https://beta.actnowracing.com/events/1061/running-of-the-sq
 uirrels-5k-donut-run-geo-93-63919067-36-99893951?tmpl=component">This event
  was imported from: https://beta.actnowracing.com/events/1061/running-of-th
 e-squirrels-5k-donut-run-geo-93-63919067-36-99893951?tmpl=component</a>CONTACT:RegularLabs.EmailProtector.unCloak("ep_26623115");
DTSTAMP:20260423T192018
DTSTART;TZID=America/Chicago:20250329T080000
SEQUENCE:0
TRANSP:OPAQUE
END:VEVENT
END:VCALENDAR