BEGIN:VCALENDAR
VERSION:2.0
PRODID:-//jEvents 2.0 for Joomla//EN
CALSCALE:GREGORIAN
METHOD:PUBLISH
BEGIN:VTIMEZONE
TZID:America/Chicago
BEGIN:STANDARD
DTSTART:20240208T090000
RDATE:20240310T030000
TZOFFSETFROM:-0500
TZOFFSETTO:-0600
TZNAME:America/Chicago CST
END:STANDARD
BEGIN:STANDARD
DTSTART:20241103T010000
RDATE:20250309T030000
TZOFFSETFROM:-0500
TZOFFSETTO:-0600
TZNAME:America/Chicago CST
END:STANDARD
BEGIN:STANDARD
DTSTART:20251102T010000
RDATE:20260308T030000
TZOFFSETFROM:-0500
TZOFFSETTO:-0600
TZNAME:America/Chicago CST
END:STANDARD
BEGIN:STANDARD
DTSTART:20261101T010000
RDATE:20270314T030000
TZOFFSETFROM:-0500
TZOFFSETTO:-0600
TZNAME:America/Chicago CST
END:STANDARD
BEGIN:STANDARD
DTSTART:20271107T010000
RDATE:20280312T030000
TZOFFSETFROM:-0500
TZOFFSETTO:-0600
TZNAME:America/Chicago CST
END:STANDARD
BEGIN:STANDARD
DTSTART:20281105T010000
RDATE:20290311T030000
TZOFFSETFROM:-0500
TZOFFSETTO:-0600
TZNAME:America/Chicago CST
END:STANDARD
BEGIN:DAYLIGHT
DTSTART:20240310T030000
RDATE:20241103T010000
TZOFFSETFROM:-0600
TZOFFSETTO:-0500
TZNAME:America/Chicago CDT
END:DAYLIGHT
BEGIN:DAYLIGHT
DTSTART:20250309T030000
RDATE:20251102T010000
TZOFFSETFROM:-0600
TZOFFSETTO:-0500
TZNAME:America/Chicago CDT
END:DAYLIGHT
BEGIN:DAYLIGHT
DTSTART:20260308T030000
RDATE:20261101T010000
TZOFFSETFROM:-0600
TZOFFSETTO:-0500
TZNAME:America/Chicago CDT
END:DAYLIGHT
BEGIN:DAYLIGHT
DTSTART:20270314T030000
RDATE:20271107T010000
TZOFFSETFROM:-0600
TZOFFSETTO:-0500
TZNAME:America/Chicago CDT
END:DAYLIGHT
BEGIN:DAYLIGHT
DTSTART:20280312T030000
RDATE:20281105T010000
TZOFFSETFROM:-0600
TZOFFSETTO:-0500
TZNAME:America/Chicago CDT
END:DAYLIGHT
END:VTIMEZONE
BEGIN:VEVENT
UID:ac02492ca62e23b0db766af32ac380c7
CATEGORIES:5K, 10K
CREATED:20241218T122405
SUMMARY:46th Annual Polar Bear Run
GEO:-93.41164398;37.6015625
LOCATION:Southwest Baptist University Student Union - 1600 University Avenue\, Boliv
 ar\, MO\, \, 
URL;VALUE=URI:https://beta.actnowracing.com/events/1062/46th-annual-polar-bear-run-geo-93
 -41164398-37-6015625?tmpl=component
DESCRIPTION:City of Bolivar’s Park and Recreation department is excited to host the 46t
 h Annual Polar Bear Run!\nMust be registered by noon on January 29th to be 
 guaranteed a Polar Bear sweatshirt.  NO extra's will be ordered. \n This ev
 ent was imported from: https://beta.actnowracing.com/events/1062/46th-annua
 l-polar-bear-run-geo-93-41164398-37-6015625?tmpl=component
X-ALT-DESC;FMTTYPE=text/html:<p>City of Bolivar’s Park and Recreation department is excited to host the 
 46th Annual Polar Bear Run!</p><p><strong>Must be registered by noon on Jan
 uary 29th to be guaranteed a Polar Bear sweatshirt.&nbsp; NO extra's will b
 e ordered.&nbsp;</strong></p> <a href="https://beta.actnowracing.com/events
 /1062/46th-annual-polar-bear-run-geo-93-41164398-37-6015625?tmpl=component"
 >This event was imported from: https://beta.actnowracing.com/events/1062/46
 th-annual-polar-bear-run-geo-93-41164398-37-6015625?tmpl=component</a>CONTACT:Todd Schrader, Parks and Rec Director at RegularLabs.EmailProtector.unCloak("ep_13bf8c33");  
DTSTAMP:20260423T192111
DTSTART;TZID=America/Chicago:20250208T090000
SEQUENCE:0
TRANSP:OPAQUE
END:VEVENT
END:VCALENDAR