BEGIN:VCALENDAR
VERSION:2.0
PRODID:-//jEvents 2.0 for Joomla//EN
CALSCALE:GREGORIAN
METHOD:PUBLISH
BEGIN:VTIMEZONE
TZID:America/Chicago
BEGIN:STANDARD
DTSTART:20241103T010000
RDATE:20250309T030000
TZOFFSETFROM:-0500
TZOFFSETTO:-0600
TZNAME:America/Chicago CST
END:STANDARD
BEGIN:STANDARD
DTSTART:20251102T010000
RDATE:20260308T030000
TZOFFSETFROM:-0500
TZOFFSETTO:-0600
TZNAME:America/Chicago CST
END:STANDARD
BEGIN:STANDARD
DTSTART:20261101T010000
RDATE:20270314T030000
TZOFFSETFROM:-0500
TZOFFSETTO:-0600
TZNAME:America/Chicago CST
END:STANDARD
BEGIN:STANDARD
DTSTART:20271107T010000
RDATE:20280312T030000
TZOFFSETFROM:-0500
TZOFFSETTO:-0600
TZNAME:America/Chicago CST
END:STANDARD
BEGIN:STANDARD
DTSTART:20281105T010000
RDATE:20290311T030000
TZOFFSETFROM:-0500
TZOFFSETTO:-0600
TZNAME:America/Chicago CST
END:STANDARD
BEGIN:DAYLIGHT
DTSTART:20240502T070000
RDATE:20241103T010000
TZOFFSETFROM:-0600
TZOFFSETTO:-0500
TZNAME:America/Chicago CDT
END:DAYLIGHT
BEGIN:DAYLIGHT
DTSTART:20250309T030000
RDATE:20251102T010000
TZOFFSETFROM:-0600
TZOFFSETTO:-0500
TZNAME:America/Chicago CDT
END:DAYLIGHT
BEGIN:DAYLIGHT
DTSTART:20260308T030000
RDATE:20261101T010000
TZOFFSETFROM:-0600
TZOFFSETTO:-0500
TZNAME:America/Chicago CDT
END:DAYLIGHT
BEGIN:DAYLIGHT
DTSTART:20270314T030000
RDATE:20271107T010000
TZOFFSETFROM:-0600
TZOFFSETTO:-0500
TZNAME:America/Chicago CDT
END:DAYLIGHT
BEGIN:DAYLIGHT
DTSTART:20280312T030000
RDATE:20281105T010000
TZOFFSETFROM:-0600
TZOFFSETTO:-0500
TZNAME:America/Chicago CDT
END:DAYLIGHT
END:VTIMEZONE
BEGIN:VEVENT
UID:c131d3e8c0e1e7c2d3184ca2593fd754
CATEGORIES:5K, 1 Mile
CREATED:20250206T134051
SUMMARY:Runway for Hope 5K & 1 Mile
GEO:-93.19934082;36.53897095
LOCATION:Branson Airport - 4000 Branson Airport Blvd\, Hollister\, MO\, \, 65672
URL;VALUE=URI:https://beta.actnowracing.com/events/1085/runway-for-hope-5k-1-mile-geo-93-
 19934082-36-53897095?tmpl=component
DESCRIPTION:Runners, aviation enthusiasts, and community members alike will have the un
 ique opportunity to race down the runway at Branson Airport during the Runw
 ay for Hope 5K &amp; 1 Mile Fun Run, set for Saturday, May 3rd. Branson Air
 port is opening its runway for a limited-time event before regular flight o
 perations begin for the day. This one-of-a-kind event will take place on th
 e tarmac of the active airport, offering participants an unforgettable expe
 rience. Runners will enjoy a flat, fast, and scenic course with a rare chan
 ce to experience an airport from a new perspective.\nProceeds support the e
 stablishment of a dedicated children’s therapy area. Funds will go toward r
 enovating the space, purchase furnishings, decor, toys, and support the sal
 aries of two licensed therapists.\n This event was imported from: https://b
 eta.actnowracing.com/events/1085/runway-for-hope-5k-1-mile-geo-93-19934082-
 36-53897095?tmpl=component
X-ALT-DESC;FMTTYPE=text/html:<p>Runners, aviation enthusiasts, and community members alike will have the
  unique opportunity to race down the runway at Branson Airport during the <
 strong>Runway for Hope 5K &amp; 1 Mile Fun Run</strong>, set for <strong>Sa
 turday, May 3rd</strong>. Branson Airport is opening its runway for a limit
 ed-time event before regular flight operations begin for the day. This one-
 of-a-kind event will take place on the tarmac of the active airport, offeri
 ng participants an unforgettable experience. Runners will enjoy a flat, fas
 t, and scenic course with a rare chance to experience an airport from a new
  perspective.</p><p>Proceeds support the establishment of a dedicated child
 ren’s therapy area. Funds will go toward renovating the space, purchase fur
 nishings, decor, toys, and support the salaries of two licensed therapists.
 </p> <a href="https://beta.actnowracing.com/events/1085/runway-for-hope-5k-
 1-mile-geo-93-19934082-36-53897095?tmpl=component">This event was imported 
 from: https://beta.actnowracing.com/events/1085/runway-for-hope-5k-1-mile-g
 eo-93-19934082-36-53897095?tmpl=component</a>CONTACT:Tracey at RegularLabs.EmailProtector.unCloak("ep_a96a2c54");
DTSTAMP:20260423T191942
DTSTART;TZID=America/Chicago:20250503T070000
SEQUENCE:0
TRANSP:OPAQUE
END:VEVENT
END:VCALENDAR