BEGIN:VCALENDAR
VERSION:2.0
PRODID:-//jEvents 2.0 for Joomla//EN
CALSCALE:GREGORIAN
METHOD:PUBLISH
BEGIN:VTIMEZONE
TZID:America/Chicago
BEGIN:STANDARD
DTSTART:20251102T010000
RDATE:20260308T030000
TZOFFSETFROM:-0500
TZOFFSETTO:-0600
TZNAME:America/Chicago CST
END:STANDARD
BEGIN:STANDARD
DTSTART:20261101T010000
RDATE:20270314T030000
TZOFFSETFROM:-0500
TZOFFSETTO:-0600
TZNAME:America/Chicago CST
END:STANDARD
BEGIN:STANDARD
DTSTART:20271107T010000
RDATE:20280312T030000
TZOFFSETFROM:-0500
TZOFFSETTO:-0600
TZNAME:America/Chicago CST
END:STANDARD
BEGIN:STANDARD
DTSTART:20281105T010000
RDATE:20290311T030000
TZOFFSETFROM:-0500
TZOFFSETTO:-0600
TZNAME:America/Chicago CST
END:STANDARD
BEGIN:DAYLIGHT
DTSTART:20250911T083000
RDATE:20251102T010000
TZOFFSETFROM:-0600
TZOFFSETTO:-0500
TZNAME:America/Chicago CDT
END:DAYLIGHT
BEGIN:DAYLIGHT
DTSTART:20260308T030000
RDATE:20261101T010000
TZOFFSETFROM:-0600
TZOFFSETTO:-0500
TZNAME:America/Chicago CDT
END:DAYLIGHT
BEGIN:DAYLIGHT
DTSTART:20270314T030000
RDATE:20271107T010000
TZOFFSETFROM:-0600
TZOFFSETTO:-0500
TZNAME:America/Chicago CDT
END:DAYLIGHT
BEGIN:DAYLIGHT
DTSTART:20280312T030000
RDATE:20281105T010000
TZOFFSETFROM:-0600
TZOFFSETTO:-0500
TZNAME:America/Chicago CDT
END:DAYLIGHT
END:VTIMEZONE
BEGIN:VEVENT
UID:abab6b8408622d5f9d1ce2de98d82ded
CATEGORIES:5K, 1 Mile
CREATED:20251204T133036
SUMMARY:Harvest Hustle 5K and 1M
GEO:-93.22084045;37.02215576
LOCATION:Ozark Community Center - 1530 W Jackson Street\, Ozark\, MO\, \, 65721
URL;VALUE=URI:https://beta.actnowracing.com/events/1200/harvest-hustle-5k-and-1m-geo-93-2
 2084045-37-02215576?tmpl=component
DESCRIPTION:Hustle on over to The OC for a morning packed with fun, fitness, and family
 -friendly excitement! The day kicks off with a scenic 5K run/walk and 1-mil
 e Fun Run, where participants can soak in the crisp Fall air and beautiful 
 surroundings. After crossing the finish line, enjoy a warm cup of coffee co
 ffee, and post run treats.\nCLICK HERE TO GET REGISTERED (https://tms.ezfac
 ility.com/OnlineRegistrations/Register.aspx?CompanyID=1756&amp;GroupID=3957
 046#SelectRegistrationType)\n This event was imported from: https://beta.ac
 tnowracing.com/events/1200/harvest-hustle-5k-and-1m-geo-93-22084045-37-0221
 5576?tmpl=component
X-ALT-DESC;FMTTYPE=text/html:<p>Hustle on over to The OC for a morning packed with fun, fitness, and fam
 ily-friendly excitement! The day kicks off with a scenic 5K run/walk and 1-
 mile Fun Run, where participants can soak in the crisp Fall air and beautif
 ul surroundings. After crossing the finish line, enjoy a warm cup of coffee
  coffee, and post run treats.</p><p style="text-align: center;"><a href="ht
 tps://tms.ezfacility.com/OnlineRegistrations/Register.aspx?CompanyID=1756&a
 mp;GroupID=3957046#SelectRegistrationType" target="_blank" rel="noopener"><
 strong>CLICK HERE TO GET REGISTERED</strong></a></p> <a href="https://beta.
 actnowracing.com/events/1200/harvest-hustle-5k-and-1m-geo-93-22084045-37-02
 215576?tmpl=component">This event was imported from: https://beta.actnowrac
 ing.com/events/1200/harvest-hustle-5k-and-1m-geo-93-22084045-37-02215576?tm
 pl=component</a>DTSTAMP:20260423T000354
DTSTART;TZID=America/Chicago:20260912T083000
DTEND;TZID=America/Chicago:20260912T103000
SEQUENCE:0
TRANSP:OPAQUE
END:VEVENT
END:VCALENDAR