BEGIN:VCALENDAR
VERSION:2.0
PRODID:-//jEvents 2.0 for Joomla//EN
CALSCALE:GREGORIAN
METHOD:PUBLISH
BEGIN:VTIMEZONE
TZID:America/Chicago
BEGIN:STANDARD
DTSTART:20251102T010000
RDATE:20260308T030000
TZOFFSETFROM:-0500
TZOFFSETTO:-0600
TZNAME:America/Chicago CST
END:STANDARD
BEGIN:STANDARD
DTSTART:20261101T010000
RDATE:20270314T030000
TZOFFSETFROM:-0500
TZOFFSETTO:-0600
TZNAME:America/Chicago CST
END:STANDARD
BEGIN:STANDARD
DTSTART:20271107T010000
RDATE:20280312T030000
TZOFFSETFROM:-0500
TZOFFSETTO:-0600
TZNAME:America/Chicago CST
END:STANDARD
BEGIN:STANDARD
DTSTART:20281105T010000
RDATE:20290311T030000
TZOFFSETFROM:-0500
TZOFFSETTO:-0600
TZNAME:America/Chicago CST
END:STANDARD
BEGIN:DAYLIGHT
DTSTART:20250501T090000
RDATE:20251102T010000
TZOFFSETFROM:-0600
TZOFFSETTO:-0500
TZNAME:America/Chicago CDT
END:DAYLIGHT
BEGIN:DAYLIGHT
DTSTART:20260308T030000
RDATE:20261101T010000
TZOFFSETFROM:-0600
TZOFFSETTO:-0500
TZNAME:America/Chicago CDT
END:DAYLIGHT
BEGIN:DAYLIGHT
DTSTART:20270314T030000
RDATE:20271107T010000
TZOFFSETFROM:-0600
TZOFFSETTO:-0500
TZNAME:America/Chicago CDT
END:DAYLIGHT
BEGIN:DAYLIGHT
DTSTART:20280312T030000
RDATE:20281105T010000
TZOFFSETFROM:-0600
TZOFFSETTO:-0500
TZNAME:America/Chicago CDT
END:DAYLIGHT
END:VTIMEZONE
BEGIN:VEVENT
UID:4b5d7f8e41ddb2cb29f3fbe3d5d39cef
CATEGORIES:5K
CREATED:20251204T133643
SUMMARY:Girls on the Run
GEO:-93.28383636;37.20121384
LOCATION:Betty &amp; Bobby Allison South Stadium - 830 E Bear Blvd (Monroe St)\, Spr
 ingfield\, MO\, \, 
URL;VALUE=URI:https://beta.actnowracing.com/events/1202/girls-on-the-run-geo-93-28383636-
 37-20121384?tmpl=component
DESCRIPTION:<p>Each season comes to an end with a celebratory 5K. This closing event gi
 ves program participants of all abilities a tangible sense of accomplishmen
 t. Crossing the finish line instills confidence through completion and is a
  joyful moment program participants always remember! Everyone in our progra
 m receives a commemorative medal to celebrate this incredible achievement.<
 /p><h4 style="text-align: center;"><a href="https://www.gotrswmo.org/5k" ta
 rget="_blank" rel="noopener"><strong>FOR MORE INFORMATION CLICK HERE</stron
 g></a></h4> <a href="https://beta.actnowracing.com/events/1202/girls-on-the
 -run-geo-93-28383636-37-20121384?tmpl=component">This event was imported fr
 om: https://beta.actnowracing.com/events/1202/girls-on-the-run-geo-93-28383
 636-37-20121384?tmpl=component</a>DTSTAMP:20260423T204451
DTSTART;TZID=America/Chicago:20260502T090000
DTEND;TZID=America/Chicago:20260502T110000
SEQUENCE:0
TRANSP:OPAQUE
END:VEVENT
END:VCALENDAR