BEGIN:VCALENDAR
VERSION:2.0
PRODID:-//jEvents 2.0 for Joomla//EN
CALSCALE:GREGORIAN
METHOD:PUBLISH
BEGIN:VTIMEZONE
TZID:America/Chicago
BEGIN:STANDARD
DTSTART:20251102T010000
RDATE:20260308T030000
TZOFFSETFROM:-0500
TZOFFSETTO:-0600
TZNAME:America/Chicago CST
END:STANDARD
BEGIN:STANDARD
DTSTART:20261101T010000
RDATE:20270314T030000
TZOFFSETFROM:-0500
TZOFFSETTO:-0600
TZNAME:America/Chicago CST
END:STANDARD
BEGIN:STANDARD
DTSTART:20271107T010000
RDATE:20280312T030000
TZOFFSETFROM:-0500
TZOFFSETTO:-0600
TZNAME:America/Chicago CST
END:STANDARD
BEGIN:STANDARD
DTSTART:20281105T010000
RDATE:20290311T030000
TZOFFSETFROM:-0500
TZOFFSETTO:-0600
TZNAME:America/Chicago CST
END:STANDARD
BEGIN:DAYLIGHT
DTSTART:20250520T183000
RDATE:20251102T010000
TZOFFSETFROM:-0600
TZOFFSETTO:-0500
TZNAME:America/Chicago CDT
END:DAYLIGHT
BEGIN:DAYLIGHT
DTSTART:20260308T030000
RDATE:20261101T010000
TZOFFSETFROM:-0600
TZOFFSETTO:-0500
TZNAME:America/Chicago CDT
END:DAYLIGHT
BEGIN:DAYLIGHT
DTSTART:20270314T030000
RDATE:20271107T010000
TZOFFSETFROM:-0600
TZOFFSETTO:-0500
TZNAME:America/Chicago CDT
END:DAYLIGHT
BEGIN:DAYLIGHT
DTSTART:20280312T030000
RDATE:20281105T010000
TZOFFSETFROM:-0600
TZOFFSETTO:-0500
TZNAME:America/Chicago CDT
END:DAYLIGHT
END:VTIMEZONE
BEGIN:VEVENT
UID:9a83099b2299468bb23e8ce10b992d10
CATEGORIES:5K, 1 Mile
CREATED:20260108T120030
SUMMARY:Run & Remember 5K
GEO:-93.28443146;37.2105484
LOCATION:Jordan Valley Park - 635 E. Traffic Way\, Springfield\, MO\, \, 
URL;VALUE=URI:https://beta.actnowracing.com/events/1204/run-remember-5k-geo-93-28443146-3
 7-2105484?tmpl=component
DESCRIPTION:<p>Each year Lost &amp; Found hosts a memorial event and 5K to bring our co
 mmunity together to honor the memory of loved ones who have died. Our Run &
 amp; Remember event is more than a 5K. This is an opportunity for you to in
 vite people to remember your loved one with you alongside other people in t
 he community who have experienced a loss.</p><p style="text-align: center;"
 ><strong><a href="https://runsignup.com/Race/MO/Springfield/RunandRemember5
 k" target="_blank" rel="noopener">CLICK HERE TO GET REGISTERED</a></strong>
 </p> <a href="https://beta.actnowracing.com/events/1204/run-remember-5k-geo
 -93-28443146-37-2105484?tmpl=component">This event was imported from: https
 ://beta.actnowracing.com/events/1204/run-remember-5k-geo-93-28443146-37-210
 5484?tmpl=component</a>DTSTAMP:20260423T000614
DTSTART;TZID=America/Chicago:20260521T183000
DTEND;TZID=America/Chicago:20260521T203000
SEQUENCE:0
TRANSP:OPAQUE
END:VEVENT
END:VCALENDAR