BEGIN:VCALENDAR
VERSION:2.0
PRODID:-//jEvents 2.0 for Joomla//EN
CALSCALE:GREGORIAN
METHOD:PUBLISH
BEGIN:VTIMEZONE
TZID:America/Chicago
BEGIN:STANDARD
DTSTART:20251102T010000
RDATE:20260308T030000
TZOFFSETFROM:-0500
TZOFFSETTO:-0600
TZNAME:America/Chicago CST
END:STANDARD
BEGIN:STANDARD
DTSTART:20261101T010000
RDATE:20270314T030000
TZOFFSETFROM:-0500
TZOFFSETTO:-0600
TZNAME:America/Chicago CST
END:STANDARD
BEGIN:STANDARD
DTSTART:20271107T010000
RDATE:20280312T030000
TZOFFSETFROM:-0500
TZOFFSETTO:-0600
TZNAME:America/Chicago CST
END:STANDARD
BEGIN:STANDARD
DTSTART:20281105T010000
RDATE:20290311T030000
TZOFFSETFROM:-0500
TZOFFSETTO:-0600
TZNAME:America/Chicago CST
END:STANDARD
BEGIN:DAYLIGHT
DTSTART:20251009T073000
RDATE:20251102T010000
TZOFFSETFROM:-0600
TZOFFSETTO:-0500
TZNAME:America/Chicago CDT
END:DAYLIGHT
BEGIN:DAYLIGHT
DTSTART:20260308T030000
RDATE:20261101T010000
TZOFFSETFROM:-0600
TZOFFSETTO:-0500
TZNAME:America/Chicago CDT
END:DAYLIGHT
BEGIN:DAYLIGHT
DTSTART:20270314T030000
RDATE:20271107T010000
TZOFFSETFROM:-0600
TZOFFSETTO:-0500
TZNAME:America/Chicago CDT
END:DAYLIGHT
BEGIN:DAYLIGHT
DTSTART:20280312T030000
RDATE:20281105T010000
TZOFFSETFROM:-0600
TZOFFSETTO:-0500
TZNAME:America/Chicago CDT
END:DAYLIGHT
END:VTIMEZONE
BEGIN:VEVENT
UID:ef7524c770b248ac6f729f3db7c4e875
CATEGORIES:5K, 10K, 1 Mile, New Event Layout
CREATED:20260331T045145
SUMMARY:OneSole Purpose 5K/10K & 1 Mile Fun Walk
GEO:-93.21517181;37.17518997
LOCATION:Glendale Christian Church - 2110 S. Blackman Road\, Springfield\, MO\, \, 
URL;VALUE=URI:https://beta.actnowracing.com/events/1318/onesole-purpose-5k-10k-1-mile-fun
 -walk-geo-93-21517181-37-17518997?tmpl=component
DESCRIPTION:<p style="text-align: center;"><strong>Celebrating 16 Years of Running</str
 ong></p><p style="text-align: left;">Join us for the 16th annual OneSolePur
 pose 5K/10K Run and 1-Mile Fun Walk. Since 2010 OneSolePurpose has given aw
 ay a whole lotta shoes. Approximately 37,500 pairs of new shoes to be a lit
 tle more exact. Last year we provided approximately 1,000 new pairs of shoe
 s to kids in 8 SPS Title I Elementary Schools. Thank you for the many years
  of support. You are making a difference in the lives of many kids and thei
 r families.</p><p style="text-align: center;"><a href="https://highstreet.r
 edpodium.com/2026-onesolepurpose-5k10k-and-1-mile-fun-walk" target="_blank"
  rel="noopener"><strong>CLICK HERE TO GET REGISTERED</strong></a></p> <a hr
 ef="https://beta.actnowracing.com/events/1318/onesole-purpose-5k-10k-1-mile
 -fun-walk-geo-93-21517181-37-17518997?tmpl=component">This event was import
 ed from: https://beta.actnowracing.com/events/1318/onesole-purpose-5k-10k-1
 -mile-fun-walk-geo-93-21517181-37-17518997?tmpl=component</a>DTSTAMP:20260422T235725
DTSTART;TZID=America/Chicago:20261010T073000
DTEND;TZID=America/Chicago:20261010T100000
SEQUENCE:0
TRANSP:OPAQUE
END:VEVENT
END:VCALENDAR