BEGIN:VCALENDAR
VERSION:2.0
PRODID:-//jEvents 2.0 for Joomla//EN
CALSCALE:GREGORIAN
METHOD:PUBLISH
BEGIN:VTIMEZONE
TZID:America/Chicago
BEGIN:STANDARD
DTSTART:20251102T010000
RDATE:20260308T030000
TZOFFSETFROM:-0500
TZOFFSETTO:-0600
TZNAME:America/Chicago CST
END:STANDARD
BEGIN:STANDARD
DTSTART:20261101T010000
RDATE:20270314T030000
TZOFFSETFROM:-0500
TZOFFSETTO:-0600
TZNAME:America/Chicago CST
END:STANDARD
BEGIN:STANDARD
DTSTART:20271107T010000
RDATE:20280312T030000
TZOFFSETFROM:-0500
TZOFFSETTO:-0600
TZNAME:America/Chicago CST
END:STANDARD
BEGIN:STANDARD
DTSTART:20281105T010000
RDATE:20290311T030000
TZOFFSETFROM:-0500
TZOFFSETTO:-0600
TZNAME:America/Chicago CST
END:STANDARD
BEGIN:DAYLIGHT
DTSTART:20251030T090000
RDATE:20251102T010000
TZOFFSETFROM:-0600
TZOFFSETTO:-0500
TZNAME:America/Chicago CDT
END:DAYLIGHT
BEGIN:DAYLIGHT
DTSTART:20260308T030000
RDATE:20261101T010000
TZOFFSETFROM:-0600
TZOFFSETTO:-0500
TZNAME:America/Chicago CDT
END:DAYLIGHT
BEGIN:DAYLIGHT
DTSTART:20270314T030000
RDATE:20271107T010000
TZOFFSETFROM:-0600
TZOFFSETTO:-0500
TZNAME:America/Chicago CDT
END:DAYLIGHT
BEGIN:DAYLIGHT
DTSTART:20280312T030000
RDATE:20281105T010000
TZOFFSETFROM:-0600
TZOFFSETTO:-0500
TZNAME:America/Chicago CDT
END:DAYLIGHT
END:VTIMEZONE
BEGIN:VEVENT
UID:d1bf2ceca109e8d9d84835daddcee2df
CATEGORIES:5K, 10K, 1 Mile
CREATED:20260422T140000
SUMMARY:Halloween Hustle
GEO:-93.29061127;37.21806335
LOCATION:City Utilities - 301 E. Central\, Springfield\, MO\, \, 
URL;VALUE=URI:https://beta.actnowracing.com/events/1319/halloween-hustle-geo-93-29061127-
 37-21806335?tmpl=component
DESCRIPTION:Grab your gang, hop in the Mystery Machine, and get ready to run like there
 ’s a monster on your tail—the Halloween Hustle is back, and this year we’ve
  got a groovy twist straight out of a haunted mystery!\nWhether you’re a me
 ddling kid, a snack-loving sidekick, or the brains of the operation, this 5
 /10K and candy dash is your chance to solve the case of the missing fun (sp
 oiler: it’s right here).\nCostumes Encouraged!\nJinkies! Don’t forget your 
 disguise! Whether you show up as a classic monster or your favorite cartoon
  sleuth, we want to see your best look. Bonus points if it would fool even 
 the sharpest detective!\nRun for a Reason\nAll proceeds from the Halloween 
 Hustle benefit Harmony House, Springfield’s only domestic violence shelter.
  Every dollar raised helps provide shelter, safety, and support to survivor
 s of domestic abuse and their children. When you participate in the Hallowe
 en Hustle, you're not just running a race, you’re helping someone find a wa
 y out and a way forward.\nMake a Difference\nYour donation stays local and 
 helps fund life-saving services like court advocacy, clothing, meals, life 
 skills classes, and a safe, warm place to heal. Join us and help bring hope
  to our community, one step at a time.\n This event was imported from: http
 s://beta.actnowracing.com/events/1319/halloween-hustle-geo-93-29061127-37-2
 1806335?tmpl=component
X-ALT-DESC;FMTTYPE=text/html:<p>Grab your gang, hop in the Mystery Machine, and get ready to run like th
 ere’s a monster on your tail—the Halloween Hustle is back, and this year we
 ’ve got a groovy twist straight out of a haunted mystery!</p><p>Whether you
 ’re a meddling kid, a snack-loving sidekick, or the brains of the operation
 , this 5/10K and candy dash is your chance to solve the case of the missing
  fun (spoiler: it’s right here).</p><p><strong>Costumes Encouraged!</strong
 ><br>Jinkies! Don’t forget your disguise! Whether you show up as a classic 
 monster or your favorite cartoon sleuth, we want to see your best look. Bon
 us points if it would fool even the sharpest detective!</p><p><strong>Run f
 or a Reason</strong><br>All proceeds from the Halloween Hustle benefit Harm
 ony House, Springfield’s only domestic violence shelter. Every dollar raise
 d helps provide shelter, safety, and support to survivors of domestic abuse
  and their children. When you participate in the Halloween Hustle, you're n
 ot just running a race, you’re helping someone find a way out and a way for
 ward.</p><p><strong>Make a Difference</strong><br>Your donation stays local
  and helps fund life-saving services like court advocacy, clothing, meals, 
 life skills classes, and a safe, warm place to heal. Join us and help bring
  hope to our community, one step at a time.</p> <a href="https://beta.actno
 wracing.com/events/1319/halloween-hustle-geo-93-29061127-37-21806335?tmpl=c
 omponent">This event was imported from: https://beta.actnowracing.com/event
 s/1319/halloween-hustle-geo-93-29061127-37-21806335?tmpl=component</a>DTSTAMP:20260423T001835
DTSTART;TZID=America/Chicago:20261031T090000
DTEND;TZID=America/Chicago:20261031T120000
SEQUENCE:0
TRANSP:OPAQUE
END:VEVENT
END:VCALENDAR