BEGIN:VCALENDAR
VERSION:2.0
PRODID:-//jEvents 2.0 for Joomla//EN
CALSCALE:GREGORIAN
METHOD:PUBLISH
BEGIN:VTIMEZONE
TZID:America/Chicago
BEGIN:STANDARD
DTSTART:20141125T080000
RDATE:20150308T030000
TZOFFSETFROM:-0500
TZOFFSETTO:-0600
TZNAME:America/Chicago CST
END:STANDARD
BEGIN:STANDARD
DTSTART:20151101T010000
RDATE:20160313T030000
TZOFFSETFROM:-0500
TZOFFSETTO:-0600
TZNAME:America/Chicago CST
END:STANDARD
BEGIN:STANDARD
DTSTART:20161106T010000
RDATE:20170312T030000
TZOFFSETFROM:-0500
TZOFFSETTO:-0600
TZNAME:America/Chicago CST
END:STANDARD
BEGIN:STANDARD
DTSTART:20171105T010000
RDATE:20180311T030000
TZOFFSETFROM:-0500
TZOFFSETTO:-0600
TZNAME:America/Chicago CST
END:STANDARD
BEGIN:STANDARD
DTSTART:20181104T010000
RDATE:20190310T030000
TZOFFSETFROM:-0500
TZOFFSETTO:-0600
TZNAME:America/Chicago CST
END:STANDARD
BEGIN:STANDARD
DTSTART:20191103T010000
RDATE:20200308T030000
TZOFFSETFROM:-0500
TZOFFSETTO:-0600
TZNAME:America/Chicago CST
END:STANDARD
BEGIN:STANDARD
DTSTART:20201101T010000
RDATE:20210314T030000
TZOFFSETFROM:-0500
TZOFFSETTO:-0600
TZNAME:America/Chicago CST
END:STANDARD
BEGIN:STANDARD
DTSTART:20211107T010000
RDATE:20220313T030000
TZOFFSETFROM:-0500
TZOFFSETTO:-0600
TZNAME:America/Chicago CST
END:STANDARD
BEGIN:STANDARD
DTSTART:20221106T010000
RDATE:20230312T030000
TZOFFSETFROM:-0500
TZOFFSETTO:-0600
TZNAME:America/Chicago CST
END:STANDARD
BEGIN:STANDARD
DTSTART:20231105T010000
RDATE:20240310T030000
TZOFFSETFROM:-0500
TZOFFSETTO:-0600
TZNAME:America/Chicago CST
END:STANDARD
BEGIN:STANDARD
DTSTART:20241103T010000
RDATE:20250309T030000
TZOFFSETFROM:-0500
TZOFFSETTO:-0600
TZNAME:America/Chicago CST
END:STANDARD
BEGIN:STANDARD
DTSTART:20251102T010000
RDATE:20260308T030000
TZOFFSETFROM:-0500
TZOFFSETTO:-0600
TZNAME:America/Chicago CST
END:STANDARD
BEGIN:STANDARD
DTSTART:20261101T010000
RDATE:20270314T030000
TZOFFSETFROM:-0500
TZOFFSETTO:-0600
TZNAME:America/Chicago CST
END:STANDARD
BEGIN:STANDARD
DTSTART:20271107T010000
RDATE:20280312T030000
TZOFFSETFROM:-0500
TZOFFSETTO:-0600
TZNAME:America/Chicago CST
END:STANDARD
BEGIN:STANDARD
DTSTART:20281105T010000
RDATE:20290311T030000
TZOFFSETFROM:-0500
TZOFFSETTO:-0600
TZNAME:America/Chicago CST
END:STANDARD
BEGIN:DAYLIGHT
DTSTART:20150308T030000
RDATE:20151101T010000
TZOFFSETFROM:-0600
TZOFFSETTO:-0500
TZNAME:America/Chicago CDT
END:DAYLIGHT
BEGIN:DAYLIGHT
DTSTART:20160313T030000
RDATE:20161106T010000
TZOFFSETFROM:-0600
TZOFFSETTO:-0500
TZNAME:America/Chicago CDT
END:DAYLIGHT
BEGIN:DAYLIGHT
DTSTART:20170312T030000
RDATE:20171105T010000
TZOFFSETFROM:-0600
TZOFFSETTO:-0500
TZNAME:America/Chicago CDT
END:DAYLIGHT
BEGIN:DAYLIGHT
DTSTART:20180311T030000
RDATE:20181104T010000
TZOFFSETFROM:-0600
TZOFFSETTO:-0500
TZNAME:America/Chicago CDT
END:DAYLIGHT
BEGIN:DAYLIGHT
DTSTART:20190310T030000
RDATE:20191103T010000
TZOFFSETFROM:-0600
TZOFFSETTO:-0500
TZNAME:America/Chicago CDT
END:DAYLIGHT
BEGIN:DAYLIGHT
DTSTART:20200308T030000
RDATE:20201101T010000
TZOFFSETFROM:-0600
TZOFFSETTO:-0500
TZNAME:America/Chicago CDT
END:DAYLIGHT
BEGIN:DAYLIGHT
DTSTART:20210314T030000
RDATE:20211107T010000
TZOFFSETFROM:-0600
TZOFFSETTO:-0500
TZNAME:America/Chicago CDT
END:DAYLIGHT
BEGIN:DAYLIGHT
DTSTART:20220313T030000
RDATE:20221106T010000
TZOFFSETFROM:-0600
TZOFFSETTO:-0500
TZNAME:America/Chicago CDT
END:DAYLIGHT
BEGIN:DAYLIGHT
DTSTART:20230312T030000
RDATE:20231105T010000
TZOFFSETFROM:-0600
TZOFFSETTO:-0500
TZNAME:America/Chicago CDT
END:DAYLIGHT
BEGIN:DAYLIGHT
DTSTART:20240310T030000
RDATE:20241103T010000
TZOFFSETFROM:-0600
TZOFFSETTO:-0500
TZNAME:America/Chicago CDT
END:DAYLIGHT
BEGIN:DAYLIGHT
DTSTART:20250309T030000
RDATE:20251102T010000
TZOFFSETFROM:-0600
TZOFFSETTO:-0500
TZNAME:America/Chicago CDT
END:DAYLIGHT
BEGIN:DAYLIGHT
DTSTART:20260308T030000
RDATE:20261101T010000
TZOFFSETFROM:-0600
TZOFFSETTO:-0500
TZNAME:America/Chicago CDT
END:DAYLIGHT
BEGIN:DAYLIGHT
DTSTART:20270314T030000
RDATE:20271107T010000
TZOFFSETFROM:-0600
TZOFFSETTO:-0500
TZNAME:America/Chicago CDT
END:DAYLIGHT
BEGIN:DAYLIGHT
DTSTART:20280312T030000
RDATE:20281105T010000
TZOFFSETFROM:-0600
TZOFFSETTO:-0500
TZNAME:America/Chicago CDT
END:DAYLIGHT
END:VTIMEZONE
BEGIN:VEVENT
UID:756c350f362164dca4a772833472a4b6
CATEGORIES:5K
CREATED:20150417T211835
SUMMARY:4th Annual Branson Turkey Trot
GEO:-93.21303558;36.64141846
LOCATION:Branson Landing - 100 Branson Landing\, Branson\, MO\, \, 
URL;VALUE=URI:https://beta.actnowracing.com/events/138/4th-annual-branson-turkey-trot-geo
 -93-21303558-36-64141846?tmpl=component
DESCRIPTION:Join us for the 4th Annual Branson Turkey Trot 5K Walk and Run to kick off 
 your Thanksgiving holiday!The course will again be at the scenic (and FLAT)
  Branson Landing.\nFamily Rates: Mom, Dad and any kids living at home for o
 ne flat price!\nBranson Gobbler Cup Team Challenge: Get a team of 5 or more
  and compete to see who will take home the Branson Cobbler Cup.  Teams comp
 eting in the Gobbler Cup average their time to get the team time! For every
  5 team members you have you get to deduct 1 minute from your average time 
 AND the winner of the Branson Gobbler Cup gets to decide what local charity
  benefits from the 2016 Branson Turkey Trot.\nRegistration Fees:\nEarly Bir
 d Registration (through November 15th) -\nAdults $20     Children (12 &amp;
  Under) $10     Family Rate $50\nRegular Registration - November 16th - Nov
 ember 26th\nAdults $25     Children (12 &amp; Under) $15     Family Rate $6
 0\nREGISTER BY NOVEMBER 15TH TO BE GUARANTEED A SHIRT IN THE SIZE YOU WANT!
 \nWe are very excited that this years charity organization to receive the p
 roceeds from the Branson Turkey Trot is Taellors House with Project Hope - 
 http://www.pjhope.org/taellorshouse. Please take a few minutes to read on t
 heir great works in the community.\nPacket Pick up will be held at MC Sport
 s in Branson on Wednesday from 10am-6pm. They are located at 1017 Branson H
 ills Parkway, Branson MO, 65616\nDay of registration and packet pick up wil
 l begin at 6:30am at Branson Landing in front of the fountains. However ple
 ase be aware that the morning of the Branson Turkey Trot is very hectic so 
 if you plan on waiting until that morning to register or to pick up your pa
 cket – please show up early so you do not miss the start of the run.\nParki
 ng for the event will be offered at either end of Branson Landing as well a
 s in the parking garage(this is a paid parking lot however).\nChristian Act
 ion Ministries will be at the start line of the race collecting canned and 
 non-perishable food donations to support local families in need this Thanks
 giving. Please plan on bringing two canned food items to help support their
  great work!!\nRace time is set for 8am Thursday morning and we will begin 
 lining up approximately 15 minutes prior to that.\nThe race route is the sa
 me as last year but anyone wanting to see the route or print a copy – it ca
 n be viewed here - Course Map (https://www.facebook.com/BransonTurkeyTrot/p
 hotos/a.210946842416874.1073741826.149129801931912/512405668937655/?type=3&
 amp;theater)\nWe look forward to seeing you Thanksgiving morning and THANK 
 YOU SO MUCH for supporting the 4th Annual Branson Turkey Trot and Project H
 ope!\n This event was imported from: https://beta.actnowracing.com/events/1
 38/4th-annual-branson-turkey-trot-geo-93-21303558-36-64141846?tmpl=componen
 t
X-ALT-DESC;FMTTYPE=text/html:<h2 style="text-align: center;"><strong>Join us for the 4th Annual Branson 
 Turkey Trot 5K Walk and Run to kick off your Thanksgiving holiday!</strong>
 </h2><p>The course will again be at the scenic (and FLAT) Branson Landing.<
 /p><p><strong>Family Rates</strong>: Mom, Dad and any kids living at home f
 or one flat price!</p><p><strong>Branson Gobbler Cup Team Challenge:</stron
 g>&nbsp;Get a team of 5 or more and compete to see who will take home the B
 ranson Cobbler Cup. &nbsp;Teams competing in the Gobbler Cup average their 
 time to get the team time! For every 5 team members you have you get to ded
 uct 1 minute from your average time AND the winner of the Branson Gobbler C
 up gets to decide what local charity benefits from the 2016 Branson Turkey 
 Trot.</p><p><strong>Registration Fees:</strong></p><p><strong>Early Bird Re
 gistration (through November 15th) -</strong></p><p>Adults $20 &nbsp; &nbsp
 ; Children (12 &amp; Under) $10 &nbsp; &nbsp; Family Rate $50</p><p><strong
 >Regular Registration - November 16th - November 26th</strong></p><p><span 
 style="line-height: 15.6000003814697px;">Adults $25 &nbsp; &nbsp; Children 
 (12 &amp; Under) $15 &nbsp; &nbsp; Family Rate $60</span></p><p><em>REGISTE
 R BY NOVEMBER 15TH TO BE GUARANTEED A SHIRT IN THE SIZE YOU WANT!</em></p><
 p>We are very excited that this years charity organization to receive the p
 roceeds from the Branson Turkey Trot is Taellors House with Project Hope - 
 http://www.pjhope.org/taellorshouse. Please take a few minutes to read on t
 heir great works in the community.</p><p><strong>Packet Pick up will be hel
 d at MC Sports in Branson on Wednesday from 10am-6pm.&nbsp;</strong><strong
 >They are located at 1017 Branson Hills Parkway,&nbsp;</strong><strong>Bran
 son MO, 65616</strong></p><p>Day of registration and packet pick up will be
 gin at 6:30am at Branson Landing in front of the fountains. However please 
 be aware that the morning of the Branson Turkey Trot is very hectic so if y
 ou plan on waiting until that morning to register or to pick up your packet
  – please show up early so you do not miss the start of the run.</p><p>Park
 ing for the event will be offered at either end of Branson Landing as well 
 as in the parking garage(this is a paid parking lot however).</p><p>Christi
 an Action Ministries will be at the start line of the race collecting canne
 d and non-perishable food donations to support local families in need this 
 Thanksgiving. Please plan on bringing two canned food items to help support
  their great work!!</p><p>Race time is set for 8am Thursday morning and we 
 will begin lining up approximately 15 minutes prior to that.</p><p>The race
  route is the same as last year but anyone wanting to see the route or prin
 t a copy – it can be viewed here -&nbsp;<a href="https://www.facebook.com/B
 ransonTurkeyTrot/photos/a.210946842416874.1073741826.149129801931912/512405
 668937655/?type=3&amp;theater" target="_blank" data-rokbox="1">Course Map</
 a></p><p>We look forward to seeing you Thanksgiving morning and THANK YOU S
 O MUCH for supporting the 4th Annual Branson Turkey Trot and Project Hope!<
 /p> <a href="https://beta.actnowracing.com/events/138/4th-annual-branson-tu
 rkey-trot-geo-93-21303558-36-64141846?tmpl=component">This event was import
 ed from: https://beta.actnowracing.com/events/138/4th-annual-branson-turkey
 -trot-geo-93-21303558-36-64141846?tmpl=component</a>CONTACT:Race Director Shane Naugher at RegularLabs.EmailProtector.unCloak("ep_e1bc34a4"); 
DTSTAMP:20260423T172421
DTSTART;TZID=America/Chicago:20151126T080000
SEQUENCE:0
TRANSP:OPAQUE
END:VEVENT
END:VCALENDAR