BEGIN:VCALENDAR
VERSION:2.0
PRODID:-//jEvents 2.0 for Joomla//EN
CALSCALE:GREGORIAN
METHOD:PUBLISH
BEGIN:VTIMEZONE
TZID:America/Chicago
BEGIN:STANDARD
DTSTART:20141102T010000
RDATE:20150308T030000
TZOFFSETFROM:-0500
TZOFFSETTO:-0600
TZNAME:America/Chicago CST
END:STANDARD
BEGIN:STANDARD
DTSTART:20151101T010000
RDATE:20160313T030000
TZOFFSETFROM:-0500
TZOFFSETTO:-0600
TZNAME:America/Chicago CST
END:STANDARD
BEGIN:STANDARD
DTSTART:20161106T010000
RDATE:20170312T030000
TZOFFSETFROM:-0500
TZOFFSETTO:-0600
TZNAME:America/Chicago CST
END:STANDARD
BEGIN:STANDARD
DTSTART:20171105T010000
RDATE:20180311T030000
TZOFFSETFROM:-0500
TZOFFSETTO:-0600
TZNAME:America/Chicago CST
END:STANDARD
BEGIN:STANDARD
DTSTART:20181104T010000
RDATE:20190310T030000
TZOFFSETFROM:-0500
TZOFFSETTO:-0600
TZNAME:America/Chicago CST
END:STANDARD
BEGIN:STANDARD
DTSTART:20191103T010000
RDATE:20200308T030000
TZOFFSETFROM:-0500
TZOFFSETTO:-0600
TZNAME:America/Chicago CST
END:STANDARD
BEGIN:STANDARD
DTSTART:20201101T010000
RDATE:20210314T030000
TZOFFSETFROM:-0500
TZOFFSETTO:-0600
TZNAME:America/Chicago CST
END:STANDARD
BEGIN:STANDARD
DTSTART:20211107T010000
RDATE:20220313T030000
TZOFFSETFROM:-0500
TZOFFSETTO:-0600
TZNAME:America/Chicago CST
END:STANDARD
BEGIN:STANDARD
DTSTART:20221106T010000
RDATE:20230312T030000
TZOFFSETFROM:-0500
TZOFFSETTO:-0600
TZNAME:America/Chicago CST
END:STANDARD
BEGIN:STANDARD
DTSTART:20231105T010000
RDATE:20240310T030000
TZOFFSETFROM:-0500
TZOFFSETTO:-0600
TZNAME:America/Chicago CST
END:STANDARD
BEGIN:STANDARD
DTSTART:20241103T010000
RDATE:20250309T030000
TZOFFSETFROM:-0500
TZOFFSETTO:-0600
TZNAME:America/Chicago CST
END:STANDARD
BEGIN:STANDARD
DTSTART:20251102T010000
RDATE:20260308T030000
TZOFFSETFROM:-0500
TZOFFSETTO:-0600
TZNAME:America/Chicago CST
END:STANDARD
BEGIN:STANDARD
DTSTART:20261101T010000
RDATE:20270314T030000
TZOFFSETFROM:-0500
TZOFFSETTO:-0600
TZNAME:America/Chicago CST
END:STANDARD
BEGIN:STANDARD
DTSTART:20271107T010000
RDATE:20280312T030000
TZOFFSETFROM:-0500
TZOFFSETTO:-0600
TZNAME:America/Chicago CST
END:STANDARD
BEGIN:STANDARD
DTSTART:20281105T010000
RDATE:20290311T030000
TZOFFSETFROM:-0500
TZOFFSETTO:-0600
TZNAME:America/Chicago CST
END:STANDARD
BEGIN:DAYLIGHT
DTSTART:20140821T080000
RDATE:20141102T010000
TZOFFSETFROM:-0600
TZOFFSETTO:-0500
TZNAME:America/Chicago CDT
END:DAYLIGHT
BEGIN:DAYLIGHT
DTSTART:20150308T030000
RDATE:20151101T010000
TZOFFSETFROM:-0600
TZOFFSETTO:-0500
TZNAME:America/Chicago CDT
END:DAYLIGHT
BEGIN:DAYLIGHT
DTSTART:20160313T030000
RDATE:20161106T010000
TZOFFSETFROM:-0600
TZOFFSETTO:-0500
TZNAME:America/Chicago CDT
END:DAYLIGHT
BEGIN:DAYLIGHT
DTSTART:20170312T030000
RDATE:20171105T010000
TZOFFSETFROM:-0600
TZOFFSETTO:-0500
TZNAME:America/Chicago CDT
END:DAYLIGHT
BEGIN:DAYLIGHT
DTSTART:20180311T030000
RDATE:20181104T010000
TZOFFSETFROM:-0600
TZOFFSETTO:-0500
TZNAME:America/Chicago CDT
END:DAYLIGHT
BEGIN:DAYLIGHT
DTSTART:20190310T030000
RDATE:20191103T010000
TZOFFSETFROM:-0600
TZOFFSETTO:-0500
TZNAME:America/Chicago CDT
END:DAYLIGHT
BEGIN:DAYLIGHT
DTSTART:20200308T030000
RDATE:20201101T010000
TZOFFSETFROM:-0600
TZOFFSETTO:-0500
TZNAME:America/Chicago CDT
END:DAYLIGHT
BEGIN:DAYLIGHT
DTSTART:20210314T030000
RDATE:20211107T010000
TZOFFSETFROM:-0600
TZOFFSETTO:-0500
TZNAME:America/Chicago CDT
END:DAYLIGHT
BEGIN:DAYLIGHT
DTSTART:20220313T030000
RDATE:20221106T010000
TZOFFSETFROM:-0600
TZOFFSETTO:-0500
TZNAME:America/Chicago CDT
END:DAYLIGHT
BEGIN:DAYLIGHT
DTSTART:20230312T030000
RDATE:20231105T010000
TZOFFSETFROM:-0600
TZOFFSETTO:-0500
TZNAME:America/Chicago CDT
END:DAYLIGHT
BEGIN:DAYLIGHT
DTSTART:20240310T030000
RDATE:20241103T010000
TZOFFSETFROM:-0600
TZOFFSETTO:-0500
TZNAME:America/Chicago CDT
END:DAYLIGHT
BEGIN:DAYLIGHT
DTSTART:20250309T030000
RDATE:20251102T010000
TZOFFSETFROM:-0600
TZOFFSETTO:-0500
TZNAME:America/Chicago CDT
END:DAYLIGHT
BEGIN:DAYLIGHT
DTSTART:20260308T030000
RDATE:20261101T010000
TZOFFSETFROM:-0600
TZOFFSETTO:-0500
TZNAME:America/Chicago CDT
END:DAYLIGHT
BEGIN:DAYLIGHT
DTSTART:20270314T030000
RDATE:20271107T010000
TZOFFSETFROM:-0600
TZOFFSETTO:-0500
TZNAME:America/Chicago CDT
END:DAYLIGHT
BEGIN:DAYLIGHT
DTSTART:20280312T030000
RDATE:20281105T010000
TZOFFSETFROM:-0600
TZOFFSETTO:-0500
TZNAME:America/Chicago CDT
END:DAYLIGHT
END:VTIMEZONE
BEGIN:VEVENT
UID:2a91dc7257bac0fe9f06221a177b476e
CATEGORIES:5K, 10K, 1 Mile, Fun Run/Walk
CREATED:20150702T193749
SUMMARY:Habitat Home Run 5K & 10K
GEO:93.29875183;37.04525375
LOCATION:Price Cutter - 2021 West Republic Road\, Springfield\, MO\, \, 
URL;VALUE=URI:https://beta.actnowracing.com/events/150/habitat-home-run-5k-10k-geo-93-298
 75183-37-04525375?tmpl=component
DESCRIPTION:<p><strong>CALLING ALL OF SPRINGFIELD!</strong> It’s time to beat the heat 
 this summer by participating in an EPIC water adventure! Join us for the Ha
 bitat Home Run and Springfield’s Largest Water Balloon Fight! The Habitat H
 ome Run will feature water zones along the race route where volunteers will
  help you cool down with water blasters, super soakers and other water toys
 ! When you finish the race, stick around for the after party and Springfiel
 d’s Largest Water Balloon Fight!</p><p>Habitat Home Run/walk Pricing (inclu
 des after party activities)</p><p>1 Mile- $15 pre-registration, $20 race da
 y</p><p>5K- $25 pre- registration, $30 race day</p><p>10K- $30 pre-registra
 tion, $35 race day</p><p>Kids 5 and under run free, donation appreciated</p
 ><p>About the run: This is a timed event. For runners who wish not to be do
 used by the water teams along the run, please ask for a special wristband. 
 The course will meander through neighborhoods.</p><p><strong>After Party &a
 mp; Springfield’s Largest Water Balloon Fight</strong></p><p>Pass: $10 pre-
 registration, or $15 the day of</p><p>Schedule of Events:</p><p><strong>Pac
 ket-Pickup:</strong> at Missouri Sports Hall of Fame, 3861 E. Stan Musial D
 r., Springfield, MO 65809</p><p>Thursday, August 20, 2015- 9 a.m.-6 p.m.<br
  />Friday, August 21, 2015 – 9 a.m.-6 p.m.<br />Race Day: Saturday, August 
 22, 2015</p><p>6 a.m.- Race-day registration and water balloon check-in beg
 ins<br />7 a.m.- Zumba Warm Up (optional)<br />8 a.m.-Race Begins (wave sta
 rts)</p><p>After Party festivities start immediately after the run conclude
 s<br />9:30 a.m. Springfield’s Largest Water Balloon Fight</p><p>All Habita
 t Home Run race registrations include an after party pass. Don’t want to ru
 n? Friends and family who want to get wet without having to sweat can purch
 ase a pass to the After Party &amp; Springfield’s Largest Water Balloon Fig
 ht which includes access to the after party festivities which includes live
  music, blasting fire hoses, face painting, dancing, water slides, cold ref
 reshments, an ice cream social station, inflatables, and of course, Springf
 ield’s Largest Water Balloon Fight! Register before August 1 to receive an 
 event tech t-shirt and sunglasses!</p><p>SPRINGFIELD’S LARGEST WATER BALLOO
 N FIGHT DETAILS:</p><p>The water balloon fight will be held in the Price Cu
 tter Parking Lot at Republic and Kansas Expressway.</p><p>All participants 
 are encouraged to bring water blasters, super soakers, and other water toys
 . **We ask that you please bring 25 pre-filled balloons to contribute to th
 e water balloon fight!</p><p>RULES &amp; INFORMATION:</p><p>WATCH THIS:</p>
 <p><iframe src="//www.youtube.com/embed/EPCxqSeXd7M?rel=0&amp;wmode=opaque"
  width="250" height="206" style="float: left; margin: 3px;" allowfullscreen
 ="allowfullscreen"></iframe></p><p>How do I get to participate?<br />– At p
 acket pick up you will get a wristband that designates you are a paid parti
 cipant and are eligible to participate in the post run festivities.<br />– 
 Everyone that wants to be a part of the water balloon fight should bring a 
 25+ water balloons in plastic bag (this will not be returned, trash bags wo
 rk great). **REMEMBER, the water balloon fight is a free-for-all, once it b
 egins the balloons are a community pool that everyone can use!</p><p>When y
 ou arrive on race day there will be a designated “Water balloon check in ar
 ea” where you will drop of your balloons.<br />9:30am – Springfield’s Large
 st Water Balloon Fight will begin. Announcements will be made for participa
 nts to get ready for the event to begin.<br />A whistle will signify the st
 art of the Springfield’s Largest Water Balloon Fight! Please do not start b
 efore the whistle blows.</p><p>THERE IS NO WHERE FOR YOU TO FILL UP WATER B
 ALLOONS ON LOCATION!!!! PLEASE BRING BALLOONS ALREADY FILLED WITH WATER!</p
 ><p>Rules and Regulations<br />No water balloons may be thrown at a partici
 pant’s head for safety reasons.<br />Water balloons must stay in the design
 ated area.<br />Have Fun!</p> <a href="https://beta.actnowracing.com/events
 /150/habitat-home-run-5k-10k-geo-93-29875183-37-04525375?tmpl=component">Th
 is event was imported from: https://beta.actnowracing.com/events/150/habita
 t-home-run-5k-10k-geo-93-29875183-37-04525375?tmpl=component</a>
X-ALT-DESC;FMTTYPE=text/html:<p><strong>CALLING ALL OF SPRINGFIELD!</strong> It’s time to beat the heat 
 this summer by participating in an EPIC water adventure! Join us for the Ha
 bitat Home Run and Springfield’s Largest Water Balloon Fight! The Habitat H
 ome Run will feature water zones along the race route where volunteers will
  help you cool down with water blasters, super soakers and other water toys
 ! When you finish the race, stick around for the after party and Springfiel
 d’s Largest Water Balloon Fight!</p><p>Habitat Home Run/walk Pricing (inclu
 des after party activities)</p><p>1 Mile- $15 pre-registration, $20 race da
 y</p><p>5K- $25 pre- registration, $30 race day</p><p>10K- $30 pre-registra
 tion, $35 race day</p><p>Kids 5 and under run free, donation appreciated</p
 ><p>About the run: This is a timed event. For runners who wish not to be do
 used by the water teams along the run, please ask for a special wristband. 
 The course will meander through neighborhoods.</p><p><strong>After Party &a
 mp; Springfield’s Largest Water Balloon Fight</strong></p><p>Pass: $10 pre-
 registration, or $15 the day of</p><p>Schedule of Events:</p><p><strong>Pac
 ket-Pickup:</strong> at Missouri Sports Hall of Fame, 3861 E. Stan Musial D
 r., Springfield, MO 65809</p><p>Thursday, August 20, 2015- 9 a.m.-6 p.m.<br
  />Friday, August 21, 2015 – 9 a.m.-6 p.m.<br />Race Day: Saturday, August 
 22, 2015</p><p>6 a.m.- Race-day registration and water balloon check-in beg
 ins<br />7 a.m.- Zumba Warm Up (optional)<br />8 a.m.-Race Begins (wave sta
 rts)</p><p>After Party festivities start immediately after the run conclude
 s<br />9:30 a.m. Springfield’s Largest Water Balloon Fight</p><p>All Habita
 t Home Run race registrations include an after party pass. Don’t want to ru
 n? Friends and family who want to get wet without having to sweat can purch
 ase a pass to the After Party &amp; Springfield’s Largest Water Balloon Fig
 ht which includes access to the after party festivities which includes live
  music, blasting fire hoses, face painting, dancing, water slides, cold ref
 reshments, an ice cream social station, inflatables, and of course, Springf
 ield’s Largest Water Balloon Fight! Register before August 1 to receive an 
 event tech t-shirt and sunglasses!</p><p>SPRINGFIELD’S LARGEST WATER BALLOO
 N FIGHT DETAILS:</p><p>The water balloon fight will be held in the Price Cu
 tter Parking Lot at Republic and Kansas Expressway.</p><p>All participants 
 are encouraged to bring water blasters, super soakers, and other water toys
 . **We ask that you please bring 25 pre-filled balloons to contribute to th
 e water balloon fight!</p><p>RULES &amp; INFORMATION:</p><p>WATCH THIS:</p>
 <p><iframe src="https://beta.actnowracing.com//www.youtube.com/embed/EPCxqS
 eXd7M?rel=0&amp;wmode=opaque" width="250" height="206" style="float: left; 
 margin: 3px;" allowfullscreen="allowfullscreen"></iframe></p><p>How do I ge
 t to participate?<br />– At packet pick up you will get a wristband that de
 signates you are a paid participant and are eligible to participate in the 
 post run festivities.<br />– Everyone that wants to be a part of the water 
 balloon fight should bring a 25+ water balloons in plastic bag (this will n
 ot be returned, trash bags work great). **REMEMBER, the water balloon fight
  is a free-for-all, once it begins the balloons are a community pool that e
 veryone can use!</p><p>When you arrive on race day there will be a designat
 ed “Water balloon check in area” where you will drop of your balloons.<br /
 >9:30am – Springfield’s Largest Water Balloon Fight will begin. Announcemen
 ts will be made for participants to get ready for the event to begin.<br />
 A whistle will signify the start of the Springfield’s Largest Water Balloon
  Fight! Please do not start before the whistle blows.</p><p>THERE IS NO WHE
 RE FOR YOU TO FILL UP WATER BALLOONS ON LOCATION!!!! PLEASE BRING BALLOONS 
 ALREADY FILLED WITH WATER!</p><p>Rules and Regulations<br />No water balloo
 ns may be thrown at a participant’s head for safety reasons.<br />Water bal
 loons must stay in the designated area.<br />Have Fun!</p> <a href="https:/
 /beta.actnowracing.com/events/150/habitat-home-run-5k-10k-geo-93-29875183-3
 7-04525375?tmpl=component">This event was imported from: https://beta.actno
 wracing.com/events/150/habitat-home-run-5k-10k-geo-93-29875183-37-04525375?
 tmpl=component</a>CONTACT:Race Director Kari Crawford, kari@mosportshalloffame, or 417-887-3400
DTSTAMP:20260424T200831
DTSTART;TZID=America/Chicago:20150822T080000
SEQUENCE:0
TRANSP:OPAQUE
END:VEVENT
END:VCALENDAR