BEGIN:VCALENDAR
VERSION:2.0
PRODID:-//jEvents 2.0 for Joomla//EN
CALSCALE:GREGORIAN
METHOD:PUBLISH
BEGIN:VTIMEZONE
TZID:America/Chicago
BEGIN:STANDARD
DTSTART:20141120T080000
RDATE:20150308T030000
TZOFFSETFROM:-0500
TZOFFSETTO:-0600
TZNAME:America/Chicago CST
END:STANDARD
BEGIN:STANDARD
DTSTART:20151101T010000
RDATE:20160313T030000
TZOFFSETFROM:-0500
TZOFFSETTO:-0600
TZNAME:America/Chicago CST
END:STANDARD
BEGIN:STANDARD
DTSTART:20161106T010000
RDATE:20170312T030000
TZOFFSETFROM:-0500
TZOFFSETTO:-0600
TZNAME:America/Chicago CST
END:STANDARD
BEGIN:STANDARD
DTSTART:20171105T010000
RDATE:20180311T030000
TZOFFSETFROM:-0500
TZOFFSETTO:-0600
TZNAME:America/Chicago CST
END:STANDARD
BEGIN:STANDARD
DTSTART:20181104T010000
RDATE:20190310T030000
TZOFFSETFROM:-0500
TZOFFSETTO:-0600
TZNAME:America/Chicago CST
END:STANDARD
BEGIN:STANDARD
DTSTART:20191103T010000
RDATE:20200308T030000
TZOFFSETFROM:-0500
TZOFFSETTO:-0600
TZNAME:America/Chicago CST
END:STANDARD
BEGIN:STANDARD
DTSTART:20201101T010000
RDATE:20210314T030000
TZOFFSETFROM:-0500
TZOFFSETTO:-0600
TZNAME:America/Chicago CST
END:STANDARD
BEGIN:STANDARD
DTSTART:20211107T010000
RDATE:20220313T030000
TZOFFSETFROM:-0500
TZOFFSETTO:-0600
TZNAME:America/Chicago CST
END:STANDARD
BEGIN:STANDARD
DTSTART:20221106T010000
RDATE:20230312T030000
TZOFFSETFROM:-0500
TZOFFSETTO:-0600
TZNAME:America/Chicago CST
END:STANDARD
BEGIN:STANDARD
DTSTART:20231105T010000
RDATE:20240310T030000
TZOFFSETFROM:-0500
TZOFFSETTO:-0600
TZNAME:America/Chicago CST
END:STANDARD
BEGIN:STANDARD
DTSTART:20241103T010000
RDATE:20250309T030000
TZOFFSETFROM:-0500
TZOFFSETTO:-0600
TZNAME:America/Chicago CST
END:STANDARD
BEGIN:STANDARD
DTSTART:20251102T010000
RDATE:20260308T030000
TZOFFSETFROM:-0500
TZOFFSETTO:-0600
TZNAME:America/Chicago CST
END:STANDARD
BEGIN:STANDARD
DTSTART:20261101T010000
RDATE:20270314T030000
TZOFFSETFROM:-0500
TZOFFSETTO:-0600
TZNAME:America/Chicago CST
END:STANDARD
BEGIN:STANDARD
DTSTART:20271107T010000
RDATE:20280312T030000
TZOFFSETFROM:-0500
TZOFFSETTO:-0600
TZNAME:America/Chicago CST
END:STANDARD
BEGIN:STANDARD
DTSTART:20281105T010000
RDATE:20290311T030000
TZOFFSETFROM:-0500
TZOFFSETTO:-0600
TZNAME:America/Chicago CST
END:STANDARD
BEGIN:DAYLIGHT
DTSTART:20150308T030000
RDATE:20151101T010000
TZOFFSETFROM:-0600
TZOFFSETTO:-0500
TZNAME:America/Chicago CDT
END:DAYLIGHT
BEGIN:DAYLIGHT
DTSTART:20160313T030000
RDATE:20161106T010000
TZOFFSETFROM:-0600
TZOFFSETTO:-0500
TZNAME:America/Chicago CDT
END:DAYLIGHT
BEGIN:DAYLIGHT
DTSTART:20170312T030000
RDATE:20171105T010000
TZOFFSETFROM:-0600
TZOFFSETTO:-0500
TZNAME:America/Chicago CDT
END:DAYLIGHT
BEGIN:DAYLIGHT
DTSTART:20180311T030000
RDATE:20181104T010000
TZOFFSETFROM:-0600
TZOFFSETTO:-0500
TZNAME:America/Chicago CDT
END:DAYLIGHT
BEGIN:DAYLIGHT
DTSTART:20190310T030000
RDATE:20191103T010000
TZOFFSETFROM:-0600
TZOFFSETTO:-0500
TZNAME:America/Chicago CDT
END:DAYLIGHT
BEGIN:DAYLIGHT
DTSTART:20200308T030000
RDATE:20201101T010000
TZOFFSETFROM:-0600
TZOFFSETTO:-0500
TZNAME:America/Chicago CDT
END:DAYLIGHT
BEGIN:DAYLIGHT
DTSTART:20210314T030000
RDATE:20211107T010000
TZOFFSETFROM:-0600
TZOFFSETTO:-0500
TZNAME:America/Chicago CDT
END:DAYLIGHT
BEGIN:DAYLIGHT
DTSTART:20220313T030000
RDATE:20221106T010000
TZOFFSETFROM:-0600
TZOFFSETTO:-0500
TZNAME:America/Chicago CDT
END:DAYLIGHT
BEGIN:DAYLIGHT
DTSTART:20230312T030000
RDATE:20231105T010000
TZOFFSETFROM:-0600
TZOFFSETTO:-0500
TZNAME:America/Chicago CDT
END:DAYLIGHT
BEGIN:DAYLIGHT
DTSTART:20240310T030000
RDATE:20241103T010000
TZOFFSETFROM:-0600
TZOFFSETTO:-0500
TZNAME:America/Chicago CDT
END:DAYLIGHT
BEGIN:DAYLIGHT
DTSTART:20250309T030000
RDATE:20251102T010000
TZOFFSETFROM:-0600
TZOFFSETTO:-0500
TZNAME:America/Chicago CDT
END:DAYLIGHT
BEGIN:DAYLIGHT
DTSTART:20260308T030000
RDATE:20261101T010000
TZOFFSETFROM:-0600
TZOFFSETTO:-0500
TZNAME:America/Chicago CDT
END:DAYLIGHT
BEGIN:DAYLIGHT
DTSTART:20270314T030000
RDATE:20271107T010000
TZOFFSETFROM:-0600
TZOFFSETTO:-0500
TZNAME:America/Chicago CDT
END:DAYLIGHT
BEGIN:DAYLIGHT
DTSTART:20280312T030000
RDATE:20281105T010000
TZOFFSETFROM:-0600
TZOFFSETTO:-0500
TZNAME:America/Chicago CDT
END:DAYLIGHT
END:VTIMEZONE
BEGIN:VEVENT
UID:87de602563fb6f01fdce70fb5fd3fd63
CATEGORIES:5K
CREATED:20150822T142139
SUMMARY:Willard Intermediate School 3rd Annual Christmas 5K Color Run
GEO:-93.43305969;37.30186081
LOCATION:Willard Intermediate School - 407 Farmer Road\, Willard\, MO\, 65781\, 
URL;VALUE=URI:https://beta.actnowracing.com/events/161/willard-intermediate-school-3rd-an
 nual-christmas-5k-color-run-geo-93-43305969-37-30186081?tmpl=component
DESCRIPTION:The 3rd Annual Christmas 5K Color Run is hosted by the Willard Intermediate
  Running Club.  Proceeds from this event benefit the Willard Children's Cha
 ritable Foundation and the Mercy Burn Unit (in honor of a former WIS studen
 t).\nThe race will begin and end at Jackson Street Park at 8AM.  It's an ou
 t and back course.  There's a slight downhill going out, making it a slight
  incline coming backing on the Frisco Highline Trail.\nEntry Fee: \nPre-Reg
 istered Adults (18 &amp; Over) $20 ~ Race Day Registration $25\nPre-Registe
 red Youth (17 &amp; Under) $15 ~ Race Day Registration $20\nPacket Pick Up 
 &amp; Race Day Registration:\nPacket pick up will be at the Community build
 ing at Jackson Park (start line of race) Friday, November 20th from 5PM to 
 8PM.\nRace Day Registration and Pack Pick Up will be from 7AM to 7:45AM.\nA
 wards:\nOverall Male &amp; Female.  Top 3 in Each Age Division: 9 &amp; Und
 er, 10-11, 12-14, 15-19, 20-29, 30-39, 40-49, 50-59, 60-69 and 70 &amp; Ove
 r.\nWe strongly recommend pre-registration by November 12th to be guarantee
 d a T-Shirt.\n This event was imported from: https://beta.actnowracing.com/
 events/161/willard-intermediate-school-3rd-annual-christmas-5k-color-run-ge
 o-93-43305969-37-30186081?tmpl=component
X-ALT-DESC;FMTTYPE=text/html:<p style="text-align: center;"><strong>The 3rd Annual Christmas 5K Color Ru
 n is hosted by the Willard Intermediate Running Club. &nbsp;Proceeds from t
 his event benefit the Willard Children's Charitable Foundation and&nbsp;the
  Mercy Burn Unit (in honor of a former WIS student).</strong></p><p>The rac
 e will begin and end at Jackson Street Park at 8AM. &nbsp;It's an out and b
 ack course. &nbsp;There's a slight downhill going out, making it a slight i
 ncline coming backing on the Frisco Highline Trail.</p><p><strong>Entry Fee
 : </strong></p><p>Pre-Registered Adults (18 &amp; Over) $20 ~ Race Day Regi
 stration $25</p><p>Pre-Registered Youth (17 &amp; Under) $15 ~ Race Day Reg
 istration $20</p><p><strong>Packet Pick Up &amp; Race Day Registration:</st
 rong></p><p>Packet pick up will be at the Community building at Jackson Par
 k (start line of race) Friday, November 20th from 5PM to 8PM.</p><p>Race Da
 y Registration and Pack Pick Up will be from 7AM to 7:45AM.</p><p><strong>A
 wards:</strong></p><p>Overall Male &amp; Female. &nbsp;Top 3 in Each Age Di
 vision: 9 &amp; Under, 10-11, 12-14, 15-19, 20-29, 30-39, 40-49, 50-59, 60-
 69 and 70 &amp; Over.</p><p style="text-align: center;"><span style="color:
  #000000;"><strong>We strongly recommend pre-registration by November 12th 
 to be guaranteed a T-Shirt.</strong></span></p> <a href="https://beta.actno
 wracing.com/events/161/willard-intermediate-school-3rd-annual-christmas-5k-
 color-run-geo-93-43305969-37-30186081?tmpl=component">This event was import
 ed from: https://beta.actnowracing.com/events/161/willard-intermediate-scho
 ol-3rd-annual-christmas-5k-color-run-geo-93-43305969-37-30186081?tmpl=compo
 nent</a>CONTACT:Brian Hayes - RegularLabs.EmailProtector.unCloak("ep_3466ce9b"); or Melissa Skaggs at RegularLabs.EmailProtector.unCloak("ep_3e32b5a1");
DTSTAMP:20260423T172423
DTSTART;TZID=America/Chicago:20151121T080000
SEQUENCE:0
TRANSP:OPAQUE
END:VEVENT
END:VCALENDAR