BEGIN:VCALENDAR
VERSION:2.0
PRODID:-//jEvents 2.0 for Joomla//EN
CALSCALE:GREGORIAN
METHOD:PUBLISH
BEGIN:VTIMEZONE
TZID:America/Chicago
BEGIN:STANDARD
DTSTART:20151101T010000
RDATE:20160313T030000
TZOFFSETFROM:-0500
TZOFFSETTO:-0600
TZNAME:America/Chicago CST
END:STANDARD
BEGIN:STANDARD
DTSTART:20161106T010000
RDATE:20170312T030000
TZOFFSETFROM:-0500
TZOFFSETTO:-0600
TZNAME:America/Chicago CST
END:STANDARD
BEGIN:STANDARD
DTSTART:20171105T010000
RDATE:20180311T030000
TZOFFSETFROM:-0500
TZOFFSETTO:-0600
TZNAME:America/Chicago CST
END:STANDARD
BEGIN:STANDARD
DTSTART:20181104T010000
RDATE:20190310T030000
TZOFFSETFROM:-0500
TZOFFSETTO:-0600
TZNAME:America/Chicago CST
END:STANDARD
BEGIN:STANDARD
DTSTART:20191103T010000
RDATE:20200308T030000
TZOFFSETFROM:-0500
TZOFFSETTO:-0600
TZNAME:America/Chicago CST
END:STANDARD
BEGIN:STANDARD
DTSTART:20201101T010000
RDATE:20210314T030000
TZOFFSETFROM:-0500
TZOFFSETTO:-0600
TZNAME:America/Chicago CST
END:STANDARD
BEGIN:STANDARD
DTSTART:20211107T010000
RDATE:20220313T030000
TZOFFSETFROM:-0500
TZOFFSETTO:-0600
TZNAME:America/Chicago CST
END:STANDARD
BEGIN:STANDARD
DTSTART:20221106T010000
RDATE:20230312T030000
TZOFFSETFROM:-0500
TZOFFSETTO:-0600
TZNAME:America/Chicago CST
END:STANDARD
BEGIN:STANDARD
DTSTART:20231105T010000
RDATE:20240310T030000
TZOFFSETFROM:-0500
TZOFFSETTO:-0600
TZNAME:America/Chicago CST
END:STANDARD
BEGIN:STANDARD
DTSTART:20241103T010000
RDATE:20250309T030000
TZOFFSETFROM:-0500
TZOFFSETTO:-0600
TZNAME:America/Chicago CST
END:STANDARD
BEGIN:STANDARD
DTSTART:20251102T010000
RDATE:20260308T030000
TZOFFSETFROM:-0500
TZOFFSETTO:-0600
TZNAME:America/Chicago CST
END:STANDARD
BEGIN:STANDARD
DTSTART:20261101T010000
RDATE:20270314T030000
TZOFFSETFROM:-0500
TZOFFSETTO:-0600
TZNAME:America/Chicago CST
END:STANDARD
BEGIN:STANDARD
DTSTART:20271107T010000
RDATE:20280312T030000
TZOFFSETFROM:-0500
TZOFFSETTO:-0600
TZNAME:America/Chicago CST
END:STANDARD
BEGIN:STANDARD
DTSTART:20281105T010000
RDATE:20290311T030000
TZOFFSETFROM:-0500
TZOFFSETTO:-0600
TZNAME:America/Chicago CST
END:STANDARD
BEGIN:DAYLIGHT
DTSTART:20150910T080000
RDATE:20151101T010000
TZOFFSETFROM:-0600
TZOFFSETTO:-0500
TZNAME:America/Chicago CDT
END:DAYLIGHT
BEGIN:DAYLIGHT
DTSTART:20160313T030000
RDATE:20161106T010000
TZOFFSETFROM:-0600
TZOFFSETTO:-0500
TZNAME:America/Chicago CDT
END:DAYLIGHT
BEGIN:DAYLIGHT
DTSTART:20170312T030000
RDATE:20171105T010000
TZOFFSETFROM:-0600
TZOFFSETTO:-0500
TZNAME:America/Chicago CDT
END:DAYLIGHT
BEGIN:DAYLIGHT
DTSTART:20180311T030000
RDATE:20181104T010000
TZOFFSETFROM:-0600
TZOFFSETTO:-0500
TZNAME:America/Chicago CDT
END:DAYLIGHT
BEGIN:DAYLIGHT
DTSTART:20190310T030000
RDATE:20191103T010000
TZOFFSETFROM:-0600
TZOFFSETTO:-0500
TZNAME:America/Chicago CDT
END:DAYLIGHT
BEGIN:DAYLIGHT
DTSTART:20200308T030000
RDATE:20201101T010000
TZOFFSETFROM:-0600
TZOFFSETTO:-0500
TZNAME:America/Chicago CDT
END:DAYLIGHT
BEGIN:DAYLIGHT
DTSTART:20210314T030000
RDATE:20211107T010000
TZOFFSETFROM:-0600
TZOFFSETTO:-0500
TZNAME:America/Chicago CDT
END:DAYLIGHT
BEGIN:DAYLIGHT
DTSTART:20220313T030000
RDATE:20221106T010000
TZOFFSETFROM:-0600
TZOFFSETTO:-0500
TZNAME:America/Chicago CDT
END:DAYLIGHT
BEGIN:DAYLIGHT
DTSTART:20230312T030000
RDATE:20231105T010000
TZOFFSETFROM:-0600
TZOFFSETTO:-0500
TZNAME:America/Chicago CDT
END:DAYLIGHT
BEGIN:DAYLIGHT
DTSTART:20240310T030000
RDATE:20241103T010000
TZOFFSETFROM:-0600
TZOFFSETTO:-0500
TZNAME:America/Chicago CDT
END:DAYLIGHT
BEGIN:DAYLIGHT
DTSTART:20250309T030000
RDATE:20251102T010000
TZOFFSETFROM:-0600
TZOFFSETTO:-0500
TZNAME:America/Chicago CDT
END:DAYLIGHT
BEGIN:DAYLIGHT
DTSTART:20260308T030000
RDATE:20261101T010000
TZOFFSETFROM:-0600
TZOFFSETTO:-0500
TZNAME:America/Chicago CDT
END:DAYLIGHT
BEGIN:DAYLIGHT
DTSTART:20270314T030000
RDATE:20271107T010000
TZOFFSETFROM:-0600
TZOFFSETTO:-0500
TZNAME:America/Chicago CDT
END:DAYLIGHT
BEGIN:DAYLIGHT
DTSTART:20280312T030000
RDATE:20281105T010000
TZOFFSETFROM:-0600
TZOFFSETTO:-0500
TZNAME:America/Chicago CDT
END:DAYLIGHT
END:VTIMEZONE
BEGIN:VEVENT
UID:9132ff44b21538f485ea9d6db01f9c9a
CATEGORIES:5K, 10K, Half Marathon
CREATED:20160104T201244
SUMMARY:4th Annual Azalea Half Marathon, 10K & 5K
GEO:-93.30915833;37.04677582
LOCATION:Gardens at Woodfield - 441 S. Truman Blvd\, Nixa\, MO\, 65714\, 
URL;VALUE=URI:https://beta.actnowracing.com/events/184/4th-annual-azalea-half-marathon-10
 k-5k-geo-93-30915833-37-04677582?tmpl=component
DESCRIPTION:REGISTRATION OPENS SUNDAY, FEBRUARY 14TH WITH THE SWEETHEART SPECIAL! HALF 
 MARATHON $40/10K $25/5K $20 &amp; NO CREDIT CARD PROCESSING FEES\nHALF MARA
 THON - Early Bird registration is $45.  July 1st price goes to $50. August 
 1st Price goes to $55.  August 29th Price goes to $60. Race Day Registratio
 n is $65\n                      10K-   Early Bird Registration is $25.  Aug
 ust 29th Price goes to $30.  Race Day Registration is $35 \n5K- Early Bird 
 Registration is $20.  August 29th Price goes to $25.  Race Day Registration
  is $30\nFamily 5K Rate is $65. September 1st goes to $75.  Race Day Regist
 ration is $85.\nSTART TIMES:  HALF MARATHON IS 8 AM - 10K IS 8:15 AM - 5K S
 TART TIME IS 8:30 AM\n \nFor details on the Azalea Run CLICK HERE (http://a
 ctnowracing.com/Azalea-Half-Marathon)\nAZALEA 5K AGE GROUP RESULTS (https:/
 /actnowracing.com/images/Events/AZALEA_2016/AZALEA_5K_AGE_RESULTS.pdf)\nAZA
 LEA 10K AGE GROUP RESULTS\nAZALEA HALF AGE DIVISION RESULTS (https://actnow
 racing.com/images/Events/AZALEA_2016/AZALEA_HM_AGE_RESULTS.pdf)\n This even
 t was imported from: https://beta.actnowracing.com/events/184/4th-annual-az
 alea-half-marathon-10k-5k-geo-93-30915833-37-04677582?tmpl=component
X-ALT-DESC;FMTTYPE=text/html:<p style="text-align: center;"><strong>REGISTRATION OPENS SUNDAY, FEBRUARY 
 14TH WITH THE SWEETHEART SPECIAL! HALF MARATHON $40/10K $25/5K $20 &amp; NO
  CREDIT CARD PROCESSING FEES</strong></p><p style="line-height: 15.6px; tex
 t-align: center;"><strong>HALF MARATHON</strong> - Early Bird registration 
 is $45. &nbsp;July 1st price goes to $50. August 1st Price goes to $55. &nb
 sp;August 29th Price goes to $60.&nbsp;Race Day Registration is $65</p><p s
 tyle="line-height: 15.6px; text-align: center;">&nbsp; &nbsp; &nbsp; &nbsp;
  &nbsp; &nbsp; &nbsp; &nbsp; &nbsp; &nbsp; &nbsp; 10K- &nbsp; Early Bird Re
 gistration is $25. &nbsp;August 29th Price goes to $30. &nbsp;Race Day Regi
 stration is $35&nbsp;</p><p style="line-height: 15.6px; text-align: center;
 ">5K- Early Bird Registration is $20. &nbsp;August 29th Price goes to $25. 
 &nbsp;Race Day Registration is $30</p><p style="text-align: center;">Family
  5K Rate is $65. September 1st goes to $75. &nbsp;Race Day Registration is 
 $85.</p><p style="line-height: 15.6px; text-align: center;"><span style="fo
 nt-size: 10pt;"><strong>START TIMES: &nbsp;HALF MARATHON IS 8 AM - 10K IS 8
 :15 AM - 5K START TIME IS 8:30 AM</strong></span></p><p>&nbsp;</p><p>For de
 tails on the Azalea Run <a href="http://actnowracing.com/Azalea-Half-Marath
 on" target="_blank" rel="noopener" data-rokbox="1">CLICK HERE</a></p><p><a 
 class="wf_file" href="https://actnowracing.com/images/Events/AZALEA_2016/AZ
 ALEA_5K_AGE_RESULTS.pdf"><span class="wf_file_text">AZALEA 5K AGE GROUP RES
 ULTS</span></a></p><p><a class="wf_file" href="https://actnowracing.com/ima
 ges/Events/AZALEA_2016/AZALEA_10K_AGE_RESULTS.pdf"><span class="wf_file_tex
 t">AZALEA 10K AGE GROUP RESULTS</span></a></p><p><a class="wf_file" href="h
 ttps://actnowracing.com/images/Events/AZALEA_2016/AZALEA_HM_AGE_RESULTS.pdf
 "><span class="wf_file_text">AZALEA HALF AGE DIVISION RESULTS</span></a></p
 > <a href="https://beta.actnowracing.com/events/184/4th-annual-azalea-half-
 marathon-10k-5k-geo-93-30915833-37-04677582?tmpl=component">This event was 
 imported from: https://beta.actnowracing.com/events/184/4th-annual-azalea-h
 alf-marathon-10k-5k-geo-93-30915833-37-04677582?tmpl=component</a>CONTACT:RegularLabs.EmailProtector.unCloak("ep_f50031f2"); or call 417-724-2002
DTSTAMP:20260424T211250
DTSTART;TZID=America/Chicago:20160910T080000
SEQUENCE:0
TRANSP:OPAQUE
END:VEVENT
END:VCALENDAR