BEGIN:VCALENDAR
VERSION:2.0
PRODID:-//jEvents 2.0 for Joomla//EN
CALSCALE:GREGORIAN
METHOD:PUBLISH
BEGIN:VTIMEZONE
TZID:America/Chicago
BEGIN:STANDARD
DTSTART:20151101T010000
RDATE:20160313T030000
TZOFFSETFROM:-0500
TZOFFSETTO:-0600
TZNAME:America/Chicago CST
END:STANDARD
BEGIN:STANDARD
DTSTART:20161106T010000
RDATE:20170312T030000
TZOFFSETFROM:-0500
TZOFFSETTO:-0600
TZNAME:America/Chicago CST
END:STANDARD
BEGIN:STANDARD
DTSTART:20171105T010000
RDATE:20180311T030000
TZOFFSETFROM:-0500
TZOFFSETTO:-0600
TZNAME:America/Chicago CST
END:STANDARD
BEGIN:STANDARD
DTSTART:20181104T010000
RDATE:20190310T030000
TZOFFSETFROM:-0500
TZOFFSETTO:-0600
TZNAME:America/Chicago CST
END:STANDARD
BEGIN:STANDARD
DTSTART:20191103T010000
RDATE:20200308T030000
TZOFFSETFROM:-0500
TZOFFSETTO:-0600
TZNAME:America/Chicago CST
END:STANDARD
BEGIN:STANDARD
DTSTART:20201101T010000
RDATE:20210314T030000
TZOFFSETFROM:-0500
TZOFFSETTO:-0600
TZNAME:America/Chicago CST
END:STANDARD
BEGIN:STANDARD
DTSTART:20211107T010000
RDATE:20220313T030000
TZOFFSETFROM:-0500
TZOFFSETTO:-0600
TZNAME:America/Chicago CST
END:STANDARD
BEGIN:STANDARD
DTSTART:20221106T010000
RDATE:20230312T030000
TZOFFSETFROM:-0500
TZOFFSETTO:-0600
TZNAME:America/Chicago CST
END:STANDARD
BEGIN:STANDARD
DTSTART:20231105T010000
RDATE:20240310T030000
TZOFFSETFROM:-0500
TZOFFSETTO:-0600
TZNAME:America/Chicago CST
END:STANDARD
BEGIN:STANDARD
DTSTART:20241103T010000
RDATE:20250309T030000
TZOFFSETFROM:-0500
TZOFFSETTO:-0600
TZNAME:America/Chicago CST
END:STANDARD
BEGIN:STANDARD
DTSTART:20251102T010000
RDATE:20260308T030000
TZOFFSETFROM:-0500
TZOFFSETTO:-0600
TZNAME:America/Chicago CST
END:STANDARD
BEGIN:STANDARD
DTSTART:20261101T010000
RDATE:20270314T030000
TZOFFSETFROM:-0500
TZOFFSETTO:-0600
TZNAME:America/Chicago CST
END:STANDARD
BEGIN:STANDARD
DTSTART:20271107T010000
RDATE:20280312T030000
TZOFFSETFROM:-0500
TZOFFSETTO:-0600
TZNAME:America/Chicago CST
END:STANDARD
BEGIN:STANDARD
DTSTART:20281105T010000
RDATE:20290311T030000
TZOFFSETFROM:-0500
TZOFFSETTO:-0600
TZNAME:America/Chicago CST
END:STANDARD
BEGIN:DAYLIGHT
DTSTART:20150618T080600
RDATE:20151101T010000
TZOFFSETFROM:-0600
TZOFFSETTO:-0500
TZNAME:America/Chicago CDT
END:DAYLIGHT
BEGIN:DAYLIGHT
DTSTART:20160313T030000
RDATE:20161106T010000
TZOFFSETFROM:-0600
TZOFFSETTO:-0500
TZNAME:America/Chicago CDT
END:DAYLIGHT
BEGIN:DAYLIGHT
DTSTART:20170312T030000
RDATE:20171105T010000
TZOFFSETFROM:-0600
TZOFFSETTO:-0500
TZNAME:America/Chicago CDT
END:DAYLIGHT
BEGIN:DAYLIGHT
DTSTART:20180311T030000
RDATE:20181104T010000
TZOFFSETFROM:-0600
TZOFFSETTO:-0500
TZNAME:America/Chicago CDT
END:DAYLIGHT
BEGIN:DAYLIGHT
DTSTART:20190310T030000
RDATE:20191103T010000
TZOFFSETFROM:-0600
TZOFFSETTO:-0500
TZNAME:America/Chicago CDT
END:DAYLIGHT
BEGIN:DAYLIGHT
DTSTART:20200308T030000
RDATE:20201101T010000
TZOFFSETFROM:-0600
TZOFFSETTO:-0500
TZNAME:America/Chicago CDT
END:DAYLIGHT
BEGIN:DAYLIGHT
DTSTART:20210314T030000
RDATE:20211107T010000
TZOFFSETFROM:-0600
TZOFFSETTO:-0500
TZNAME:America/Chicago CDT
END:DAYLIGHT
BEGIN:DAYLIGHT
DTSTART:20220313T030000
RDATE:20221106T010000
TZOFFSETFROM:-0600
TZOFFSETTO:-0500
TZNAME:America/Chicago CDT
END:DAYLIGHT
BEGIN:DAYLIGHT
DTSTART:20230312T030000
RDATE:20231105T010000
TZOFFSETFROM:-0600
TZOFFSETTO:-0500
TZNAME:America/Chicago CDT
END:DAYLIGHT
BEGIN:DAYLIGHT
DTSTART:20240310T030000
RDATE:20241103T010000
TZOFFSETFROM:-0600
TZOFFSETTO:-0500
TZNAME:America/Chicago CDT
END:DAYLIGHT
BEGIN:DAYLIGHT
DTSTART:20250309T030000
RDATE:20251102T010000
TZOFFSETFROM:-0600
TZOFFSETTO:-0500
TZNAME:America/Chicago CDT
END:DAYLIGHT
BEGIN:DAYLIGHT
DTSTART:20260308T030000
RDATE:20261101T010000
TZOFFSETFROM:-0600
TZOFFSETTO:-0500
TZNAME:America/Chicago CDT
END:DAYLIGHT
BEGIN:DAYLIGHT
DTSTART:20270314T030000
RDATE:20271107T010000
TZOFFSETFROM:-0600
TZOFFSETTO:-0500
TZNAME:America/Chicago CDT
END:DAYLIGHT
BEGIN:DAYLIGHT
DTSTART:20280312T030000
RDATE:20281105T010000
TZOFFSETFROM:-0600
TZOFFSETTO:-0500
TZNAME:America/Chicago CDT
END:DAYLIGHT
END:VTIMEZONE
BEGIN:VEVENT
UID:a15237a798428cfa3f15fb6ec9799040
CATEGORIES:5K, Fun Run/Walk
CREATED:20160220T055436
SUMMARY:4th Annual Rat Race
GEO:93.29875183;37.04525375
LOCATION:Tiger Stadium - 801 Phillips St.\, Greenforest\, AR\, \, 
URL;VALUE=URI:https://beta.actnowracing.com/events/200/4th-annual-rat-race-geo-93-2987518
 3-37-04525375?tmpl=component
DESCRIPTION:The Rat Race was started in honor of US Navy SEAL Tom Ratzlaff of Green For
 est, AR. This event remembers the 31 heroes lost on 8-6-2011 during Extorti
 on 17.  Tommy graduated from Green Forest High School as a member of the Cl
 ass of 1995. He entered the Navy in May 1995 and was shortly thereafter ass
 igned to the USS KIDD. Tom completed his BUD/S training in 1998. He worked 
 his way up in rank and eventually became a member of the elite SEAL Team VI
 . Tommy was among 31 Americans killed in a Chinook helicopter crashed on Au
 gust 6, 2011 in Afghanistan. Our race benefits the Ratzlaff Legacy Memorial
  Inc which is a IRC Section 501(c) (3) tax deductible charity. We offer sch
 olarships to 2 local schools. We also support Greif Counseling Programs at 
 school for children who have lost parents, veterans organizations and local
  youth activities.\n\nThe race will start and end at Green Forest High Scho
 ol in Green Forest, Arkansas on June 18th, 2016.\nFor further information, 
 go to Ratzlegacy.org (http://ratzlegacy.org/)\n This event was imported fro
 m: https://beta.actnowracing.com/events/200/4th-annual-rat-race-geo-93-2987
 5183-37-04525375?tmpl=component
X-ALT-DESC;FMTTYPE=text/html:<p>The Rat Race was started in honor of US Navy SEAL Tom Ratzlaff of Green 
 Forest, AR. This event remembers the 31 heroes lost on 8-6-2011 during Exto
 rtion 17. &nbsp;Tommy graduated from Green Forest High School as a member o
 f the Class of 1995. He entered the&nbsp;Navy in May 1995 and was shortly t
 hereafter assigned to the USS KIDD. Tom completed his BUD/S&nbsp;training i
 n 1998. He worked his way up in rank and eventually became a member of the 
 elite SEAL&nbsp;Team VI. Tommy was among 31 Americans killed in a Chinook h
 elicopter crashed on August 6, 2011 in&nbsp;Afghanistan.&nbsp;Our race bene
 fits the Ratzlaff Legacy Memorial Inc which is a IRC Section 501(c) (3) tax
  deductible charity. We offer scholarships to 2 local schools. We also supp
 ort Greif Counseling Programs at school for children who have lost parents,
  veterans organizations and local youth activities.<span style="line-height
 : 15.6px;"><br /></span></p><p><span style="line-height: 15.6px;">The race 
 will start and end at Green Forest High School in Green Forest, Arkansas on
  June 18th, 2016.</span></p><p>For further information, go to&nbsp;<a href=
 "http://ratzlegacy.org/" target="_blank" data-rokbox="1">Ratzlegacy.org</a>
 </p> <a href="https://beta.actnowracing.com/events/200/4th-annual-rat-race-
 geo-93-29875183-37-04525375?tmpl=component">This event was imported from: h
 ttps://beta.actnowracing.com/events/200/4th-annual-rat-race-geo-93-29875183
 -37-04525375?tmpl=component</a>CONTACT:For questions please contact RegularLabs.EmailProtector.unCloak("ep_bdbafd13"); or 870-480-3439
DTSTAMP:20260424T111423
DTSTART;TZID=America/Chicago:20160618T080600
SEQUENCE:0
TRANSP:OPAQUE
END:VEVENT
END:VCALENDAR