BEGIN:VCALENDAR
VERSION:2.0
PRODID:-//jEvents 2.0 for Joomla//EN
CALSCALE:GREGORIAN
METHOD:PUBLISH
BEGIN:VTIMEZONE
TZID:America/Chicago
BEGIN:STANDARD
DTSTART:20151101T010000
RDATE:20160313T030000
TZOFFSETFROM:-0500
TZOFFSETTO:-0600
TZNAME:America/Chicago CST
END:STANDARD
BEGIN:STANDARD
DTSTART:20161106T010000
RDATE:20170312T030000
TZOFFSETFROM:-0500
TZOFFSETTO:-0600
TZNAME:America/Chicago CST
END:STANDARD
BEGIN:STANDARD
DTSTART:20171105T010000
RDATE:20180311T030000
TZOFFSETFROM:-0500
TZOFFSETTO:-0600
TZNAME:America/Chicago CST
END:STANDARD
BEGIN:STANDARD
DTSTART:20181104T010000
RDATE:20190310T030000
TZOFFSETFROM:-0500
TZOFFSETTO:-0600
TZNAME:America/Chicago CST
END:STANDARD
BEGIN:STANDARD
DTSTART:20191103T010000
RDATE:20200308T030000
TZOFFSETFROM:-0500
TZOFFSETTO:-0600
TZNAME:America/Chicago CST
END:STANDARD
BEGIN:STANDARD
DTSTART:20201101T010000
RDATE:20210314T030000
TZOFFSETFROM:-0500
TZOFFSETTO:-0600
TZNAME:America/Chicago CST
END:STANDARD
BEGIN:STANDARD
DTSTART:20211107T010000
RDATE:20220313T030000
TZOFFSETFROM:-0500
TZOFFSETTO:-0600
TZNAME:America/Chicago CST
END:STANDARD
BEGIN:STANDARD
DTSTART:20221106T010000
RDATE:20230312T030000
TZOFFSETFROM:-0500
TZOFFSETTO:-0600
TZNAME:America/Chicago CST
END:STANDARD
BEGIN:STANDARD
DTSTART:20231105T010000
RDATE:20240310T030000
TZOFFSETFROM:-0500
TZOFFSETTO:-0600
TZNAME:America/Chicago CST
END:STANDARD
BEGIN:STANDARD
DTSTART:20241103T010000
RDATE:20250309T030000
TZOFFSETFROM:-0500
TZOFFSETTO:-0600
TZNAME:America/Chicago CST
END:STANDARD
BEGIN:STANDARD
DTSTART:20251102T010000
RDATE:20260308T030000
TZOFFSETFROM:-0500
TZOFFSETTO:-0600
TZNAME:America/Chicago CST
END:STANDARD
BEGIN:STANDARD
DTSTART:20261101T010000
RDATE:20270314T030000
TZOFFSETFROM:-0500
TZOFFSETTO:-0600
TZNAME:America/Chicago CST
END:STANDARD
BEGIN:STANDARD
DTSTART:20271107T010000
RDATE:20280312T030000
TZOFFSETFROM:-0500
TZOFFSETTO:-0600
TZNAME:America/Chicago CST
END:STANDARD
BEGIN:STANDARD
DTSTART:20281105T010000
RDATE:20290311T030000
TZOFFSETFROM:-0500
TZOFFSETTO:-0600
TZNAME:America/Chicago CST
END:STANDARD
BEGIN:DAYLIGHT
DTSTART:20150709T200000
RDATE:20151101T010000
TZOFFSETFROM:-0600
TZOFFSETTO:-0500
TZNAME:America/Chicago CDT
END:DAYLIGHT
BEGIN:DAYLIGHT
DTSTART:20160313T030000
RDATE:20161106T010000
TZOFFSETFROM:-0600
TZOFFSETTO:-0500
TZNAME:America/Chicago CDT
END:DAYLIGHT
BEGIN:DAYLIGHT
DTSTART:20170312T030000
RDATE:20171105T010000
TZOFFSETFROM:-0600
TZOFFSETTO:-0500
TZNAME:America/Chicago CDT
END:DAYLIGHT
BEGIN:DAYLIGHT
DTSTART:20180311T030000
RDATE:20181104T010000
TZOFFSETFROM:-0600
TZOFFSETTO:-0500
TZNAME:America/Chicago CDT
END:DAYLIGHT
BEGIN:DAYLIGHT
DTSTART:20190310T030000
RDATE:20191103T010000
TZOFFSETFROM:-0600
TZOFFSETTO:-0500
TZNAME:America/Chicago CDT
END:DAYLIGHT
BEGIN:DAYLIGHT
DTSTART:20200308T030000
RDATE:20201101T010000
TZOFFSETFROM:-0600
TZOFFSETTO:-0500
TZNAME:America/Chicago CDT
END:DAYLIGHT
BEGIN:DAYLIGHT
DTSTART:20210314T030000
RDATE:20211107T010000
TZOFFSETFROM:-0600
TZOFFSETTO:-0500
TZNAME:America/Chicago CDT
END:DAYLIGHT
BEGIN:DAYLIGHT
DTSTART:20220313T030000
RDATE:20221106T010000
TZOFFSETFROM:-0600
TZOFFSETTO:-0500
TZNAME:America/Chicago CDT
END:DAYLIGHT
BEGIN:DAYLIGHT
DTSTART:20230312T030000
RDATE:20231105T010000
TZOFFSETFROM:-0600
TZOFFSETTO:-0500
TZNAME:America/Chicago CDT
END:DAYLIGHT
BEGIN:DAYLIGHT
DTSTART:20240310T030000
RDATE:20241103T010000
TZOFFSETFROM:-0600
TZOFFSETTO:-0500
TZNAME:America/Chicago CDT
END:DAYLIGHT
BEGIN:DAYLIGHT
DTSTART:20250309T030000
RDATE:20251102T010000
TZOFFSETFROM:-0600
TZOFFSETTO:-0500
TZNAME:America/Chicago CDT
END:DAYLIGHT
BEGIN:DAYLIGHT
DTSTART:20260308T030000
RDATE:20261101T010000
TZOFFSETFROM:-0600
TZOFFSETTO:-0500
TZNAME:America/Chicago CDT
END:DAYLIGHT
BEGIN:DAYLIGHT
DTSTART:20270314T030000
RDATE:20271107T010000
TZOFFSETFROM:-0600
TZOFFSETTO:-0500
TZNAME:America/Chicago CDT
END:DAYLIGHT
BEGIN:DAYLIGHT
DTSTART:20280312T030000
RDATE:20281105T010000
TZOFFSETFROM:-0600
TZOFFSETTO:-0500
TZNAME:America/Chicago CDT
END:DAYLIGHT
END:VTIMEZONE
BEGIN:VEVENT
UID:4d6957f080f293eab7b53bb56a2655f9
CATEGORIES:6 Hour, Other
CREATED:20160423T163812
SUMMARY:Sweatfest
GEO:-93.13640594;37.2694931
LOCATION:Landmark Church - 200 N. Peachtree\, Strafford\, MO\, 65757\, 
URL;VALUE=URI:https://beta.actnowracing.com/events/210/sweatfest-geo-93-13640594-37-26949
 31?tmpl=component
DESCRIPTION:How would you like another chance to set a state record? or another automat
 ic P.R.?  In January, OMRR introduced the Cain Fever Reliever 20K and many 
 new state records were set.  If you missed it, keep an eye out for 2017 reg
 istration later this year!\nWe'd like to present a second opportunity to se
 t, and break, Missouri State Records in 2016! SATURDAY, JULY 9TH, 2016 SWEA
 TFEST 2 Mile, 5 Mile &amp; 10 Mile.\nStrafford School Foundation is current
 ly in need of school supplies for the 2016/2017 school year.  Items most co
 mmonly requested: Backpacks, Pen/Paper, Folders and 3-Ring Binders, Scienti
 fic Calculators, Composition Notebooks. Primary Grades Require: Paste, Cray
 ons, Glue Sticks, Note Cards, Colored Pencils, Rulers.  MONETARY DONATIONS 
 ALSO ACCEPTED!  Bring your collection items to packet pickup or race evenin
 g to be donated.\n This event was imported from: https://beta.actnowracing.
 com/events/210/sweatfest-geo-93-13640594-37-2694931?tmpl=component
X-ALT-DESC;FMTTYPE=text/html:<p>How would you like another chance to set a state record? or another auto
 matic P.R.? &nbsp;In January, OMRR introduced the Cain Fever Reliever 20K a
 nd many new state records were set. &nbsp;If you missed it, keep an eye out
  for 2017 registration later this year!</p><p>We'd like to present a second
  opportunity to set, and break, Missouri State Records in 2016! SATURDAY, J
 ULY 9TH, 2016 SWEATFEST 2 Mile, 5 Mile &amp; 10 Mile.</p><p>Strafford Schoo
 l Foundation is currently in need of school supplies for the 2016/2017 scho
 ol year. &nbsp;<em><strong>Items most commonly requested</strong></em>: Bac
 kpacks, Pen/Paper, Folders and 3-Ring Binders, Scientific Calculators, Comp
 osition Notebooks. <em><strong>Primary Grades Require:&nbsp;</strong></em>P
 aste, Crayons, Glue Sticks, Note Cards, Colored Pencils, Rulers. &nbsp;MONE
 TARY DONATIONS ALSO ACCEPTED! <span style="text-decoration: underline;"><em
 >&nbsp;Bring your collection items to packet pickup or race evening to be d
 onated.</em></span></p> <a href="https://beta.actnowracing.com/events/210/s
 weatfest-geo-93-13640594-37-2694931?tmpl=component">This event was imported
  from: https://beta.actnowracing.com/events/210/sweatfest-geo-93-13640594-3
 7-2694931?tmpl=component</a>CONTACT:Race Director Stephanie Davenport at RegularLabs.EmailProtector.unCloak("ep_6a71643f");
DTSTAMP:20260424T111421
DTSTART;TZID=America/Chicago:20160709T200000
SEQUENCE:0
TRANSP:OPAQUE
END:VEVENT
END:VCALENDAR