BEGIN:VCALENDAR
VERSION:2.0
PRODID:-//jEvents 2.0 for Joomla//EN
CALSCALE:GREGORIAN
METHOD:PUBLISH
BEGIN:VTIMEZONE
TZID:America/Chicago
BEGIN:STANDARD
DTSTART:20161106T010000
RDATE:20170312T030000
TZOFFSETFROM:-0500
TZOFFSETTO:-0600
TZNAME:America/Chicago CST
END:STANDARD
BEGIN:STANDARD
DTSTART:20171105T010000
RDATE:20180311T030000
TZOFFSETFROM:-0500
TZOFFSETTO:-0600
TZNAME:America/Chicago CST
END:STANDARD
BEGIN:STANDARD
DTSTART:20181104T010000
RDATE:20190310T030000
TZOFFSETFROM:-0500
TZOFFSETTO:-0600
TZNAME:America/Chicago CST
END:STANDARD
BEGIN:STANDARD
DTSTART:20191103T010000
RDATE:20200308T030000
TZOFFSETFROM:-0500
TZOFFSETTO:-0600
TZNAME:America/Chicago CST
END:STANDARD
BEGIN:STANDARD
DTSTART:20201101T010000
RDATE:20210314T030000
TZOFFSETFROM:-0500
TZOFFSETTO:-0600
TZNAME:America/Chicago CST
END:STANDARD
BEGIN:STANDARD
DTSTART:20211107T010000
RDATE:20220313T030000
TZOFFSETFROM:-0500
TZOFFSETTO:-0600
TZNAME:America/Chicago CST
END:STANDARD
BEGIN:STANDARD
DTSTART:20221106T010000
RDATE:20230312T030000
TZOFFSETFROM:-0500
TZOFFSETTO:-0600
TZNAME:America/Chicago CST
END:STANDARD
BEGIN:STANDARD
DTSTART:20231105T010000
RDATE:20240310T030000
TZOFFSETFROM:-0500
TZOFFSETTO:-0600
TZNAME:America/Chicago CST
END:STANDARD
BEGIN:STANDARD
DTSTART:20241103T010000
RDATE:20250309T030000
TZOFFSETFROM:-0500
TZOFFSETTO:-0600
TZNAME:America/Chicago CST
END:STANDARD
BEGIN:STANDARD
DTSTART:20251102T010000
RDATE:20260308T030000
TZOFFSETFROM:-0500
TZOFFSETTO:-0600
TZNAME:America/Chicago CST
END:STANDARD
BEGIN:STANDARD
DTSTART:20261101T010000
RDATE:20270314T030000
TZOFFSETFROM:-0500
TZOFFSETTO:-0600
TZNAME:America/Chicago CST
END:STANDARD
BEGIN:STANDARD
DTSTART:20271107T010000
RDATE:20280312T030000
TZOFFSETFROM:-0500
TZOFFSETTO:-0600
TZNAME:America/Chicago CST
END:STANDARD
BEGIN:STANDARD
DTSTART:20281105T010000
RDATE:20290311T030000
TZOFFSETFROM:-0500
TZOFFSETTO:-0600
TZNAME:America/Chicago CST
END:STANDARD
BEGIN:DAYLIGHT
DTSTART:20160714T080000
RDATE:20161106T010000
TZOFFSETFROM:-0600
TZOFFSETTO:-0500
TZNAME:America/Chicago CDT
END:DAYLIGHT
BEGIN:DAYLIGHT
DTSTART:20170312T030000
RDATE:20171105T010000
TZOFFSETFROM:-0600
TZOFFSETTO:-0500
TZNAME:America/Chicago CDT
END:DAYLIGHT
BEGIN:DAYLIGHT
DTSTART:20180311T030000
RDATE:20181104T010000
TZOFFSETFROM:-0600
TZOFFSETTO:-0500
TZNAME:America/Chicago CDT
END:DAYLIGHT
BEGIN:DAYLIGHT
DTSTART:20190310T030000
RDATE:20191103T010000
TZOFFSETFROM:-0600
TZOFFSETTO:-0500
TZNAME:America/Chicago CDT
END:DAYLIGHT
BEGIN:DAYLIGHT
DTSTART:20200308T030000
RDATE:20201101T010000
TZOFFSETFROM:-0600
TZOFFSETTO:-0500
TZNAME:America/Chicago CDT
END:DAYLIGHT
BEGIN:DAYLIGHT
DTSTART:20210314T030000
RDATE:20211107T010000
TZOFFSETFROM:-0600
TZOFFSETTO:-0500
TZNAME:America/Chicago CDT
END:DAYLIGHT
BEGIN:DAYLIGHT
DTSTART:20220313T030000
RDATE:20221106T010000
TZOFFSETFROM:-0600
TZOFFSETTO:-0500
TZNAME:America/Chicago CDT
END:DAYLIGHT
BEGIN:DAYLIGHT
DTSTART:20230312T030000
RDATE:20231105T010000
TZOFFSETFROM:-0600
TZOFFSETTO:-0500
TZNAME:America/Chicago CDT
END:DAYLIGHT
BEGIN:DAYLIGHT
DTSTART:20240310T030000
RDATE:20241103T010000
TZOFFSETFROM:-0600
TZOFFSETTO:-0500
TZNAME:America/Chicago CDT
END:DAYLIGHT
BEGIN:DAYLIGHT
DTSTART:20250309T030000
RDATE:20251102T010000
TZOFFSETFROM:-0600
TZOFFSETTO:-0500
TZNAME:America/Chicago CDT
END:DAYLIGHT
BEGIN:DAYLIGHT
DTSTART:20260308T030000
RDATE:20261101T010000
TZOFFSETFROM:-0600
TZOFFSETTO:-0500
TZNAME:America/Chicago CDT
END:DAYLIGHT
BEGIN:DAYLIGHT
DTSTART:20270314T030000
RDATE:20271107T010000
TZOFFSETFROM:-0600
TZOFFSETTO:-0500
TZNAME:America/Chicago CDT
END:DAYLIGHT
BEGIN:DAYLIGHT
DTSTART:20280312T030000
RDATE:20281105T010000
TZOFFSETFROM:-0600
TZOFFSETTO:-0500
TZNAME:America/Chicago CDT
END:DAYLIGHT
END:VTIMEZONE
BEGIN:VEVENT
UID:60f3c98989bfe3552133343767f7a095
CATEGORIES:5K
CREATED:20161024T085429
SUMMARY:Ozarks Teen Challenge Family 5K Run/Walk
GEO:-93.21303558;36.64141846
LOCATION:Branson Landing - 100 Branson Landing\, Branson\, MO\, \, 
URL;VALUE=URI:https://beta.actnowracing.com/events/244/ozarks-teen-challenge-family-5k-ru
 n-walk-geo-93-21303558-36-64141846?tmpl=component
DESCRIPTION:Ozark Teen Challenge will host its 3rd Annual Ozarks Teen Challenge Family 
 5K Run/Walk on July 15th 2017. We invite you to join the students and famil
 ies of Ozarks Teen Challenge in the fight against teen addiction as we Run 
 for Hope!\nOnline Registration will close at noon on 7/14/17.  Race Day Reg
 istration and Packet Pick Up: 6:30am to 7:45am\nTEEN CHALLENGE AGE GROUP RE
 SULTS (https://actnowracing.com/images/Events/Ozarks_Teen_Challenge/2017/TE
 EN_CHALLENGE_AGE_GROUP_RESULTS.pdf)\n \n\n \n\n This event was imported fro
 m: https://beta.actnowracing.com/events/244/ozarks-teen-challenge-family-5k
 -run-walk-geo-93-21303558-36-64141846?tmpl=component
X-ALT-DESC;FMTTYPE=text/html:<p style="text-align: center;"><em><strong>Ozark Teen Challenge will host i
 ts 3rd Annual Ozarks Teen Challenge Family 5K Run/Walk on July 15th 2017. W
 e invite you to join the students and families of Ozarks Teen Challenge in 
 the fight against teen addiction as we Run for Hope!</strong></em></p><p><s
 trong style="font-size: 12px; line-height: 15.6px;">Online Registration wil
 l close at noon on 7/14/17. &nbsp;Race Day Registration and Packet Pick Up:
 </strong><span style="font-size: 12px; line-height: 15.6px;">&nbsp;6:30am t
 o 7:45am</span></p><p><a href="https://actnowracing.com/images/Events/Ozark
 s_Teen_Challenge/2017/TEEN_CHALLENGE_AGE_GROUP_RESULTS.pdf" class="wf_file"
 ><span class="wf_file_text">TEEN CHALLENGE AGE GROUP RESULTS</span></a></p>
 <p>&nbsp;</p><p style="text-align: left;"></p><p>&nbsp;</p><p style="margin
 : 0px; color: #222222; font-family: arial, sans-serif; font-size: 12.800000
 1907349px;"></p> <a href="https://beta.actnowracing.com/events/244/ozarks-t
 een-challenge-family-5k-run-walk-geo-93-21303558-36-64141846?tmpl=component
 ">This event was imported from: https://beta.actnowracing.com/events/244/oz
 arks-teen-challenge-family-5k-run-walk-geo-93-21303558-36-64141846?tmpl=com
 ponent</a>CONTACT:Race Director Wendy Buttacy at  RegularLabs.EmailProtector.unCloak("ep_0e067a38");
DTSTAMP:20260424T132506
DTSTART;TZID=America/Chicago:20170715T080000
SEQUENCE:0
TRANSP:OPAQUE
END:VEVENT
END:VCALENDAR