BEGIN:VCALENDAR
VERSION:2.0
PRODID:-//jEvents 2.0 for Joomla//EN
CALSCALE:GREGORIAN
METHOD:PUBLISH
BEGIN:VTIMEZONE
TZID:America/Chicago
BEGIN:STANDARD
DTSTART:20161106T010000
RDATE:20170312T030000
TZOFFSETFROM:-0500
TZOFFSETTO:-0600
TZNAME:America/Chicago CST
END:STANDARD
BEGIN:STANDARD
DTSTART:20171105T010000
RDATE:20180311T030000
TZOFFSETFROM:-0500
TZOFFSETTO:-0600
TZNAME:America/Chicago CST
END:STANDARD
BEGIN:STANDARD
DTSTART:20181104T010000
RDATE:20190310T030000
TZOFFSETFROM:-0500
TZOFFSETTO:-0600
TZNAME:America/Chicago CST
END:STANDARD
BEGIN:STANDARD
DTSTART:20191103T010000
RDATE:20200308T030000
TZOFFSETFROM:-0500
TZOFFSETTO:-0600
TZNAME:America/Chicago CST
END:STANDARD
BEGIN:STANDARD
DTSTART:20201101T010000
RDATE:20210314T030000
TZOFFSETFROM:-0500
TZOFFSETTO:-0600
TZNAME:America/Chicago CST
END:STANDARD
BEGIN:STANDARD
DTSTART:20211107T010000
RDATE:20220313T030000
TZOFFSETFROM:-0500
TZOFFSETTO:-0600
TZNAME:America/Chicago CST
END:STANDARD
BEGIN:STANDARD
DTSTART:20221106T010000
RDATE:20230312T030000
TZOFFSETFROM:-0500
TZOFFSETTO:-0600
TZNAME:America/Chicago CST
END:STANDARD
BEGIN:STANDARD
DTSTART:20231105T010000
RDATE:20240310T030000
TZOFFSETFROM:-0500
TZOFFSETTO:-0600
TZNAME:America/Chicago CST
END:STANDARD
BEGIN:STANDARD
DTSTART:20241103T010000
RDATE:20250309T030000
TZOFFSETFROM:-0500
TZOFFSETTO:-0600
TZNAME:America/Chicago CST
END:STANDARD
BEGIN:STANDARD
DTSTART:20251102T010000
RDATE:20260308T030000
TZOFFSETFROM:-0500
TZOFFSETTO:-0600
TZNAME:America/Chicago CST
END:STANDARD
BEGIN:STANDARD
DTSTART:20261101T010000
RDATE:20270314T030000
TZOFFSETFROM:-0500
TZOFFSETTO:-0600
TZNAME:America/Chicago CST
END:STANDARD
BEGIN:STANDARD
DTSTART:20271107T010000
RDATE:20280312T030000
TZOFFSETFROM:-0500
TZOFFSETTO:-0600
TZNAME:America/Chicago CST
END:STANDARD
BEGIN:STANDARD
DTSTART:20281105T010000
RDATE:20290311T030000
TZOFFSETFROM:-0500
TZOFFSETTO:-0600
TZNAME:America/Chicago CST
END:STANDARD
BEGIN:DAYLIGHT
DTSTART:20160421T080000
RDATE:20161106T010000
TZOFFSETFROM:-0600
TZOFFSETTO:-0500
TZNAME:America/Chicago CDT
END:DAYLIGHT
BEGIN:DAYLIGHT
DTSTART:20170312T030000
RDATE:20171105T010000
TZOFFSETFROM:-0600
TZOFFSETTO:-0500
TZNAME:America/Chicago CDT
END:DAYLIGHT
BEGIN:DAYLIGHT
DTSTART:20180311T030000
RDATE:20181104T010000
TZOFFSETFROM:-0600
TZOFFSETTO:-0500
TZNAME:America/Chicago CDT
END:DAYLIGHT
BEGIN:DAYLIGHT
DTSTART:20190310T030000
RDATE:20191103T010000
TZOFFSETFROM:-0600
TZOFFSETTO:-0500
TZNAME:America/Chicago CDT
END:DAYLIGHT
BEGIN:DAYLIGHT
DTSTART:20200308T030000
RDATE:20201101T010000
TZOFFSETFROM:-0600
TZOFFSETTO:-0500
TZNAME:America/Chicago CDT
END:DAYLIGHT
BEGIN:DAYLIGHT
DTSTART:20210314T030000
RDATE:20211107T010000
TZOFFSETFROM:-0600
TZOFFSETTO:-0500
TZNAME:America/Chicago CDT
END:DAYLIGHT
BEGIN:DAYLIGHT
DTSTART:20220313T030000
RDATE:20221106T010000
TZOFFSETFROM:-0600
TZOFFSETTO:-0500
TZNAME:America/Chicago CDT
END:DAYLIGHT
BEGIN:DAYLIGHT
DTSTART:20230312T030000
RDATE:20231105T010000
TZOFFSETFROM:-0600
TZOFFSETTO:-0500
TZNAME:America/Chicago CDT
END:DAYLIGHT
BEGIN:DAYLIGHT
DTSTART:20240310T030000
RDATE:20241103T010000
TZOFFSETFROM:-0600
TZOFFSETTO:-0500
TZNAME:America/Chicago CDT
END:DAYLIGHT
BEGIN:DAYLIGHT
DTSTART:20250309T030000
RDATE:20251102T010000
TZOFFSETFROM:-0600
TZOFFSETTO:-0500
TZNAME:America/Chicago CDT
END:DAYLIGHT
BEGIN:DAYLIGHT
DTSTART:20260308T030000
RDATE:20261101T010000
TZOFFSETFROM:-0600
TZOFFSETTO:-0500
TZNAME:America/Chicago CDT
END:DAYLIGHT
BEGIN:DAYLIGHT
DTSTART:20270314T030000
RDATE:20271107T010000
TZOFFSETFROM:-0600
TZOFFSETTO:-0500
TZNAME:America/Chicago CDT
END:DAYLIGHT
BEGIN:DAYLIGHT
DTSTART:20280312T030000
RDATE:20281105T010000
TZOFFSETFROM:-0600
TZOFFSETTO:-0500
TZNAME:America/Chicago CDT
END:DAYLIGHT
END:VTIMEZONE
BEGIN:VEVENT
UID:98d4287e5d2c1b18cc77d80b2c991a97
CATEGORIES:5K
CREATED:20170112T121421
SUMMARY:Junior League Charity Run 4 Miles 4 Homeless Youth
GEO:-93.24411774;37.18782806
LOCATION:Junior League Office - 2574 E Bennett Street\, Springfield\, MO\, \, 
URL;VALUE=URI:https://beta.actnowracing.com/events/253/junior-league-charity-run-4-miles-
 4-homeless-youth-geo-93-24411774-37-18782806?tmpl=component
DESCRIPTION:Junior League 11th Annual Charity Run 4 Miles 4 Homeless YouthFUN FAMILY EV
 ENT!!\nBounce House\nBalloon Animals\nFace Painting\nSpringfield Little The
 atre Presenting Characters Dressed Up For Pictures With Kids\nKids Obstacle
  Course\nArea Business Vendor Tables\nFood Provided By Ruby's Supermarket\n
 Beer Provided by Heart of America Beverage\nJUNIOR LEAGUE 2M AGE GROUP RESU
 LTS (https://actnowracing.com/images/Events/Junior_League/JL_2M_AGE_GROUP_R
 ESULTS.pdf)\nJUNIOR LEAGUE 4M AGE GROUP RESULTS (https://actnowracing.com/i
 mages/Events/Junior_League/JL_4M_AGE_GROUP_RESULTS.pdf)\n**Showcasing Photo
 grapher Randy Bacon's "The Road I Call Home" art exhibit.\n This event was 
 imported from: https://beta.actnowracing.com/events/253/junior-league-chari
 ty-run-4-miles-4-homeless-youth-geo-93-24411774-37-18782806?tmpl=component
X-ALT-DESC;FMTTYPE=text/html:<div style="text-align: center;"><strong>Junior League 11th Annual Charity 
 Run 4 Miles 4 Homeless Youth</strong></div><p><strong>FUN FAMILY EVENT!!<br
  />Bounce House<br />Balloon Animals<br />Face Painting<br />Springfield Li
 ttle Theatre Presenting Characters Dressed Up For Pictures With Kids<br />K
 ids Obstacle Course<br />Area Business Vendor Tables<br />Food Provided By 
 Ruby's Supermarket<br />Beer Provided by Heart of America Beverage</strong>
 </p><p><a class="wf_file" href="https://actnowracing.com/images/Events/Juni
 or_League/JL_2M_AGE_GROUP_RESULTS.pdf"><span class="wf_file_text">JUNIOR LE
 AGUE 2M AGE GROUP RESULTS</span></a></p><p><a class="wf_file" href="https:/
 /actnowracing.com/images/Events/Junior_League/JL_4M_AGE_GROUP_RESULTS.pdf">
 <span class="wf_file_text">JUNIOR LEAGUE 4M AGE GROUP RESULTS</span></a></p
 ><p>**Showcasing Photographer Randy Bacon's "The Road I Call Home" art exhi
 bit.</p> <a href="https://beta.actnowracing.com/events/253/junior-league-ch
 arity-run-4-miles-4-homeless-youth-geo-93-24411774-37-18782806?tmpl=compone
 nt">This event was imported from: https://beta.actnowracing.com/events/253/
 junior-league-charity-run-4-miles-4-homeless-youth-geo-93-24411774-37-18782
 806?tmpl=component</a>CONTACT:April Loehr  at RegularLabs.EmailProtector.unCloak("ep_10b9306e");
DTSTAMP:20260422T093348
DTSTART;TZID=America/Chicago:20170422T080000
SEQUENCE:0
TRANSP:OPAQUE
END:VEVENT
END:VCALENDAR