BEGIN:VCALENDAR
VERSION:2.0
PRODID:-//jEvents 2.0 for Joomla//EN
CALSCALE:GREGORIAN
METHOD:PUBLISH
BEGIN:VTIMEZONE
TZID:America/Chicago
BEGIN:STANDARD
DTSTART:20161106T010000
RDATE:20170312T030000
TZOFFSETFROM:-0500
TZOFFSETTO:-0600
TZNAME:America/Chicago CST
END:STANDARD
BEGIN:STANDARD
DTSTART:20171105T010000
RDATE:20180311T030000
TZOFFSETFROM:-0500
TZOFFSETTO:-0600
TZNAME:America/Chicago CST
END:STANDARD
BEGIN:STANDARD
DTSTART:20181104T010000
RDATE:20190310T030000
TZOFFSETFROM:-0500
TZOFFSETTO:-0600
TZNAME:America/Chicago CST
END:STANDARD
BEGIN:STANDARD
DTSTART:20191103T010000
RDATE:20200308T030000
TZOFFSETFROM:-0500
TZOFFSETTO:-0600
TZNAME:America/Chicago CST
END:STANDARD
BEGIN:STANDARD
DTSTART:20201101T010000
RDATE:20210314T030000
TZOFFSETFROM:-0500
TZOFFSETTO:-0600
TZNAME:America/Chicago CST
END:STANDARD
BEGIN:STANDARD
DTSTART:20211107T010000
RDATE:20220313T030000
TZOFFSETFROM:-0500
TZOFFSETTO:-0600
TZNAME:America/Chicago CST
END:STANDARD
BEGIN:STANDARD
DTSTART:20221106T010000
RDATE:20230312T030000
TZOFFSETFROM:-0500
TZOFFSETTO:-0600
TZNAME:America/Chicago CST
END:STANDARD
BEGIN:STANDARD
DTSTART:20231105T010000
RDATE:20240310T030000
TZOFFSETFROM:-0500
TZOFFSETTO:-0600
TZNAME:America/Chicago CST
END:STANDARD
BEGIN:STANDARD
DTSTART:20241103T010000
RDATE:20250309T030000
TZOFFSETFROM:-0500
TZOFFSETTO:-0600
TZNAME:America/Chicago CST
END:STANDARD
BEGIN:STANDARD
DTSTART:20251102T010000
RDATE:20260308T030000
TZOFFSETFROM:-0500
TZOFFSETTO:-0600
TZNAME:America/Chicago CST
END:STANDARD
BEGIN:STANDARD
DTSTART:20261101T010000
RDATE:20270314T030000
TZOFFSETFROM:-0500
TZOFFSETTO:-0600
TZNAME:America/Chicago CST
END:STANDARD
BEGIN:STANDARD
DTSTART:20271107T010000
RDATE:20280312T030000
TZOFFSETFROM:-0500
TZOFFSETTO:-0600
TZNAME:America/Chicago CST
END:STANDARD
BEGIN:STANDARD
DTSTART:20281105T010000
RDATE:20290311T030000
TZOFFSETFROM:-0500
TZOFFSETTO:-0600
TZNAME:America/Chicago CST
END:STANDARD
BEGIN:DAYLIGHT
DTSTART:20160602T073000
RDATE:20161106T010000
TZOFFSETFROM:-0600
TZOFFSETTO:-0500
TZNAME:America/Chicago CDT
END:DAYLIGHT
BEGIN:DAYLIGHT
DTSTART:20170312T030000
RDATE:20171105T010000
TZOFFSETFROM:-0600
TZOFFSETTO:-0500
TZNAME:America/Chicago CDT
END:DAYLIGHT
BEGIN:DAYLIGHT
DTSTART:20180311T030000
RDATE:20181104T010000
TZOFFSETFROM:-0600
TZOFFSETTO:-0500
TZNAME:America/Chicago CDT
END:DAYLIGHT
BEGIN:DAYLIGHT
DTSTART:20190310T030000
RDATE:20191103T010000
TZOFFSETFROM:-0600
TZOFFSETTO:-0500
TZNAME:America/Chicago CDT
END:DAYLIGHT
BEGIN:DAYLIGHT
DTSTART:20200308T030000
RDATE:20201101T010000
TZOFFSETFROM:-0600
TZOFFSETTO:-0500
TZNAME:America/Chicago CDT
END:DAYLIGHT
BEGIN:DAYLIGHT
DTSTART:20210314T030000
RDATE:20211107T010000
TZOFFSETFROM:-0600
TZOFFSETTO:-0500
TZNAME:America/Chicago CDT
END:DAYLIGHT
BEGIN:DAYLIGHT
DTSTART:20220313T030000
RDATE:20221106T010000
TZOFFSETFROM:-0600
TZOFFSETTO:-0500
TZNAME:America/Chicago CDT
END:DAYLIGHT
BEGIN:DAYLIGHT
DTSTART:20230312T030000
RDATE:20231105T010000
TZOFFSETFROM:-0600
TZOFFSETTO:-0500
TZNAME:America/Chicago CDT
END:DAYLIGHT
BEGIN:DAYLIGHT
DTSTART:20240310T030000
RDATE:20241103T010000
TZOFFSETFROM:-0600
TZOFFSETTO:-0500
TZNAME:America/Chicago CDT
END:DAYLIGHT
BEGIN:DAYLIGHT
DTSTART:20250309T030000
RDATE:20251102T010000
TZOFFSETFROM:-0600
TZOFFSETTO:-0500
TZNAME:America/Chicago CDT
END:DAYLIGHT
BEGIN:DAYLIGHT
DTSTART:20260308T030000
RDATE:20261101T010000
TZOFFSETFROM:-0600
TZOFFSETTO:-0500
TZNAME:America/Chicago CDT
END:DAYLIGHT
BEGIN:DAYLIGHT
DTSTART:20270314T030000
RDATE:20271107T010000
TZOFFSETFROM:-0600
TZOFFSETTO:-0500
TZNAME:America/Chicago CDT
END:DAYLIGHT
BEGIN:DAYLIGHT
DTSTART:20280312T030000
RDATE:20281105T010000
TZOFFSETFROM:-0600
TZOFFSETTO:-0500
TZNAME:America/Chicago CDT
END:DAYLIGHT
END:VTIMEZONE
BEGIN:VEVENT
UID:37b3cb61c3215559c8e31b9e9d701a17
CATEGORIES:5K, 1 Mile, Fun Run/Walk
CREATED:20170315T055621
SUMMARY:Run to the Edge
GEO:-93.28991699;37.20894241
LOCATION:Run to the Edge - Jefferson Street &amp; Park Central East\, Springfield\, 
 MO\, \, 
URL;VALUE=URI:https://beta.actnowracing.com/events/267/run-to-the-edge-geo-93-28991699-37
 -20894241?tmpl=component
DESCRIPTION:Join us Saturday, June 3, 2017 at 7:30am for Run to the Edge 5K benefitting
  the Child Advocacy Center.\nVision of CAC\nWe want to end the abuse suffer
 ed by every child victim who walks through our door.\nMission of CAC\nWe pl
 ace the needs of the child first in an investigation for abuse.\nFor more i
 nformation about the Child Advocacy Center go to Childadvocacycenter.org (h
 ttps://www.childadvocacycenter.org/about-us/).\nContact Race Director Linda
  Regan at RegularLabs.EmailProtector.unCloak("ep_9d0ad70b"); for more infor
 mation.\n This event was imported from: https://beta.actnowracing.com/event
 s/267/run-to-the-edge-geo-93-28991699-37-20894241?tmpl=component
X-ALT-DESC;FMTTYPE=text/html:<p>Join us Saturday, June 3, 2017 at 7:30am for Run to the Edge 5K benefitt
 ing the Child Advocacy Center.</p><p><strong>Vision of CAC</strong><br />We
  want to end the abuse suffered by every child victim who walks through our
  door.</p><p><strong>Mission of CAC</strong><br />We place the needs of the
  child first in an investigation for abuse.</p><p>For more information abou
 t the Child Advocacy Center go to&nbsp;<span class="wf_file_text"><a href="
 https://www.childadvocacycenter.org/about-us/" class="wf_file">Childadvocac
 ycenter.org</a>.</span></p><p>Contact Race Director Linda Regan at <!-- Thi
 s email address is being protected from spambots. --><span class="cloaked_e
 mail ep_9d0ad70b"><span data-ep-b=".&#111;rg" data-ep-a="li&#110;d&#97;"><s
 pan data-ep-a="&#64;&#99;&#104;i&#108;" data-ep-b="&#101;&#110;&#116;&#101;
 r"><span data-ep-b="c&#97;&#99;y&#99;" data-ep-a="&#100;a&#100;&#118;o"></s
 pan></span></span></span><script>RegularLabs.EmailProtector.unCloak("ep_9d0
 ad70b");</script> for more information.</p> <a href="https://beta.actnowrac
 ing.com/events/267/run-to-the-edge-geo-93-28991699-37-20894241?tmpl=compone
 nt">This event was imported from: https://beta.actnowracing.com/events/267/
 run-to-the-edge-geo-93-28991699-37-20894241?tmpl=component</a>CONTACT:Race Director Linda Regan at RegularLabs.EmailProtector.unCloak("ep_63481014");.
DTSTAMP:20260424T085314
DTSTART;TZID=America/Chicago:20170603T073000
SEQUENCE:0
TRANSP:OPAQUE
END:VEVENT
END:VCALENDAR