BEGIN:VCALENDAR
VERSION:2.0
PRODID:-//jEvents 2.0 for Joomla//EN
CALSCALE:GREGORIAN
METHOD:PUBLISH
BEGIN:VTIMEZONE
TZID:America/Chicago
BEGIN:STANDARD
DTSTART:20161106T010000
RDATE:20170312T030000
TZOFFSETFROM:-0500
TZOFFSETTO:-0600
TZNAME:America/Chicago CST
END:STANDARD
BEGIN:STANDARD
DTSTART:20171105T010000
RDATE:20180311T030000
TZOFFSETFROM:-0500
TZOFFSETTO:-0600
TZNAME:America/Chicago CST
END:STANDARD
BEGIN:STANDARD
DTSTART:20181104T010000
RDATE:20190310T030000
TZOFFSETFROM:-0500
TZOFFSETTO:-0600
TZNAME:America/Chicago CST
END:STANDARD
BEGIN:STANDARD
DTSTART:20191103T010000
RDATE:20200308T030000
TZOFFSETFROM:-0500
TZOFFSETTO:-0600
TZNAME:America/Chicago CST
END:STANDARD
BEGIN:STANDARD
DTSTART:20201101T010000
RDATE:20210314T030000
TZOFFSETFROM:-0500
TZOFFSETTO:-0600
TZNAME:America/Chicago CST
END:STANDARD
BEGIN:STANDARD
DTSTART:20211107T010000
RDATE:20220313T030000
TZOFFSETFROM:-0500
TZOFFSETTO:-0600
TZNAME:America/Chicago CST
END:STANDARD
BEGIN:STANDARD
DTSTART:20221106T010000
RDATE:20230312T030000
TZOFFSETFROM:-0500
TZOFFSETTO:-0600
TZNAME:America/Chicago CST
END:STANDARD
BEGIN:STANDARD
DTSTART:20231105T010000
RDATE:20240310T030000
TZOFFSETFROM:-0500
TZOFFSETTO:-0600
TZNAME:America/Chicago CST
END:STANDARD
BEGIN:STANDARD
DTSTART:20241103T010000
RDATE:20250309T030000
TZOFFSETFROM:-0500
TZOFFSETTO:-0600
TZNAME:America/Chicago CST
END:STANDARD
BEGIN:STANDARD
DTSTART:20251102T010000
RDATE:20260308T030000
TZOFFSETFROM:-0500
TZOFFSETTO:-0600
TZNAME:America/Chicago CST
END:STANDARD
BEGIN:STANDARD
DTSTART:20261101T010000
RDATE:20270314T030000
TZOFFSETFROM:-0500
TZOFFSETTO:-0600
TZNAME:America/Chicago CST
END:STANDARD
BEGIN:STANDARD
DTSTART:20271107T010000
RDATE:20280312T030000
TZOFFSETFROM:-0500
TZOFFSETTO:-0600
TZNAME:America/Chicago CST
END:STANDARD
BEGIN:STANDARD
DTSTART:20281105T010000
RDATE:20290311T030000
TZOFFSETFROM:-0500
TZOFFSETTO:-0600
TZNAME:America/Chicago CST
END:STANDARD
BEGIN:DAYLIGHT
DTSTART:20160707T200000
RDATE:20161106T010000
TZOFFSETFROM:-0600
TZOFFSETTO:-0500
TZNAME:America/Chicago CDT
END:DAYLIGHT
BEGIN:DAYLIGHT
DTSTART:20170312T030000
RDATE:20171105T010000
TZOFFSETFROM:-0600
TZOFFSETTO:-0500
TZNAME:America/Chicago CDT
END:DAYLIGHT
BEGIN:DAYLIGHT
DTSTART:20180311T030000
RDATE:20181104T010000
TZOFFSETFROM:-0600
TZOFFSETTO:-0500
TZNAME:America/Chicago CDT
END:DAYLIGHT
BEGIN:DAYLIGHT
DTSTART:20190310T030000
RDATE:20191103T010000
TZOFFSETFROM:-0600
TZOFFSETTO:-0500
TZNAME:America/Chicago CDT
END:DAYLIGHT
BEGIN:DAYLIGHT
DTSTART:20200308T030000
RDATE:20201101T010000
TZOFFSETFROM:-0600
TZOFFSETTO:-0500
TZNAME:America/Chicago CDT
END:DAYLIGHT
BEGIN:DAYLIGHT
DTSTART:20210314T030000
RDATE:20211107T010000
TZOFFSETFROM:-0600
TZOFFSETTO:-0500
TZNAME:America/Chicago CDT
END:DAYLIGHT
BEGIN:DAYLIGHT
DTSTART:20220313T030000
RDATE:20221106T010000
TZOFFSETFROM:-0600
TZOFFSETTO:-0500
TZNAME:America/Chicago CDT
END:DAYLIGHT
BEGIN:DAYLIGHT
DTSTART:20230312T030000
RDATE:20231105T010000
TZOFFSETFROM:-0600
TZOFFSETTO:-0500
TZNAME:America/Chicago CDT
END:DAYLIGHT
BEGIN:DAYLIGHT
DTSTART:20240310T030000
RDATE:20241103T010000
TZOFFSETFROM:-0600
TZOFFSETTO:-0500
TZNAME:America/Chicago CDT
END:DAYLIGHT
BEGIN:DAYLIGHT
DTSTART:20250309T030000
RDATE:20251102T010000
TZOFFSETFROM:-0600
TZOFFSETTO:-0500
TZNAME:America/Chicago CDT
END:DAYLIGHT
BEGIN:DAYLIGHT
DTSTART:20260308T030000
RDATE:20261101T010000
TZOFFSETFROM:-0600
TZOFFSETTO:-0500
TZNAME:America/Chicago CDT
END:DAYLIGHT
BEGIN:DAYLIGHT
DTSTART:20270314T030000
RDATE:20271107T010000
TZOFFSETFROM:-0600
TZOFFSETTO:-0500
TZNAME:America/Chicago CDT
END:DAYLIGHT
BEGIN:DAYLIGHT
DTSTART:20280312T030000
RDATE:20281105T010000
TZOFFSETFROM:-0600
TZOFFSETTO:-0500
TZNAME:America/Chicago CDT
END:DAYLIGHT
END:VTIMEZONE
BEGIN:VEVENT
UID:5e201d3411f4aa15e763fb1bf368f300
CATEGORIES:Other
CREATED:20170322T063235
SUMMARY:Sweatfest
GEO:-93.13640594;37.2694931
LOCATION:Landmark Church - 200 N. Peachtree\, Strafford\, MO\, 65757\, 
URL;VALUE=URI:https://beta.actnowracing.com/events/270/sweatfest-geo-93-13640594-37-26949
 31?tmpl=component
DESCRIPTION:How would you like another chance to set a state record? or another automat
 ic P.R.? \nWe'd like to present an opportunity to set, and break, Missouri 
 State Records in 2017! SATURDAY, JULY 8TH, 2017 SWEATFEST 2 Mile, 5 Mile &a
 mp; 10 Mile.\nStrafford School Foundation is currently in need of school su
 pplies for the 2016/2017 school year.  Items most commonly requested: Backp
 acks, Pen/Paper, Folders and 3-Ring Binders, Scientific Calculators, Compos
 ition Notebooks. Primary Grades Require: Paste, Crayons, Glue Sticks, Note 
 Cards, Colored Pencils, Rulers.  MONETARY DONATIONS ALSO ACCEPTED!  Bring y
 our collection items to packet pickup or race evening to be donated.\nALL R
 UNNERS will receive a logo embroidered running cap!\nSWEATFEST 2 MILE AGE G
 ROUP RESULTS (https://actnowracing.com/images/Events/Sweatfest/2017/SWEATFE
 ST_2M_AGE_GROUP_RESULTS.pdf)\nSWEATFEST 5 MILE AGE GROUP RESULTS (https://a
 ctnowracing.com/images/Events/Sweatfest/2017/SWEATFEST_5M_AGE_GROUP_RESULTS
 .pdf)\nSWEATFEST 10 MILE AGE GROUP RESULTS\n This event was imported from: 
 https://beta.actnowracing.com/events/270/sweatfest-geo-93-13640594-37-26949
 31?tmpl=component
X-ALT-DESC;FMTTYPE=text/html:<p>How would you like another chance to set a state record? or another auto
 matic P.R.?&nbsp;</p><p>We'd like to present an opportunity to set, and bre
 ak, Missouri State Records in 2017! SATURDAY, JULY 8TH, 2017 SWEATFEST 2 Mi
 le, 5 Mile &amp; 10 Mile.</p><p>Strafford School Foundation is currently in
  need of school supplies for the 2016/2017 school year. &nbsp;<em><strong>I
 tems most commonly requested</strong></em>: Backpacks, Pen/Paper, Folders a
 nd 3-Ring Binders, Scientific Calculators, Composition Notebooks. <em><stro
 ng>Primary Grades Require:&nbsp;</strong></em>Paste, Crayons, Glue Sticks, 
 Note Cards, Colored Pencils, Rulers. &nbsp;MONETARY DONATIONS ALSO ACCEPTED
 ! <span style="text-decoration: underline;"><em>&nbsp;Bring your collection
  items to packet pickup or race evening to be donated.</em></span></p><p><s
 trong>ALL RUNNERS will receive a logo embroidered running cap!</strong></p>
 <p><span style="font-size: 12pt;"><strong><a href="https://actnowracing.com
 /images/Events/Sweatfest/2017/SWEATFEST_2M_AGE_GROUP_RESULTS.pdf" class="wf
 _file"><span class="wf_file_text">SWEATFEST 2 MILE AGE GROUP RESULTS</span>
 </a></strong></span></p><p><strong><span style="font-size: 12pt;"><a href="
 https://actnowracing.com/images/Events/Sweatfest/2017/SWEATFEST_5M_AGE_GROU
 P_RESULTS.pdf" class="wf_file"><span class="wf_file_text">SWEATFEST 5 MILE 
 AGE GROUP RESULTS</span></a></span></strong></p><p><span style="font-size: 
 12pt;"><strong><a href="https://actnowracing.com/images/Events/Sweatfest/20
 17/SWEATFEST_10M_AGE_GROUP_RESULTS.pdf" class="wf_file"><span class="wf_fil
 e_text">SWEATFEST 10 MILE AGE GROUP RESULTS</span></a></strong></span></p> 
 <a href="https://beta.actnowracing.com/events/270/sweatfest-geo-93-13640594
 -37-2694931?tmpl=component">This event was imported from: https://beta.actn
 owracing.com/events/270/sweatfest-geo-93-13640594-37-2694931?tmpl=component
 </a>CONTACT:Race Director Rod Pennington at RegularLabs.EmailProtector.unCloak("ep_5d355b87");
DTSTAMP:20260424T132506
DTSTART;TZID=America/Chicago:20170708T200000
SEQUENCE:0
TRANSP:OPAQUE
END:VEVENT
END:VCALENDAR