BEGIN:VCALENDAR
VERSION:2.0
PRODID:-//jEvents 2.0 for Joomla//EN
CALSCALE:GREGORIAN
METHOD:PUBLISH
BEGIN:VTIMEZONE
TZID:America/Chicago
BEGIN:STANDARD
DTSTART:20161106T010000
RDATE:20170312T030000
TZOFFSETFROM:-0500
TZOFFSETTO:-0600
TZNAME:America/Chicago CST
END:STANDARD
BEGIN:STANDARD
DTSTART:20171105T010000
RDATE:20180311T030000
TZOFFSETFROM:-0500
TZOFFSETTO:-0600
TZNAME:America/Chicago CST
END:STANDARD
BEGIN:STANDARD
DTSTART:20181104T010000
RDATE:20190310T030000
TZOFFSETFROM:-0500
TZOFFSETTO:-0600
TZNAME:America/Chicago CST
END:STANDARD
BEGIN:STANDARD
DTSTART:20191103T010000
RDATE:20200308T030000
TZOFFSETFROM:-0500
TZOFFSETTO:-0600
TZNAME:America/Chicago CST
END:STANDARD
BEGIN:STANDARD
DTSTART:20201101T010000
RDATE:20210314T030000
TZOFFSETFROM:-0500
TZOFFSETTO:-0600
TZNAME:America/Chicago CST
END:STANDARD
BEGIN:STANDARD
DTSTART:20211107T010000
RDATE:20220313T030000
TZOFFSETFROM:-0500
TZOFFSETTO:-0600
TZNAME:America/Chicago CST
END:STANDARD
BEGIN:STANDARD
DTSTART:20221106T010000
RDATE:20230312T030000
TZOFFSETFROM:-0500
TZOFFSETTO:-0600
TZNAME:America/Chicago CST
END:STANDARD
BEGIN:STANDARD
DTSTART:20231105T010000
RDATE:20240310T030000
TZOFFSETFROM:-0500
TZOFFSETTO:-0600
TZNAME:America/Chicago CST
END:STANDARD
BEGIN:STANDARD
DTSTART:20241103T010000
RDATE:20250309T030000
TZOFFSETFROM:-0500
TZOFFSETTO:-0600
TZNAME:America/Chicago CST
END:STANDARD
BEGIN:STANDARD
DTSTART:20251102T010000
RDATE:20260308T030000
TZOFFSETFROM:-0500
TZOFFSETTO:-0600
TZNAME:America/Chicago CST
END:STANDARD
BEGIN:STANDARD
DTSTART:20261101T010000
RDATE:20270314T030000
TZOFFSETFROM:-0500
TZOFFSETTO:-0600
TZNAME:America/Chicago CST
END:STANDARD
BEGIN:STANDARD
DTSTART:20271107T010000
RDATE:20280312T030000
TZOFFSETFROM:-0500
TZOFFSETTO:-0600
TZNAME:America/Chicago CST
END:STANDARD
BEGIN:STANDARD
DTSTART:20281105T010000
RDATE:20290311T030000
TZOFFSETFROM:-0500
TZOFFSETTO:-0600
TZNAME:America/Chicago CST
END:STANDARD
BEGIN:DAYLIGHT
DTSTART:20160811T080000
RDATE:20161106T010000
TZOFFSETFROM:-0600
TZOFFSETTO:-0500
TZNAME:America/Chicago CDT
END:DAYLIGHT
BEGIN:DAYLIGHT
DTSTART:20170312T030000
RDATE:20171105T010000
TZOFFSETFROM:-0600
TZOFFSETTO:-0500
TZNAME:America/Chicago CDT
END:DAYLIGHT
BEGIN:DAYLIGHT
DTSTART:20180311T030000
RDATE:20181104T010000
TZOFFSETFROM:-0600
TZOFFSETTO:-0500
TZNAME:America/Chicago CDT
END:DAYLIGHT
BEGIN:DAYLIGHT
DTSTART:20190310T030000
RDATE:20191103T010000
TZOFFSETFROM:-0600
TZOFFSETTO:-0500
TZNAME:America/Chicago CDT
END:DAYLIGHT
BEGIN:DAYLIGHT
DTSTART:20200308T030000
RDATE:20201101T010000
TZOFFSETFROM:-0600
TZOFFSETTO:-0500
TZNAME:America/Chicago CDT
END:DAYLIGHT
BEGIN:DAYLIGHT
DTSTART:20210314T030000
RDATE:20211107T010000
TZOFFSETFROM:-0600
TZOFFSETTO:-0500
TZNAME:America/Chicago CDT
END:DAYLIGHT
BEGIN:DAYLIGHT
DTSTART:20220313T030000
RDATE:20221106T010000
TZOFFSETFROM:-0600
TZOFFSETTO:-0500
TZNAME:America/Chicago CDT
END:DAYLIGHT
BEGIN:DAYLIGHT
DTSTART:20230312T030000
RDATE:20231105T010000
TZOFFSETFROM:-0600
TZOFFSETTO:-0500
TZNAME:America/Chicago CDT
END:DAYLIGHT
BEGIN:DAYLIGHT
DTSTART:20240310T030000
RDATE:20241103T010000
TZOFFSETFROM:-0600
TZOFFSETTO:-0500
TZNAME:America/Chicago CDT
END:DAYLIGHT
BEGIN:DAYLIGHT
DTSTART:20250309T030000
RDATE:20251102T010000
TZOFFSETFROM:-0600
TZOFFSETTO:-0500
TZNAME:America/Chicago CDT
END:DAYLIGHT
BEGIN:DAYLIGHT
DTSTART:20260308T030000
RDATE:20261101T010000
TZOFFSETFROM:-0600
TZOFFSETTO:-0500
TZNAME:America/Chicago CDT
END:DAYLIGHT
BEGIN:DAYLIGHT
DTSTART:20270314T030000
RDATE:20271107T010000
TZOFFSETFROM:-0600
TZOFFSETTO:-0500
TZNAME:America/Chicago CDT
END:DAYLIGHT
BEGIN:DAYLIGHT
DTSTART:20280312T030000
RDATE:20281105T010000
TZOFFSETFROM:-0600
TZOFFSETTO:-0500
TZNAME:America/Chicago CDT
END:DAYLIGHT
END:VTIMEZONE
BEGIN:VEVENT
UID:90f20bbf6828ee771d9fd868de3f40f0
CATEGORIES:Other
CREATED:20170330T192443
SUMMARY:Route 66 6.6K & 3.3K
GEO:-93.28524017;37.20944595
LOCATION:Springfield Expo Center - 635 E St Louis Street\, Springfield\, MO\, \, 
URL;VALUE=URI:https://beta.actnowracing.com/events/274/route-66-6-6k-3-3k-geo-93-28524017
 -37-20944595?tmpl=component
DESCRIPTION:<p>The OFFICIAL Route 66 run is back and better then ever. &nbsp;Experience
  the historic Mother Road on foot through historic downtown Springfield. &n
 bsp;The age division awards have been modified to reflect the classificatio
 n of a car. &nbsp; In a addition to a premium cotton t-shirt, <span style="
 text-decoration: underline;">all</span> participants will receive a custom 
 Route 66 lapel pin at the finishers line. &nbsp;Stay after the race to enjo
 y all the live music, car show, food, and entertainment that the Route 66 f
 estival has to offer.</p><div id="3D60"><iframe src="//3d60.us/1997775882/i
 ndex.html" width="100%" height="auto" style="width: 100%; height: auto; min
 -height: 400px;"></iframe></div> <a href="https://beta.actnowracing.com/eve
 nts/274/route-66-6-6k-3-3k-geo-93-28524017-37-20944595?tmpl=component">This
  event was imported from: https://beta.actnowracing.com/events/274/route-66
 -6-6k-3-3k-geo-93-28524017-37-20944595?tmpl=component</a>
X-ALT-DESC;FMTTYPE=text/html:<p>The OFFICIAL Route 66 run is back and better then ever. &nbsp;Experience
  the historic Mother Road on foot through historic downtown Springfield. &n
 bsp;The age division awards have been modified to reflect the classificatio
 n of a car. &nbsp; In a addition to a premium cotton t-shirt, <span style="
 text-decoration: underline;">all</span> participants will receive a custom 
 Route 66 lapel pin at the finishers line. &nbsp;Stay after the race to enjo
 y all the live music, car show, food, and entertainment that the Route 66 f
 estival has to offer.</p><div id="3D60"><iframe src="https://beta.actnowrac
 ing.com//3d60.us/1997775882/index.html" width="100%" height="auto" style="w
 idth: 100%; height: auto; min-height: 400px;"></iframe></div> <a href="http
 s://beta.actnowracing.com/events/274/route-66-6-6k-3-3k-geo-93-28524017-37-
 20944595?tmpl=component">This event was imported from: https://beta.actnowr
 acing.com/events/274/route-66-6-6k-3-3k-geo-93-28524017-37-20944595?tmpl=co
 mponent</a>DTSTAMP:20260424T131946
DTSTART;TZID=America/Chicago:20170812T080000
SEQUENCE:0
TRANSP:OPAQUE
END:VEVENT
END:VCALENDAR