BEGIN:VCALENDAR
VERSION:2.0
PRODID:-//jEvents 2.0 for Joomla//EN
CALSCALE:GREGORIAN
METHOD:PUBLISH
BEGIN:VTIMEZONE
TZID:America/Chicago
BEGIN:STANDARD
DTSTART:20161106T010000
RDATE:20170312T030000
TZOFFSETFROM:-0500
TZOFFSETTO:-0600
TZNAME:America/Chicago CST
END:STANDARD
BEGIN:STANDARD
DTSTART:20171105T010000
RDATE:20180311T030000
TZOFFSETFROM:-0500
TZOFFSETTO:-0600
TZNAME:America/Chicago CST
END:STANDARD
BEGIN:STANDARD
DTSTART:20181104T010000
RDATE:20190310T030000
TZOFFSETFROM:-0500
TZOFFSETTO:-0600
TZNAME:America/Chicago CST
END:STANDARD
BEGIN:STANDARD
DTSTART:20191103T010000
RDATE:20200308T030000
TZOFFSETFROM:-0500
TZOFFSETTO:-0600
TZNAME:America/Chicago CST
END:STANDARD
BEGIN:STANDARD
DTSTART:20201101T010000
RDATE:20210314T030000
TZOFFSETFROM:-0500
TZOFFSETTO:-0600
TZNAME:America/Chicago CST
END:STANDARD
BEGIN:STANDARD
DTSTART:20211107T010000
RDATE:20220313T030000
TZOFFSETFROM:-0500
TZOFFSETTO:-0600
TZNAME:America/Chicago CST
END:STANDARD
BEGIN:STANDARD
DTSTART:20221106T010000
RDATE:20230312T030000
TZOFFSETFROM:-0500
TZOFFSETTO:-0600
TZNAME:America/Chicago CST
END:STANDARD
BEGIN:STANDARD
DTSTART:20231105T010000
RDATE:20240310T030000
TZOFFSETFROM:-0500
TZOFFSETTO:-0600
TZNAME:America/Chicago CST
END:STANDARD
BEGIN:STANDARD
DTSTART:20241103T010000
RDATE:20250309T030000
TZOFFSETFROM:-0500
TZOFFSETTO:-0600
TZNAME:America/Chicago CST
END:STANDARD
BEGIN:STANDARD
DTSTART:20251102T010000
RDATE:20260308T030000
TZOFFSETFROM:-0500
TZOFFSETTO:-0600
TZNAME:America/Chicago CST
END:STANDARD
BEGIN:STANDARD
DTSTART:20261101T010000
RDATE:20270314T030000
TZOFFSETFROM:-0500
TZOFFSETTO:-0600
TZNAME:America/Chicago CST
END:STANDARD
BEGIN:STANDARD
DTSTART:20271107T010000
RDATE:20280312T030000
TZOFFSETFROM:-0500
TZOFFSETTO:-0600
TZNAME:America/Chicago CST
END:STANDARD
BEGIN:STANDARD
DTSTART:20281105T010000
RDATE:20290311T030000
TZOFFSETFROM:-0500
TZOFFSETTO:-0600
TZNAME:America/Chicago CST
END:STANDARD
BEGIN:DAYLIGHT
DTSTART:20160818T190000
RDATE:20161106T010000
TZOFFSETFROM:-0600
TZOFFSETTO:-0500
TZNAME:America/Chicago CDT
END:DAYLIGHT
BEGIN:DAYLIGHT
DTSTART:20170312T030000
RDATE:20171105T010000
TZOFFSETFROM:-0600
TZOFFSETTO:-0500
TZNAME:America/Chicago CDT
END:DAYLIGHT
BEGIN:DAYLIGHT
DTSTART:20180311T030000
RDATE:20181104T010000
TZOFFSETFROM:-0600
TZOFFSETTO:-0500
TZNAME:America/Chicago CDT
END:DAYLIGHT
BEGIN:DAYLIGHT
DTSTART:20190310T030000
RDATE:20191103T010000
TZOFFSETFROM:-0600
TZOFFSETTO:-0500
TZNAME:America/Chicago CDT
END:DAYLIGHT
BEGIN:DAYLIGHT
DTSTART:20200308T030000
RDATE:20201101T010000
TZOFFSETFROM:-0600
TZOFFSETTO:-0500
TZNAME:America/Chicago CDT
END:DAYLIGHT
BEGIN:DAYLIGHT
DTSTART:20210314T030000
RDATE:20211107T010000
TZOFFSETFROM:-0600
TZOFFSETTO:-0500
TZNAME:America/Chicago CDT
END:DAYLIGHT
BEGIN:DAYLIGHT
DTSTART:20220313T030000
RDATE:20221106T010000
TZOFFSETFROM:-0600
TZOFFSETTO:-0500
TZNAME:America/Chicago CDT
END:DAYLIGHT
BEGIN:DAYLIGHT
DTSTART:20230312T030000
RDATE:20231105T010000
TZOFFSETFROM:-0600
TZOFFSETTO:-0500
TZNAME:America/Chicago CDT
END:DAYLIGHT
BEGIN:DAYLIGHT
DTSTART:20240310T030000
RDATE:20241103T010000
TZOFFSETFROM:-0600
TZOFFSETTO:-0500
TZNAME:America/Chicago CDT
END:DAYLIGHT
BEGIN:DAYLIGHT
DTSTART:20250309T030000
RDATE:20251102T010000
TZOFFSETFROM:-0600
TZOFFSETTO:-0500
TZNAME:America/Chicago CDT
END:DAYLIGHT
BEGIN:DAYLIGHT
DTSTART:20260308T030000
RDATE:20261101T010000
TZOFFSETFROM:-0600
TZOFFSETTO:-0500
TZNAME:America/Chicago CDT
END:DAYLIGHT
BEGIN:DAYLIGHT
DTSTART:20270314T030000
RDATE:20271107T010000
TZOFFSETFROM:-0600
TZOFFSETTO:-0500
TZNAME:America/Chicago CDT
END:DAYLIGHT
BEGIN:DAYLIGHT
DTSTART:20280312T030000
RDATE:20281105T010000
TZOFFSETFROM:-0600
TZOFFSETTO:-0500
TZNAME:America/Chicago CDT
END:DAYLIGHT
END:VTIMEZONE
BEGIN:VEVENT
UID:06dc518909bb63907ff8bb794e6e0197
CATEGORIES:Half Marathon
CREATED:20170711T035304
SUMMARY:Harder than Hell Half Marathon
GEO:-93.3267746;37.04087448
LOCATION:Nixa High School - 514 South Nicholas Road\, Nixa\, MO\, 65714\, 
URL;VALUE=URI:https://beta.actnowracing.com/events/316/harder-than-hell-half-marathon-geo
 -93-3267746-37-04087448?tmpl=component
DESCRIPTION:Today, we run in honor of those who are not able to. We run because we can.
 \nAmyotrophic lateral sclerosis (ALS), also known as Lou Gehrig's Disease, 
 is a progressive neurodegen-erative disease that affects nerve cells in the
  brain and the spinal cord. Voluntary muscle action is progressively affect
 ed when motor neuron cells die, and patients in the later stages of the dis
 ease may become totally paralyzed. Yet, through it all, most people's minds
  remain unaffected. Life expectancy for most people with ALS is usually two
  to five years following diagnosis, but with recent advances in research an
 d improved medical care, many patients are living longer, more productive l
 ives. As many as 30,000 Americans may be currently affected by ALS, and the
 re is no known cause and no cure for ALS.\nHaley's Hope was established in 
 honor of a beloved daughter, sister, and friend—Haley Stevens—who was diagn
 osed with ALS at the age of 16. During her short battle, her family and fri
 ends knew that the only way to help others afflicted with this awful diseas
 e was to start raising money to help others afflicted with this disease.\nT
 oday, you run—in Haley's memory—to spread awareness and to raise money for 
 a cure.\n (https://actnowracing.com/images/Events/Harder_than_Hell_Half_Mar
 athon/2016/HTH_AGE_GROUPS.pdf)\n This event was imported from: https://beta
 .actnowracing.com/events/316/harder-than-hell-half-marathon-geo-93-3267746-
 37-04087448?tmpl=component
X-ALT-DESC;FMTTYPE=text/html:<p><strong><em>Today, we run in honor of those who are not able to. We run 
 because we can.</em></strong><br />Amyotrophic lateral sclerosis (ALS), als
 o known as Lou Gehrig's Disease, is a progressive neurodegen-erative diseas
 e that affects nerve cells in the brain and the spinal cord. Voluntary musc
 le action is progressively affected when motor neuron cells die, and patien
 ts in the later stages of the disease may become totally paralyzed. Yet, th
 rough it all, most people's minds remain unaffected. Life expectancy for mo
 st people with ALS is usually two to five years following diagnosis, but wi
 th recent advances in research and improved medical care, many patients are
  living longer, more productive lives. As many as 30,000 Americans may be c
 urrently affected by ALS, and there is no known cause and no cure for ALS.<
 br />Haley's Hope was established in honor of a beloved daughter, sister, a
 nd friend—Haley Stevens—who was diagnosed with ALS at the age of 16. During
  her short battle, her family and friends knew that the only way to help ot
 hers afflicted with this awful disease was to start raising money to help o
 thers afflicted with this disease.<br /><em><strong>Today, you run—in Haley
 's memory—to spread awareness and to raise money for a cure.</strong></em><
 /p><p><a href="https://actnowracing.com/images/Events/Harder_than_Hell_Half
 _Marathon/2016/HTH_AGE_GROUPS.pdf" class="wf_file"><span class="wf_file_tex
 t"></span></a></p> <a href="https://beta.actnowracing.com/events/316/harder
 -than-hell-half-marathon-geo-93-3267746-37-04087448?tmpl=component">This ev
 ent was imported from: https://beta.actnowracing.com/events/316/harder-than
 -hell-half-marathon-geo-93-3267746-37-04087448?tmpl=component</a>CONTACT:Race Director Rod Pennington 417-881-7595 or email RegularLabs.EmailProtector.unCloak("ep_561fa5b4");
DTSTAMP:20260424T145116
DTSTART;TZID=America/Chicago:20170819T190000
SEQUENCE:0
TRANSP:OPAQUE
END:VEVENT
END:VCALENDAR