BEGIN:VCALENDAR
VERSION:2.0
PRODID:-//jEvents 2.0 for Joomla//EN
CALSCALE:GREGORIAN
METHOD:PUBLISH
BEGIN:VTIMEZONE
TZID:America/Chicago
BEGIN:STANDARD
DTSTART:20161106T010000
RDATE:20170312T030000
TZOFFSETFROM:-0500
TZOFFSETTO:-0600
TZNAME:America/Chicago CST
END:STANDARD
BEGIN:STANDARD
DTSTART:20171105T010000
RDATE:20180311T030000
TZOFFSETFROM:-0500
TZOFFSETTO:-0600
TZNAME:America/Chicago CST
END:STANDARD
BEGIN:STANDARD
DTSTART:20181104T010000
RDATE:20190310T030000
TZOFFSETFROM:-0500
TZOFFSETTO:-0600
TZNAME:America/Chicago CST
END:STANDARD
BEGIN:STANDARD
DTSTART:20191103T010000
RDATE:20200308T030000
TZOFFSETFROM:-0500
TZOFFSETTO:-0600
TZNAME:America/Chicago CST
END:STANDARD
BEGIN:STANDARD
DTSTART:20201101T010000
RDATE:20210314T030000
TZOFFSETFROM:-0500
TZOFFSETTO:-0600
TZNAME:America/Chicago CST
END:STANDARD
BEGIN:STANDARD
DTSTART:20211107T010000
RDATE:20220313T030000
TZOFFSETFROM:-0500
TZOFFSETTO:-0600
TZNAME:America/Chicago CST
END:STANDARD
BEGIN:STANDARD
DTSTART:20221106T010000
RDATE:20230312T030000
TZOFFSETFROM:-0500
TZOFFSETTO:-0600
TZNAME:America/Chicago CST
END:STANDARD
BEGIN:STANDARD
DTSTART:20231105T010000
RDATE:20240310T030000
TZOFFSETFROM:-0500
TZOFFSETTO:-0600
TZNAME:America/Chicago CST
END:STANDARD
BEGIN:STANDARD
DTSTART:20241103T010000
RDATE:20250309T030000
TZOFFSETFROM:-0500
TZOFFSETTO:-0600
TZNAME:America/Chicago CST
END:STANDARD
BEGIN:STANDARD
DTSTART:20251102T010000
RDATE:20260308T030000
TZOFFSETFROM:-0500
TZOFFSETTO:-0600
TZNAME:America/Chicago CST
END:STANDARD
BEGIN:STANDARD
DTSTART:20261101T010000
RDATE:20270314T030000
TZOFFSETFROM:-0500
TZOFFSETTO:-0600
TZNAME:America/Chicago CST
END:STANDARD
BEGIN:STANDARD
DTSTART:20271107T010000
RDATE:20280312T030000
TZOFFSETFROM:-0500
TZOFFSETTO:-0600
TZNAME:America/Chicago CST
END:STANDARD
BEGIN:STANDARD
DTSTART:20281105T010000
RDATE:20290311T030000
TZOFFSETFROM:-0500
TZOFFSETTO:-0600
TZNAME:America/Chicago CST
END:STANDARD
BEGIN:DAYLIGHT
DTSTART:20160915T193000
RDATE:20161106T010000
TZOFFSETFROM:-0600
TZOFFSETTO:-0500
TZNAME:America/Chicago CDT
END:DAYLIGHT
BEGIN:DAYLIGHT
DTSTART:20170312T030000
RDATE:20171105T010000
TZOFFSETFROM:-0600
TZOFFSETTO:-0500
TZNAME:America/Chicago CDT
END:DAYLIGHT
BEGIN:DAYLIGHT
DTSTART:20180311T030000
RDATE:20181104T010000
TZOFFSETFROM:-0600
TZOFFSETTO:-0500
TZNAME:America/Chicago CDT
END:DAYLIGHT
BEGIN:DAYLIGHT
DTSTART:20190310T030000
RDATE:20191103T010000
TZOFFSETFROM:-0600
TZOFFSETTO:-0500
TZNAME:America/Chicago CDT
END:DAYLIGHT
BEGIN:DAYLIGHT
DTSTART:20200308T030000
RDATE:20201101T010000
TZOFFSETFROM:-0600
TZOFFSETTO:-0500
TZNAME:America/Chicago CDT
END:DAYLIGHT
BEGIN:DAYLIGHT
DTSTART:20210314T030000
RDATE:20211107T010000
TZOFFSETFROM:-0600
TZOFFSETTO:-0500
TZNAME:America/Chicago CDT
END:DAYLIGHT
BEGIN:DAYLIGHT
DTSTART:20220313T030000
RDATE:20221106T010000
TZOFFSETFROM:-0600
TZOFFSETTO:-0500
TZNAME:America/Chicago CDT
END:DAYLIGHT
BEGIN:DAYLIGHT
DTSTART:20230312T030000
RDATE:20231105T010000
TZOFFSETFROM:-0600
TZOFFSETTO:-0500
TZNAME:America/Chicago CDT
END:DAYLIGHT
BEGIN:DAYLIGHT
DTSTART:20240310T030000
RDATE:20241103T010000
TZOFFSETFROM:-0600
TZOFFSETTO:-0500
TZNAME:America/Chicago CDT
END:DAYLIGHT
BEGIN:DAYLIGHT
DTSTART:20250309T030000
RDATE:20251102T010000
TZOFFSETFROM:-0600
TZOFFSETTO:-0500
TZNAME:America/Chicago CDT
END:DAYLIGHT
BEGIN:DAYLIGHT
DTSTART:20260308T030000
RDATE:20261101T010000
TZOFFSETFROM:-0600
TZOFFSETTO:-0500
TZNAME:America/Chicago CDT
END:DAYLIGHT
BEGIN:DAYLIGHT
DTSTART:20270314T030000
RDATE:20271107T010000
TZOFFSETFROM:-0600
TZOFFSETTO:-0500
TZNAME:America/Chicago CDT
END:DAYLIGHT
BEGIN:DAYLIGHT
DTSTART:20280312T030000
RDATE:20281105T010000
TZOFFSETFROM:-0600
TZOFFSETTO:-0500
TZNAME:America/Chicago CDT
END:DAYLIGHT
END:VTIMEZONE
BEGIN:VEVENT
UID:490e5ae326d5839c1a80b7a5893d57e3
CATEGORIES:5K
CREATED:20170724T055429
SUMMARY:Illuminating the Darkness
GEO:-93.34329224;37.12202072
LOCATION:McBride Elementary - 5005 S. Farm Road 135\, Springfield\, MO\, \, 
URL;VALUE=URI:https://beta.actnowracing.com/events/321/illuminating-the-darkness-geo-93-3
 4329224-37-12202072?tmpl=component
DESCRIPTION:Illuminating the Darkness 5k Run/Walk is as special evening dedicated to ra
 ising awareness for suicide prevention. This 5K Timed Run and 1 Mile Walk w
 ill allow all participants to receive a unique t-shirt and glow gear. This 
 is the areas coolest, most eye dazzling illuminated nighttime 5K with sound
 s of our Amazing DJ, glow Zone and Photo Booth! Also featured is a special 
 salute to our fallen veterans, who lose their lives daily to suicide and an
  Illuminated memorial garden where participants can purchase a plastic ligh
 ted luminary for displaying the memorial garden at the event. The race cour
 se is exceptionally scenic with minimal hills.100% of the proceeds for this
  event will benefit NAMI SWMO and our efforts to help awareness about menta
 l illness and suicide prevention. This event was imported from: https://bet
 a.actnowracing.com/events/321/illuminating-the-darkness-geo-93-34329224-37-
 12202072?tmpl=component
X-ALT-DESC;FMTTYPE=text/html:Illuminating the Darkness 5k Run/Walk is as special evening dedicated to ra
 ising awareness for suicide prevention. This 5K Timed Run and 1 Mile Walk w
 ill allow all participants to receive a unique t-shirt and glow gear. This 
 is the areas coolest, most eye dazzling illuminated nighttime 5K with sound
 s of our Amazing DJ, glow Zone and Photo Booth! Also featured is a special 
 salute to our fallen veterans, who lose their lives daily to suicide and an
  Illuminated memorial garden where participants can purchase a plastic ligh
 ted luminary for displaying the memorial garden at the event. The race cour
 se is exceptionally scenic with minimal hills.100% of the proceeds for this
  event will benefit NAMI SWMO and our efforts to help awareness about menta
 l illness and suicide prevention. <a href="https://beta.actnowracing.com/ev
 ents/321/illuminating-the-darkness-geo-93-34329224-37-12202072?tmpl=compone
 nt">This event was imported from: https://beta.actnowracing.com/events/321/
 illuminating-the-darkness-geo-93-34329224-37-12202072?tmpl=component</a>CONTACT:Stephanie at RegularLabs.EmailProtector.unCloak("ep_c41d0762");
DTSTAMP:20260425T031303
DTSTART;TZID=America/Chicago:20170916T193000
SEQUENCE:0
TRANSP:OPAQUE
END:VEVENT
END:VCALENDAR