BEGIN:VCALENDAR
VERSION:2.0
PRODID:-//jEvents 2.0 for Joomla//EN
CALSCALE:GREGORIAN
METHOD:PUBLISH
BEGIN:VTIMEZONE
TZID:America/Chicago
BEGIN:STANDARD
DTSTART:20161106T010000
RDATE:20170312T030000
TZOFFSETFROM:-0500
TZOFFSETTO:-0600
TZNAME:America/Chicago CST
END:STANDARD
BEGIN:STANDARD
DTSTART:20171105T010000
RDATE:20180311T030000
TZOFFSETFROM:-0500
TZOFFSETTO:-0600
TZNAME:America/Chicago CST
END:STANDARD
BEGIN:STANDARD
DTSTART:20181104T010000
RDATE:20190310T030000
TZOFFSETFROM:-0500
TZOFFSETTO:-0600
TZNAME:America/Chicago CST
END:STANDARD
BEGIN:STANDARD
DTSTART:20191103T010000
RDATE:20200308T030000
TZOFFSETFROM:-0500
TZOFFSETTO:-0600
TZNAME:America/Chicago CST
END:STANDARD
BEGIN:STANDARD
DTSTART:20201101T010000
RDATE:20210314T030000
TZOFFSETFROM:-0500
TZOFFSETTO:-0600
TZNAME:America/Chicago CST
END:STANDARD
BEGIN:STANDARD
DTSTART:20211107T010000
RDATE:20220313T030000
TZOFFSETFROM:-0500
TZOFFSETTO:-0600
TZNAME:America/Chicago CST
END:STANDARD
BEGIN:STANDARD
DTSTART:20221106T010000
RDATE:20230312T030000
TZOFFSETFROM:-0500
TZOFFSETTO:-0600
TZNAME:America/Chicago CST
END:STANDARD
BEGIN:STANDARD
DTSTART:20231105T010000
RDATE:20240310T030000
TZOFFSETFROM:-0500
TZOFFSETTO:-0600
TZNAME:America/Chicago CST
END:STANDARD
BEGIN:STANDARD
DTSTART:20241103T010000
RDATE:20250309T030000
TZOFFSETFROM:-0500
TZOFFSETTO:-0600
TZNAME:America/Chicago CST
END:STANDARD
BEGIN:STANDARD
DTSTART:20251102T010000
RDATE:20260308T030000
TZOFFSETFROM:-0500
TZOFFSETTO:-0600
TZNAME:America/Chicago CST
END:STANDARD
BEGIN:STANDARD
DTSTART:20261101T010000
RDATE:20270314T030000
TZOFFSETFROM:-0500
TZOFFSETTO:-0600
TZNAME:America/Chicago CST
END:STANDARD
BEGIN:STANDARD
DTSTART:20271107T010000
RDATE:20280312T030000
TZOFFSETFROM:-0500
TZOFFSETTO:-0600
TZNAME:America/Chicago CST
END:STANDARD
BEGIN:STANDARD
DTSTART:20281105T010000
RDATE:20290311T030000
TZOFFSETFROM:-0500
TZOFFSETTO:-0600
TZNAME:America/Chicago CST
END:STANDARD
BEGIN:DAYLIGHT
DTSTART:20160922T080000
RDATE:20161106T010000
TZOFFSETFROM:-0600
TZOFFSETTO:-0500
TZNAME:America/Chicago CDT
END:DAYLIGHT
BEGIN:DAYLIGHT
DTSTART:20170312T030000
RDATE:20171105T010000
TZOFFSETFROM:-0600
TZOFFSETTO:-0500
TZNAME:America/Chicago CDT
END:DAYLIGHT
BEGIN:DAYLIGHT
DTSTART:20180311T030000
RDATE:20181104T010000
TZOFFSETFROM:-0600
TZOFFSETTO:-0500
TZNAME:America/Chicago CDT
END:DAYLIGHT
BEGIN:DAYLIGHT
DTSTART:20190310T030000
RDATE:20191103T010000
TZOFFSETFROM:-0600
TZOFFSETTO:-0500
TZNAME:America/Chicago CDT
END:DAYLIGHT
BEGIN:DAYLIGHT
DTSTART:20200308T030000
RDATE:20201101T010000
TZOFFSETFROM:-0600
TZOFFSETTO:-0500
TZNAME:America/Chicago CDT
END:DAYLIGHT
BEGIN:DAYLIGHT
DTSTART:20210314T030000
RDATE:20211107T010000
TZOFFSETFROM:-0600
TZOFFSETTO:-0500
TZNAME:America/Chicago CDT
END:DAYLIGHT
BEGIN:DAYLIGHT
DTSTART:20220313T030000
RDATE:20221106T010000
TZOFFSETFROM:-0600
TZOFFSETTO:-0500
TZNAME:America/Chicago CDT
END:DAYLIGHT
BEGIN:DAYLIGHT
DTSTART:20230312T030000
RDATE:20231105T010000
TZOFFSETFROM:-0600
TZOFFSETTO:-0500
TZNAME:America/Chicago CDT
END:DAYLIGHT
BEGIN:DAYLIGHT
DTSTART:20240310T030000
RDATE:20241103T010000
TZOFFSETFROM:-0600
TZOFFSETTO:-0500
TZNAME:America/Chicago CDT
END:DAYLIGHT
BEGIN:DAYLIGHT
DTSTART:20250309T030000
RDATE:20251102T010000
TZOFFSETFROM:-0600
TZOFFSETTO:-0500
TZNAME:America/Chicago CDT
END:DAYLIGHT
BEGIN:DAYLIGHT
DTSTART:20260308T030000
RDATE:20261101T010000
TZOFFSETFROM:-0600
TZOFFSETTO:-0500
TZNAME:America/Chicago CDT
END:DAYLIGHT
BEGIN:DAYLIGHT
DTSTART:20270314T030000
RDATE:20271107T010000
TZOFFSETFROM:-0600
TZOFFSETTO:-0500
TZNAME:America/Chicago CDT
END:DAYLIGHT
BEGIN:DAYLIGHT
DTSTART:20280312T030000
RDATE:20281105T010000
TZOFFSETFROM:-0600
TZOFFSETTO:-0500
TZNAME:America/Chicago CDT
END:DAYLIGHT
END:VTIMEZONE
BEGIN:VEVENT
UID:df87149280fc4af5b9fee5868bbda08f
CATEGORIES:5K, 10K, Fun Run/Walk
CREATED:20170727T045524
SUMMARY:Reach for the Stars
GEO:-93.30027008;37.19074249
LOCATION:JFK Stadium - 1333 S. Grant Ave\, Springfield\, MO\, \, 
URL;VALUE=URI:https://beta.actnowracing.com/events/322/reach-for-the-stars-geo-93-3002700
 8-37-19074249?tmpl=component
DESCRIPTION:Shining Stars Early Childhood Center is excited to present the second annua
 l Reach for the Stars! Our goal is to improve the quality of the playground
  in order to give students meaningful experiences as they develop their gro
 ss motor skills. Shining Stars Early Childhood Center provides special educ
 ation services to students age 3 to 5 with significant developmental delays
 .\nAll proceeds from the event will be donated to Shining Stars Early Child
 hood Center to make purchases and improvements to their playground. Gross m
 otor skills are the skills needed to control the large muscles of the body 
 in a controlled and coordinated way. The window to develop gross motor skil
 ls is a relatively narrow one, therefore it is crucial to provide opportuni
 ties for these skills to develop. Gross motor skills begin developing at bi
 rth with the most critical time for development occurring between eighteen 
 (1.5 years) and sixty months (5 years) of age. According to the National As
 sociation for the Education of Young Children, some children entering kinde
 rgarten may exhibit developmental delays in gross motor skills if they do n
 ot have sufficient opportunities to learn and practice these active skills 
 during early childhood. Research also supports that children who engage in 
 physical activity regularly have increased attention spans which are necess
 ary for successful academic participation in school settings.\n (https://ac
 tnowracing.com/images/Events/REACH_FOR_THE_STARS/REACH_FOR_THE_STARS_AGE_GR
 OUP_RESULTS.pdf)\n This event was imported from: https://beta.actnowracing.
 com/events/322/reach-for-the-stars-geo-93-30027008-37-19074249?tmpl=compone
 nt
X-ALT-DESC;FMTTYPE=text/html:<p>Shining Stars Early Childhood Center is excited to present the second an
 nual Reach for the Stars! Our goal is to improve the quality of the playgro
 und in order to give students meaningful experiences as they develop their 
 gross motor skills. Shining Stars Early Childhood Center provides special e
 ducation services to students age 3 to 5 with significant developmental del
 ays.</p><p>All proceeds from the event will be donated to Shining Stars Ear
 ly Childhood Center to make purchases and improvements to their playground.
  Gross motor skills are the skills needed to control the large muscles of t
 he body in a controlled and coordinated way. The window to develop gross mo
 tor skills is a relatively narrow one, therefore it is crucial to provide o
 pportunities for these skills to develop. Gross motor skills begin developi
 ng at birth with the most critical time for development occurring between e
 ighteen (1.5 years) and sixty months (5 years) of age. According to the Nat
 ional Association for the Education of Young Children, some children enteri
 ng kindergarten may exhibit developmental delays in gross motor skills if t
 hey do not have sufficient opportunities to learn and practice these active
  skills during early childhood. Research also supports that children who en
 gage in physical activity regularly have increased attention spans which ar
 e necessary for successful academic participation in school settings.</p><p
 ><span style="font-size: 12pt;"><strong><a href="https://actnowracing.com/i
 mages/Events/REACH_FOR_THE_STARS/REACH_FOR_THE_STARS_AGE_GROUP_RESULTS.pdf"
  class="wf_file"><span class="wf_file_text"></span></a></strong></span></p>
  <a href="https://beta.actnowracing.com/events/322/reach-for-the-stars-geo-
 93-30027008-37-19074249?tmpl=component">This event was imported from: https
 ://beta.actnowracing.com/events/322/reach-for-the-stars-geo-93-30027008-37-
 19074249?tmpl=component</a>CONTACT:Ellie Crumbaugh at 	RegularLabs.EmailProtector.unCloak("ep_39a90d13");
DTSTAMP:20260424T233136
DTSTART;TZID=America/Chicago:20170923T080000
SEQUENCE:0
TRANSP:OPAQUE
END:VEVENT
END:VCALENDAR