BEGIN:VCALENDAR
VERSION:2.0
PRODID:-//jEvents 2.0 for Joomla//EN
CALSCALE:GREGORIAN
METHOD:PUBLISH
BEGIN:VTIMEZONE
TZID:America/Chicago
BEGIN:STANDARD
DTSTART:20171105T010000
RDATE:20180311T030000
TZOFFSETFROM:-0500
TZOFFSETTO:-0600
TZNAME:America/Chicago CST
END:STANDARD
BEGIN:STANDARD
DTSTART:20181104T010000
RDATE:20190310T030000
TZOFFSETFROM:-0500
TZOFFSETTO:-0600
TZNAME:America/Chicago CST
END:STANDARD
BEGIN:STANDARD
DTSTART:20191103T010000
RDATE:20200308T030000
TZOFFSETFROM:-0500
TZOFFSETTO:-0600
TZNAME:America/Chicago CST
END:STANDARD
BEGIN:STANDARD
DTSTART:20201101T010000
RDATE:20210314T030000
TZOFFSETFROM:-0500
TZOFFSETTO:-0600
TZNAME:America/Chicago CST
END:STANDARD
BEGIN:STANDARD
DTSTART:20211107T010000
RDATE:20220313T030000
TZOFFSETFROM:-0500
TZOFFSETTO:-0600
TZNAME:America/Chicago CST
END:STANDARD
BEGIN:STANDARD
DTSTART:20221106T010000
RDATE:20230312T030000
TZOFFSETFROM:-0500
TZOFFSETTO:-0600
TZNAME:America/Chicago CST
END:STANDARD
BEGIN:STANDARD
DTSTART:20231105T010000
RDATE:20240310T030000
TZOFFSETFROM:-0500
TZOFFSETTO:-0600
TZNAME:America/Chicago CST
END:STANDARD
BEGIN:STANDARD
DTSTART:20241103T010000
RDATE:20250309T030000
TZOFFSETFROM:-0500
TZOFFSETTO:-0600
TZNAME:America/Chicago CST
END:STANDARD
BEGIN:STANDARD
DTSTART:20251102T010000
RDATE:20260308T030000
TZOFFSETFROM:-0500
TZOFFSETTO:-0600
TZNAME:America/Chicago CST
END:STANDARD
BEGIN:STANDARD
DTSTART:20261101T010000
RDATE:20270314T030000
TZOFFSETFROM:-0500
TZOFFSETTO:-0600
TZNAME:America/Chicago CST
END:STANDARD
BEGIN:STANDARD
DTSTART:20271107T010000
RDATE:20280312T030000
TZOFFSETFROM:-0500
TZOFFSETTO:-0600
TZNAME:America/Chicago CST
END:STANDARD
BEGIN:STANDARD
DTSTART:20281105T010000
RDATE:20290311T030000
TZOFFSETFROM:-0500
TZOFFSETTO:-0600
TZNAME:America/Chicago CST
END:STANDARD
BEGIN:DAYLIGHT
DTSTART:20170316T080000
RDATE:20171105T010000
TZOFFSETFROM:-0600
TZOFFSETTO:-0500
TZNAME:America/Chicago CDT
END:DAYLIGHT
BEGIN:DAYLIGHT
DTSTART:20180311T030000
RDATE:20181104T010000
TZOFFSETFROM:-0600
TZOFFSETTO:-0500
TZNAME:America/Chicago CDT
END:DAYLIGHT
BEGIN:DAYLIGHT
DTSTART:20190310T030000
RDATE:20191103T010000
TZOFFSETFROM:-0600
TZOFFSETTO:-0500
TZNAME:America/Chicago CDT
END:DAYLIGHT
BEGIN:DAYLIGHT
DTSTART:20200308T030000
RDATE:20201101T010000
TZOFFSETFROM:-0600
TZOFFSETTO:-0500
TZNAME:America/Chicago CDT
END:DAYLIGHT
BEGIN:DAYLIGHT
DTSTART:20210314T030000
RDATE:20211107T010000
TZOFFSETFROM:-0600
TZOFFSETTO:-0500
TZNAME:America/Chicago CDT
END:DAYLIGHT
BEGIN:DAYLIGHT
DTSTART:20220313T030000
RDATE:20221106T010000
TZOFFSETFROM:-0600
TZOFFSETTO:-0500
TZNAME:America/Chicago CDT
END:DAYLIGHT
BEGIN:DAYLIGHT
DTSTART:20230312T030000
RDATE:20231105T010000
TZOFFSETFROM:-0600
TZOFFSETTO:-0500
TZNAME:America/Chicago CDT
END:DAYLIGHT
BEGIN:DAYLIGHT
DTSTART:20240310T030000
RDATE:20241103T010000
TZOFFSETFROM:-0600
TZOFFSETTO:-0500
TZNAME:America/Chicago CDT
END:DAYLIGHT
BEGIN:DAYLIGHT
DTSTART:20250309T030000
RDATE:20251102T010000
TZOFFSETFROM:-0600
TZOFFSETTO:-0500
TZNAME:America/Chicago CDT
END:DAYLIGHT
BEGIN:DAYLIGHT
DTSTART:20260308T030000
RDATE:20261101T010000
TZOFFSETFROM:-0600
TZOFFSETTO:-0500
TZNAME:America/Chicago CDT
END:DAYLIGHT
BEGIN:DAYLIGHT
DTSTART:20270314T030000
RDATE:20271107T010000
TZOFFSETFROM:-0600
TZOFFSETTO:-0500
TZNAME:America/Chicago CDT
END:DAYLIGHT
BEGIN:DAYLIGHT
DTSTART:20280312T030000
RDATE:20281105T010000
TZOFFSETFROM:-0600
TZOFFSETTO:-0500
TZNAME:America/Chicago CDT
END:DAYLIGHT
END:VTIMEZONE
BEGIN:VEVENT
UID:c1457e40b5aea22c483d9f51459e57aa
CATEGORIES:5K
CREATED:20171109T145048
SUMMARY:2018 Running of the Squirrels
GEO:-93.63919067;36.99893951
LOCATION:Marionville Elementary School - 200 O'Dell\, Marionville\, MO\, \, 
URL;VALUE=URI:https://beta.actnowracing.com/events/343/2018-running-of-the-squirrels-geo-
 93-63919067-36-99893951?tmpl=component
DESCRIPTION:Happy St. Patrick's Day from the Marionville Comet Pride Marching Band! Com
 e celebrate with the band on March 17th, as we run through historic Marionv
 ille, home of the white squirrel. The course is flat and easy to navigate, 
 perfect for all ages and abilities. We will have live music and refreshment
 s. Cash awards will be given for Overall Male and Overall Female winners in
  addition to medals for the top three male and female finishers in each age
  category. All proceeds raised from our 5K will assist our band as we trave
 l to Memphis, TN where we will perform at Graceland this April. Thanks for 
 your support!\n (https://actnowracing.com/images/Events/Running_of_Squirrel
 s/2017/SQUIRREL_AGE_GROUP_RESULTS.pdf)\n \n This event was imported from: h
 ttps://beta.actnowracing.com/events/343/2018-running-of-the-squirrels-geo-9
 3-63919067-36-99893951?tmpl=component
X-ALT-DESC;FMTTYPE=text/html:<p>Happy St. Patrick's Day from the Marionville Comet Pride Marching Band! 
 Come celebrate with the band on March 17th, as we run through historic Mari
 onville, home of the white squirrel. The course is flat and easy to navigat
 e, perfect for all ages and abilities. We will have live music and refreshm
 ents. Cash awards will be given for Overall Male and Overall Female winners
  in addition to medals for the top three male and female finishers in each 
 age category. All proceeds raised from our 5K will assist our band as we tr
 avel to Memphis, TN where we will perform at Graceland this April. Thanks f
 or your support!</p><p><a href="https://actnowracing.com/images/Events/Runn
 ing_of_Squirrels/2017/SQUIRREL_AGE_GROUP_RESULTS.pdf" class="wf_file"><span
  class="wf_file_text"></span></a></p><p>&nbsp;</p> <a href="https://beta.ac
 tnowracing.com/events/343/2018-running-of-the-squirrels-geo-93-63919067-36-
 99893951?tmpl=component">This event was imported from: https://beta.actnowr
 acing.com/events/343/2018-running-of-the-squirrels-geo-93-63919067-36-99893
 951?tmpl=component</a>CONTACT:Race Director Molly Crider at RegularLabs.EmailProtector.unCloak("ep_dedd028f");
DTSTAMP:20260423T164617
DTSTART;TZID=America/Chicago:20180317T080000
SEQUENCE:0
TRANSP:OPAQUE
END:VEVENT
END:VCALENDAR