BEGIN:VCALENDAR
VERSION:2.0
PRODID:-//jEvents 2.0 for Joomla//EN
CALSCALE:GREGORIAN
METHOD:PUBLISH
BEGIN:VTIMEZONE
TZID:America/Chicago
BEGIN:STANDARD
DTSTART:20171105T010000
RDATE:20180311T030000
TZOFFSETFROM:-0500
TZOFFSETTO:-0600
TZNAME:America/Chicago CST
END:STANDARD
BEGIN:STANDARD
DTSTART:20181104T010000
RDATE:20190310T030000
TZOFFSETFROM:-0500
TZOFFSETTO:-0600
TZNAME:America/Chicago CST
END:STANDARD
BEGIN:STANDARD
DTSTART:20191103T010000
RDATE:20200308T030000
TZOFFSETFROM:-0500
TZOFFSETTO:-0600
TZNAME:America/Chicago CST
END:STANDARD
BEGIN:STANDARD
DTSTART:20201101T010000
RDATE:20210314T030000
TZOFFSETFROM:-0500
TZOFFSETTO:-0600
TZNAME:America/Chicago CST
END:STANDARD
BEGIN:STANDARD
DTSTART:20211107T010000
RDATE:20220313T030000
TZOFFSETFROM:-0500
TZOFFSETTO:-0600
TZNAME:America/Chicago CST
END:STANDARD
BEGIN:STANDARD
DTSTART:20221106T010000
RDATE:20230312T030000
TZOFFSETFROM:-0500
TZOFFSETTO:-0600
TZNAME:America/Chicago CST
END:STANDARD
BEGIN:STANDARD
DTSTART:20231105T010000
RDATE:20240310T030000
TZOFFSETFROM:-0500
TZOFFSETTO:-0600
TZNAME:America/Chicago CST
END:STANDARD
BEGIN:STANDARD
DTSTART:20241103T010000
RDATE:20250309T030000
TZOFFSETFROM:-0500
TZOFFSETTO:-0600
TZNAME:America/Chicago CST
END:STANDARD
BEGIN:STANDARD
DTSTART:20251102T010000
RDATE:20260308T030000
TZOFFSETFROM:-0500
TZOFFSETTO:-0600
TZNAME:America/Chicago CST
END:STANDARD
BEGIN:STANDARD
DTSTART:20261101T010000
RDATE:20270314T030000
TZOFFSETFROM:-0500
TZOFFSETTO:-0600
TZNAME:America/Chicago CST
END:STANDARD
BEGIN:STANDARD
DTSTART:20271107T010000
RDATE:20280312T030000
TZOFFSETFROM:-0500
TZOFFSETTO:-0600
TZNAME:America/Chicago CST
END:STANDARD
BEGIN:STANDARD
DTSTART:20281105T010000
RDATE:20290311T030000
TZOFFSETFROM:-0500
TZOFFSETTO:-0600
TZNAME:America/Chicago CST
END:STANDARD
BEGIN:DAYLIGHT
DTSTART:20170517T181500
RDATE:20171105T010000
TZOFFSETFROM:-0600
TZOFFSETTO:-0500
TZNAME:America/Chicago CDT
END:DAYLIGHT
BEGIN:DAYLIGHT
DTSTART:20180311T030000
RDATE:20181104T010000
TZOFFSETFROM:-0600
TZOFFSETTO:-0500
TZNAME:America/Chicago CDT
END:DAYLIGHT
BEGIN:DAYLIGHT
DTSTART:20190310T030000
RDATE:20191103T010000
TZOFFSETFROM:-0600
TZOFFSETTO:-0500
TZNAME:America/Chicago CDT
END:DAYLIGHT
BEGIN:DAYLIGHT
DTSTART:20200308T030000
RDATE:20201101T010000
TZOFFSETFROM:-0600
TZOFFSETTO:-0500
TZNAME:America/Chicago CDT
END:DAYLIGHT
BEGIN:DAYLIGHT
DTSTART:20210314T030000
RDATE:20211107T010000
TZOFFSETFROM:-0600
TZOFFSETTO:-0500
TZNAME:America/Chicago CDT
END:DAYLIGHT
BEGIN:DAYLIGHT
DTSTART:20220313T030000
RDATE:20221106T010000
TZOFFSETFROM:-0600
TZOFFSETTO:-0500
TZNAME:America/Chicago CDT
END:DAYLIGHT
BEGIN:DAYLIGHT
DTSTART:20230312T030000
RDATE:20231105T010000
TZOFFSETFROM:-0600
TZOFFSETTO:-0500
TZNAME:America/Chicago CDT
END:DAYLIGHT
BEGIN:DAYLIGHT
DTSTART:20240310T030000
RDATE:20241103T010000
TZOFFSETFROM:-0600
TZOFFSETTO:-0500
TZNAME:America/Chicago CDT
END:DAYLIGHT
BEGIN:DAYLIGHT
DTSTART:20250309T030000
RDATE:20251102T010000
TZOFFSETFROM:-0600
TZOFFSETTO:-0500
TZNAME:America/Chicago CDT
END:DAYLIGHT
BEGIN:DAYLIGHT
DTSTART:20260308T030000
RDATE:20261101T010000
TZOFFSETFROM:-0600
TZOFFSETTO:-0500
TZNAME:America/Chicago CDT
END:DAYLIGHT
BEGIN:DAYLIGHT
DTSTART:20270314T030000
RDATE:20271107T010000
TZOFFSETFROM:-0600
TZOFFSETTO:-0500
TZNAME:America/Chicago CDT
END:DAYLIGHT
BEGIN:DAYLIGHT
DTSTART:20280312T030000
RDATE:20281105T010000
TZOFFSETFROM:-0600
TZOFFSETTO:-0500
TZNAME:America/Chicago CDT
END:DAYLIGHT
END:VTIMEZONE
BEGIN:VEVENT
UID:9922e8d52f7d69bb4bf705ac2301b769
CATEGORIES:5K, 1 Mile, Fun Run/Walk
CREATED:20180127T050609
SUMMARY:2018 Raptor Run
GEO:-93.32967377;37.10590363
LOCATION:Missouri Institute of Natural Science - 2327 W. Farm Road 190\, Springfield
 \, MO\, \, 
URL;VALUE=URI:https://beta.actnowracing.com/events/353/2018-raptor-run-geo-93-32967377-37
 -10590363?tmpl=component
DESCRIPTION:Calling all runners! We know there are a lot of different races out there, 
 but there is only one with dinosaurs! Join us again for the Raptor Run 5K a
 nd 1 mile fun run. The winners in each category will receive hand-crafted r
 aptor claws! This is the race for professionals, beginners and the whole fa
 mily. With your help, we will be able to continue to build what will be the
  crown jewel of the museum...the largest triceratops ever discovered! Henry
  the triceratops is estimated to be 30% larger than any other triceratops a
 nd when he is complete, he will live right here in Springfield! Time is run
 ning short...check out our website to get registered today. Hope to see you
  there!\n\n This event was imported from: https://beta.actnowracing.com/eve
 nts/353/2018-raptor-run-geo-93-32967377-37-10590363?tmpl=component
X-ALT-DESC;FMTTYPE=text/html:<p>Calling all runners! We know there are a lot of different races out ther
 e, but there is only one with dinosaurs! Join us again for the Raptor Run 5
 K and 1 mile fun run. The winners in each category will receive hand-crafte
 d raptor claws! This is the race for professionals, beginners and the whole
  family. With your help, we will be able to continue to build what will be 
 the crown jewel of the museum...the largest triceratops ever discovered! He
 nry the triceratops is estimated to be 30% larger than any other triceratop
 s and when he is complete, he will live right here in Springfield! Time is 
 running short...check out our website to get registered today. Hope to see 
 you there!</p><p style="line-height: 15.6px;"></p> <a href="https://beta.ac
 tnowracing.com/events/353/2018-raptor-run-geo-93-32967377-37-10590363?tmpl=
 component">This event was imported from: https://beta.actnowracing.com/even
 ts/353/2018-raptor-run-geo-93-32967377-37-10590363?tmpl=component</a>CONTACT:Race Director Samantha Forir at RegularLabs.EmailProtector.unCloak("ep_9cb26d1a");
DTSTAMP:20260422T110206
DTSTART;TZID=America/Chicago:20180518T181500
SEQUENCE:0
TRANSP:OPAQUE
END:VEVENT
END:VCALENDAR