BEGIN:VCALENDAR
VERSION:2.0
PRODID:-//jEvents 2.0 for Joomla//EN
CALSCALE:GREGORIAN
METHOD:PUBLISH
BEGIN:VTIMEZONE
TZID:America/Chicago
BEGIN:STANDARD
DTSTART:20171105T010000
RDATE:20180311T030000
TZOFFSETFROM:-0500
TZOFFSETTO:-0600
TZNAME:America/Chicago CST
END:STANDARD
BEGIN:STANDARD
DTSTART:20181104T010000
RDATE:20190310T030000
TZOFFSETFROM:-0500
TZOFFSETTO:-0600
TZNAME:America/Chicago CST
END:STANDARD
BEGIN:STANDARD
DTSTART:20191103T010000
RDATE:20200308T030000
TZOFFSETFROM:-0500
TZOFFSETTO:-0600
TZNAME:America/Chicago CST
END:STANDARD
BEGIN:STANDARD
DTSTART:20201101T010000
RDATE:20210314T030000
TZOFFSETFROM:-0500
TZOFFSETTO:-0600
TZNAME:America/Chicago CST
END:STANDARD
BEGIN:STANDARD
DTSTART:20211107T010000
RDATE:20220313T030000
TZOFFSETFROM:-0500
TZOFFSETTO:-0600
TZNAME:America/Chicago CST
END:STANDARD
BEGIN:STANDARD
DTSTART:20221106T010000
RDATE:20230312T030000
TZOFFSETFROM:-0500
TZOFFSETTO:-0600
TZNAME:America/Chicago CST
END:STANDARD
BEGIN:STANDARD
DTSTART:20231105T010000
RDATE:20240310T030000
TZOFFSETFROM:-0500
TZOFFSETTO:-0600
TZNAME:America/Chicago CST
END:STANDARD
BEGIN:STANDARD
DTSTART:20241103T010000
RDATE:20250309T030000
TZOFFSETFROM:-0500
TZOFFSETTO:-0600
TZNAME:America/Chicago CST
END:STANDARD
BEGIN:STANDARD
DTSTART:20251102T010000
RDATE:20260308T030000
TZOFFSETFROM:-0500
TZOFFSETTO:-0600
TZNAME:America/Chicago CST
END:STANDARD
BEGIN:STANDARD
DTSTART:20261101T010000
RDATE:20270314T030000
TZOFFSETFROM:-0500
TZOFFSETTO:-0600
TZNAME:America/Chicago CST
END:STANDARD
BEGIN:STANDARD
DTSTART:20271107T010000
RDATE:20280312T030000
TZOFFSETFROM:-0500
TZOFFSETTO:-0600
TZNAME:America/Chicago CST
END:STANDARD
BEGIN:STANDARD
DTSTART:20281105T010000
RDATE:20290311T030000
TZOFFSETFROM:-0500
TZOFFSETTO:-0600
TZNAME:America/Chicago CST
END:STANDARD
BEGIN:DAYLIGHT
DTSTART:20171102T083000
RDATE:20171105T010000
TZOFFSETFROM:-0600
TZOFFSETTO:-0500
TZNAME:America/Chicago CDT
END:DAYLIGHT
BEGIN:DAYLIGHT
DTSTART:20180311T030000
RDATE:20181104T010000
TZOFFSETFROM:-0600
TZOFFSETTO:-0500
TZNAME:America/Chicago CDT
END:DAYLIGHT
BEGIN:DAYLIGHT
DTSTART:20190310T030000
RDATE:20191103T010000
TZOFFSETFROM:-0600
TZOFFSETTO:-0500
TZNAME:America/Chicago CDT
END:DAYLIGHT
BEGIN:DAYLIGHT
DTSTART:20200308T030000
RDATE:20201101T010000
TZOFFSETFROM:-0600
TZOFFSETTO:-0500
TZNAME:America/Chicago CDT
END:DAYLIGHT
BEGIN:DAYLIGHT
DTSTART:20210314T030000
RDATE:20211107T010000
TZOFFSETFROM:-0600
TZOFFSETTO:-0500
TZNAME:America/Chicago CDT
END:DAYLIGHT
BEGIN:DAYLIGHT
DTSTART:20220313T030000
RDATE:20221106T010000
TZOFFSETFROM:-0600
TZOFFSETTO:-0500
TZNAME:America/Chicago CDT
END:DAYLIGHT
BEGIN:DAYLIGHT
DTSTART:20230312T030000
RDATE:20231105T010000
TZOFFSETFROM:-0600
TZOFFSETTO:-0500
TZNAME:America/Chicago CDT
END:DAYLIGHT
BEGIN:DAYLIGHT
DTSTART:20240310T030000
RDATE:20241103T010000
TZOFFSETFROM:-0600
TZOFFSETTO:-0500
TZNAME:America/Chicago CDT
END:DAYLIGHT
BEGIN:DAYLIGHT
DTSTART:20250309T030000
RDATE:20251102T010000
TZOFFSETFROM:-0600
TZOFFSETTO:-0500
TZNAME:America/Chicago CDT
END:DAYLIGHT
BEGIN:DAYLIGHT
DTSTART:20260308T030000
RDATE:20261101T010000
TZOFFSETFROM:-0600
TZOFFSETTO:-0500
TZNAME:America/Chicago CDT
END:DAYLIGHT
BEGIN:DAYLIGHT
DTSTART:20270314T030000
RDATE:20271107T010000
TZOFFSETFROM:-0600
TZOFFSETTO:-0500
TZNAME:America/Chicago CDT
END:DAYLIGHT
BEGIN:DAYLIGHT
DTSTART:20280312T030000
RDATE:20281105T010000
TZOFFSETFROM:-0600
TZOFFSETTO:-0500
TZNAME:America/Chicago CDT
END:DAYLIGHT
END:VTIMEZONE
BEGIN:VEVENT
UID:16ba25839415be43f465ad469650edb0
CATEGORIES:5K
CREATED:20180201T111649
SUMMARY:2018 Happy Feet 5K
GEO:-93.46678925;37.12269211
LOCATION:Calvary Baptist Church - 804 U.S. 60 Hwy\, Republic\, MO\, 65738\, 
URL;VALUE=URI:https://beta.actnowracing.com/events/357/2018-happy-feet-5k-geo-93-46678925
 -37-12269211?tmpl=component
DESCRIPTION:Join us for a 5K run/walk to support the life-affirming ministry of the Rep
 ublic Pregnancy Resource Center. The RPRC believes that every life has valu
 e and every baby deserves the chance to experience this world! \nFifty perc
 ent of all pregnancies in the U.S. are unplanned and 70 percent of these un
 planned pregnancies are experienced by single women. The RPRC works to supp
 ort and empower these women to be awesome mothers and live hope-filled live
 s through education, mentoring, and basic-needs assistance.\nThe mission of
  the Republic Pregnancy Resource Center is to offer support and comfort to 
 those in our community facing need during and after pregnancy, making posit
 ive choices through mentoring and education, providing hope for a life-givi
 ng future. \n \nThis will be a family friendly run/walk over mostly flat te
 rrain, with a live band, and a post-race breakfast! \n\n\n \n This event wa
 s imported from: https://beta.actnowracing.com/events/357/2018-happy-feet-5
 k-geo-93-46678925-37-12269211?tmpl=component
X-ALT-DESC;FMTTYPE=text/html:<p>Join us for a 5K run/walk to support the life-affirming ministry of the 
 Republic Pregnancy Resource Center. The RPRC believes that every life has v
 alue and every baby deserves the chance to experience this world! <br />Fif
 ty percent of all pregnancies in the U.S. are unplanned and 70 percent of t
 hese unplanned pregnancies are experienced by single women. The RPRC works 
 to support and empower these women to be awesome mothers and live hope-fill
 ed lives through education, mentoring, and basic-needs assistance.</p><p>Th
 e mission of the Republic Pregnancy Resource Center is to offer support and
  comfort to those in our community facing need during and after pregnancy, 
 making positive choices through mentoring and education, providing hope for
  a life-giving future. <br /> <br />This will be a family friendly run/walk
  over mostly flat terrain, with a live band, and a post-race breakfast! <br
  /><br /></p><p>&nbsp;</p> <a href="https://beta.actnowracing.com/events/35
 7/2018-happy-feet-5k-geo-93-46678925-37-12269211?tmpl=component">This event
  was imported from: https://beta.actnowracing.com/events/357/2018-happy-fee
 t-5k-geo-93-46678925-37-12269211?tmpl=component</a>CONTACT:RPRC by calling 417-732-5993 or email RegularLabs.EmailProtector.unCloak("ep_55141eda");
DTSTAMP:20260423T094333
DTSTART;TZID=America/Chicago:20181103T083000
SEQUENCE:0
TRANSP:OPAQUE
END:VEVENT
END:VCALENDAR