BEGIN:VCALENDAR
VERSION:2.0
PRODID:-//jEvents 2.0 for Joomla//EN
CALSCALE:GREGORIAN
METHOD:PUBLISH
BEGIN:VTIMEZONE
TZID:America/Chicago
BEGIN:STANDARD
DTSTART:20171105T010000
RDATE:20180311T030000
TZOFFSETFROM:-0500
TZOFFSETTO:-0600
TZNAME:America/Chicago CST
END:STANDARD
BEGIN:STANDARD
DTSTART:20181104T010000
RDATE:20190310T030000
TZOFFSETFROM:-0500
TZOFFSETTO:-0600
TZNAME:America/Chicago CST
END:STANDARD
BEGIN:STANDARD
DTSTART:20191103T010000
RDATE:20200308T030000
TZOFFSETFROM:-0500
TZOFFSETTO:-0600
TZNAME:America/Chicago CST
END:STANDARD
BEGIN:STANDARD
DTSTART:20201101T010000
RDATE:20210314T030000
TZOFFSETFROM:-0500
TZOFFSETTO:-0600
TZNAME:America/Chicago CST
END:STANDARD
BEGIN:STANDARD
DTSTART:20211107T010000
RDATE:20220313T030000
TZOFFSETFROM:-0500
TZOFFSETTO:-0600
TZNAME:America/Chicago CST
END:STANDARD
BEGIN:STANDARD
DTSTART:20221106T010000
RDATE:20230312T030000
TZOFFSETFROM:-0500
TZOFFSETTO:-0600
TZNAME:America/Chicago CST
END:STANDARD
BEGIN:STANDARD
DTSTART:20231105T010000
RDATE:20240310T030000
TZOFFSETFROM:-0500
TZOFFSETTO:-0600
TZNAME:America/Chicago CST
END:STANDARD
BEGIN:STANDARD
DTSTART:20241103T010000
RDATE:20250309T030000
TZOFFSETFROM:-0500
TZOFFSETTO:-0600
TZNAME:America/Chicago CST
END:STANDARD
BEGIN:STANDARD
DTSTART:20251102T010000
RDATE:20260308T030000
TZOFFSETFROM:-0500
TZOFFSETTO:-0600
TZNAME:America/Chicago CST
END:STANDARD
BEGIN:STANDARD
DTSTART:20261101T010000
RDATE:20270314T030000
TZOFFSETFROM:-0500
TZOFFSETTO:-0600
TZNAME:America/Chicago CST
END:STANDARD
BEGIN:STANDARD
DTSTART:20271107T010000
RDATE:20280312T030000
TZOFFSETFROM:-0500
TZOFFSETTO:-0600
TZNAME:America/Chicago CST
END:STANDARD
BEGIN:STANDARD
DTSTART:20281105T010000
RDATE:20290311T030000
TZOFFSETFROM:-0500
TZOFFSETTO:-0600
TZNAME:America/Chicago CST
END:STANDARD
BEGIN:DAYLIGHT
DTSTART:20170914T090000
RDATE:20171105T010000
TZOFFSETFROM:-0600
TZOFFSETTO:-0500
TZNAME:America/Chicago CDT
END:DAYLIGHT
BEGIN:DAYLIGHT
DTSTART:20180311T030000
RDATE:20181104T010000
TZOFFSETFROM:-0600
TZOFFSETTO:-0500
TZNAME:America/Chicago CDT
END:DAYLIGHT
BEGIN:DAYLIGHT
DTSTART:20190310T030000
RDATE:20191103T010000
TZOFFSETFROM:-0600
TZOFFSETTO:-0500
TZNAME:America/Chicago CDT
END:DAYLIGHT
BEGIN:DAYLIGHT
DTSTART:20200308T030000
RDATE:20201101T010000
TZOFFSETFROM:-0600
TZOFFSETTO:-0500
TZNAME:America/Chicago CDT
END:DAYLIGHT
BEGIN:DAYLIGHT
DTSTART:20210314T030000
RDATE:20211107T010000
TZOFFSETFROM:-0600
TZOFFSETTO:-0500
TZNAME:America/Chicago CDT
END:DAYLIGHT
BEGIN:DAYLIGHT
DTSTART:20220313T030000
RDATE:20221106T010000
TZOFFSETFROM:-0600
TZOFFSETTO:-0500
TZNAME:America/Chicago CDT
END:DAYLIGHT
BEGIN:DAYLIGHT
DTSTART:20230312T030000
RDATE:20231105T010000
TZOFFSETFROM:-0600
TZOFFSETTO:-0500
TZNAME:America/Chicago CDT
END:DAYLIGHT
BEGIN:DAYLIGHT
DTSTART:20240310T030000
RDATE:20241103T010000
TZOFFSETFROM:-0600
TZOFFSETTO:-0500
TZNAME:America/Chicago CDT
END:DAYLIGHT
BEGIN:DAYLIGHT
DTSTART:20250309T030000
RDATE:20251102T010000
TZOFFSETFROM:-0600
TZOFFSETTO:-0500
TZNAME:America/Chicago CDT
END:DAYLIGHT
BEGIN:DAYLIGHT
DTSTART:20260308T030000
RDATE:20261101T010000
TZOFFSETFROM:-0600
TZOFFSETTO:-0500
TZNAME:America/Chicago CDT
END:DAYLIGHT
BEGIN:DAYLIGHT
DTSTART:20270314T030000
RDATE:20271107T010000
TZOFFSETFROM:-0600
TZOFFSETTO:-0500
TZNAME:America/Chicago CDT
END:DAYLIGHT
BEGIN:DAYLIGHT
DTSTART:20280312T030000
RDATE:20281105T010000
TZOFFSETFROM:-0600
TZOFFSETTO:-0500
TZNAME:America/Chicago CDT
END:DAYLIGHT
END:VTIMEZONE
BEGIN:VEVENT
UID:b20c710ed6558e7fd66a1879b96c91e6
CATEGORIES:5K, 10K
CREATED:20180514T045953
SUMMARY:Fairbanks Community Run
GEO:-93.30273438;37.22092438
LOCATION:Fairbanks Community - 1126 N. Broadway Avenue\, Springfield\, MO\, \, 
URL;VALUE=URI:https://beta.actnowracing.com/events/371/fairbanks-community-run-geo-93-302
 73438-37-22092438?tmpl=component
DESCRIPTION:Join us Saturday, September 15, 2018 for the Fairbanks Community 0K, 5K &am
 p; 10K hosted by the Southeast Rotary Club.  Proceeds from this event benef
 it the Drew Lewis Foundation and the Fairbanks Community Center. \nFood, dr
 inks, entertainment, games and tours of the facility. \nFor more informatio
 n about the Drew Lewis Foundation and Fairbanks Community, visit http://dre
 wlewis.org/about-fairbanks/ (http://drewlewis.org/about-fairbanks/)\n This 
 event was imported from: https://beta.actnowracing.com/events/371/fairbanks
 -community-run-geo-93-30273438-37-22092438?tmpl=component
X-ALT-DESC;FMTTYPE=text/html:<p>Join us Saturday, September 15, 2018 for the Fairbanks Community 0K, 5K 
 &amp; 10K hosted by the Southeast Rotary Club.&nbsp; Proceeds from this eve
 nt benefit the Drew Lewis Foundation and the Fairbanks Community Center.&nb
 sp;</p><p>Food, drinks, entertainment, games and tours of the facility.&nbs
 p;</p><p>For more information about the Drew Lewis Foundation and Fairbanks
  Community, visit&nbsp;<a href="http://drewlewis.org/about-fairbanks/" clas
 s="jcepopup" data-mediabox="1" data-mediabox-width="600" data-mediabox-heig
 ht="600">http://drewlewis.org/about-fairbanks/</a></p> <a href="https://bet
 a.actnowracing.com/events/371/fairbanks-community-run-geo-93-30273438-37-22
 092438?tmpl=component">This event was imported from: https://beta.actnowrac
 ing.com/events/371/fairbanks-community-run-geo-93-30273438-37-22092438?tmpl
 =component</a>CONTACT:Bill Squires at RegularLabs.EmailProtector.unCloak("ep_0733d6a8");
DTSTAMP:20260425T001959
DTSTART;TZID=America/Chicago:20180915T090000
SEQUENCE:0
TRANSP:OPAQUE
END:VEVENT
END:VCALENDAR