BEGIN:VCALENDAR
VERSION:2.0
PRODID:-//jEvents 2.0 for Joomla//EN
CALSCALE:GREGORIAN
METHOD:PUBLISH
BEGIN:VTIMEZONE
TZID:America/Chicago
BEGIN:STANDARD
DTSTART:20171105T010000
RDATE:20180311T030000
TZOFFSETFROM:-0500
TZOFFSETTO:-0600
TZNAME:America/Chicago CST
END:STANDARD
BEGIN:STANDARD
DTSTART:20181104T010000
RDATE:20190310T030000
TZOFFSETFROM:-0500
TZOFFSETTO:-0600
TZNAME:America/Chicago CST
END:STANDARD
BEGIN:STANDARD
DTSTART:20191103T010000
RDATE:20200308T030000
TZOFFSETFROM:-0500
TZOFFSETTO:-0600
TZNAME:America/Chicago CST
END:STANDARD
BEGIN:STANDARD
DTSTART:20201101T010000
RDATE:20210314T030000
TZOFFSETFROM:-0500
TZOFFSETTO:-0600
TZNAME:America/Chicago CST
END:STANDARD
BEGIN:STANDARD
DTSTART:20211107T010000
RDATE:20220313T030000
TZOFFSETFROM:-0500
TZOFFSETTO:-0600
TZNAME:America/Chicago CST
END:STANDARD
BEGIN:STANDARD
DTSTART:20221106T010000
RDATE:20230312T030000
TZOFFSETFROM:-0500
TZOFFSETTO:-0600
TZNAME:America/Chicago CST
END:STANDARD
BEGIN:STANDARD
DTSTART:20231105T010000
RDATE:20240310T030000
TZOFFSETFROM:-0500
TZOFFSETTO:-0600
TZNAME:America/Chicago CST
END:STANDARD
BEGIN:STANDARD
DTSTART:20241103T010000
RDATE:20250309T030000
TZOFFSETFROM:-0500
TZOFFSETTO:-0600
TZNAME:America/Chicago CST
END:STANDARD
BEGIN:STANDARD
DTSTART:20251102T010000
RDATE:20260308T030000
TZOFFSETFROM:-0500
TZOFFSETTO:-0600
TZNAME:America/Chicago CST
END:STANDARD
BEGIN:STANDARD
DTSTART:20261101T010000
RDATE:20270314T030000
TZOFFSETFROM:-0500
TZOFFSETTO:-0600
TZNAME:America/Chicago CST
END:STANDARD
BEGIN:STANDARD
DTSTART:20271107T010000
RDATE:20280312T030000
TZOFFSETFROM:-0500
TZOFFSETTO:-0600
TZNAME:America/Chicago CST
END:STANDARD
BEGIN:STANDARD
DTSTART:20281105T010000
RDATE:20290311T030000
TZOFFSETFROM:-0500
TZOFFSETTO:-0600
TZNAME:America/Chicago CST
END:STANDARD
BEGIN:DAYLIGHT
DTSTART:20170627T080000
RDATE:20171105T010000
TZOFFSETFROM:-0600
TZOFFSETTO:-0500
TZNAME:America/Chicago CDT
END:DAYLIGHT
BEGIN:DAYLIGHT
DTSTART:20180311T030000
RDATE:20181104T010000
TZOFFSETFROM:-0600
TZOFFSETTO:-0500
TZNAME:America/Chicago CDT
END:DAYLIGHT
BEGIN:DAYLIGHT
DTSTART:20190310T030000
RDATE:20191103T010000
TZOFFSETFROM:-0600
TZOFFSETTO:-0500
TZNAME:America/Chicago CDT
END:DAYLIGHT
BEGIN:DAYLIGHT
DTSTART:20200308T030000
RDATE:20201101T010000
TZOFFSETFROM:-0600
TZOFFSETTO:-0500
TZNAME:America/Chicago CDT
END:DAYLIGHT
BEGIN:DAYLIGHT
DTSTART:20210314T030000
RDATE:20211107T010000
TZOFFSETFROM:-0600
TZOFFSETTO:-0500
TZNAME:America/Chicago CDT
END:DAYLIGHT
BEGIN:DAYLIGHT
DTSTART:20220313T030000
RDATE:20221106T010000
TZOFFSETFROM:-0600
TZOFFSETTO:-0500
TZNAME:America/Chicago CDT
END:DAYLIGHT
BEGIN:DAYLIGHT
DTSTART:20230312T030000
RDATE:20231105T010000
TZOFFSETFROM:-0600
TZOFFSETTO:-0500
TZNAME:America/Chicago CDT
END:DAYLIGHT
BEGIN:DAYLIGHT
DTSTART:20240310T030000
RDATE:20241103T010000
TZOFFSETFROM:-0600
TZOFFSETTO:-0500
TZNAME:America/Chicago CDT
END:DAYLIGHT
BEGIN:DAYLIGHT
DTSTART:20250309T030000
RDATE:20251102T010000
TZOFFSETFROM:-0600
TZOFFSETTO:-0500
TZNAME:America/Chicago CDT
END:DAYLIGHT
BEGIN:DAYLIGHT
DTSTART:20260308T030000
RDATE:20261101T010000
TZOFFSETFROM:-0600
TZOFFSETTO:-0500
TZNAME:America/Chicago CDT
END:DAYLIGHT
BEGIN:DAYLIGHT
DTSTART:20270314T030000
RDATE:20271107T010000
TZOFFSETFROM:-0600
TZOFFSETTO:-0500
TZNAME:America/Chicago CDT
END:DAYLIGHT
BEGIN:DAYLIGHT
DTSTART:20280312T030000
RDATE:20281105T010000
TZOFFSETFROM:-0600
TZOFFSETTO:-0500
TZNAME:America/Chicago CDT
END:DAYLIGHT
END:VTIMEZONE
BEGIN:VEVENT
UID:25300e802f2a8816414a33f31356d329
CATEGORIES:Other
CREATED:20180626T045254
SUMMARY:Can-Am Police-Fire Games - Crit
GEO:-92.72915649;38.01315308
LOCATION:Camdenton Schools - 662 Laker Pride Road\, Camdenton\, MO\, \, 
URL;VALUE=URI:https://beta.actnowracing.com/events/383/can-am-police-fire-games-crit-geo-
 92-72915649-38-01315308?tmpl=component
DESCRIPTION:The Can-Am Games promote physical fitness and camaraderie among and between
  law enforcement, fire service, EMS, protective services personnel and agen
 cies.\n\nThe first games were held in 1977 and have grown over the years to
  a six day event. The games take place every other year. Past locations inc
 lude; Regina, Saskatchewan, Milwaukee, Spokane, London, Baton Rouge, St. Cl
 oud, MN. and York, PA., and Thunder Bay, Ontario.\n\nThis is a non-profit e
 vent. Any profit from the games will go to benefit Special Olympics Missour
 i. The President &amp; CEO of Special Olympics MO is serving on our Can-Am 
 games committee.\n\nDates: June 25-July 1, 2018 and June 15-21, 2020\n\nPar
 ticipatants: Expecting 1,000 to 1,500 participates from the U.S. and Canada
 .\n\nGames: The Lake of the Ozarks is proposing 49 events over a six day pe
 riod. The events will be held all over the Lake including; Laurie, Sunrise 
 Beach, Camdenton, Osage Beach and Lake Ozark as well as in Springfield and 
 Lebanon. This event was imported from: https://beta.actnowracing.com/events
 /383/can-am-police-fire-games-crit-geo-92-72915649-38-01315308?tmpl=compone
 nt
X-ALT-DESC;FMTTYPE=text/html:The Can-Am Games promote physical fitness and camaraderie among and between
  law enforcement, fire service, EMS, protective services personnel and agen
 cies.<br /><br />The first games were held in 1977 and have grown over the 
 years to a six day event. The games take place every other year. Past locat
 ions include; Regina, Saskatchewan, Milwaukee, Spokane, London, Baton Rouge
 , St. Cloud, MN. and York, PA., and Thunder Bay, Ontario.<br /><br />This i
 s a non-profit event. Any profit from the games will go to benefit Special 
 Olympics Missouri. The President &amp; CEO of Special Olympics MO is servin
 g on our Can-Am games committee.<br /><br />Dates: June 25-July 1, 2018 and
  June 15-21, 2020<br /><br />Participatants: Expecting 1,000 to 1,500 parti
 cipates from the U.S. and Canada.<br /><br />Games: The Lake of the Ozarks 
 is proposing 49 events over a six day period. The events will be held all o
 ver the Lake including; Laurie, Sunrise Beach, Camdenton, Osage Beach and L
 ake Ozark as well as in Springfield and Lebanon. <a href="https://beta.actn
 owracing.com/events/383/can-am-police-fire-games-crit-geo-92-72915649-38-01
 315308?tmpl=component">This event was imported from: https://beta.actnowrac
 ing.com/events/383/can-am-police-fire-games-crit-geo-92-72915649-38-0131530
 8?tmpl=component</a>CONTACT:LAGINA FITZPATRICK at 1-573-375-3738
DTSTAMP:20260424T131706
DTSTART;TZID=America/Chicago:20180628T080000
SEQUENCE:0
TRANSP:OPAQUE
END:VEVENT
END:VCALENDAR