BEGIN:VCALENDAR
VERSION:2.0
PRODID:-//jEvents 2.0 for Joomla//EN
CALSCALE:GREGORIAN
METHOD:PUBLISH
BEGIN:VTIMEZONE
TZID:America/Chicago
BEGIN:STANDARD
DTSTART:20171109T090000
RDATE:20180311T030000
TZOFFSETFROM:-0500
TZOFFSETTO:-0600
TZNAME:America/Chicago CST
END:STANDARD
BEGIN:STANDARD
DTSTART:20181104T010000
RDATE:20190310T030000
TZOFFSETFROM:-0500
TZOFFSETTO:-0600
TZNAME:America/Chicago CST
END:STANDARD
BEGIN:STANDARD
DTSTART:20191103T010000
RDATE:20200308T030000
TZOFFSETFROM:-0500
TZOFFSETTO:-0600
TZNAME:America/Chicago CST
END:STANDARD
BEGIN:STANDARD
DTSTART:20201101T010000
RDATE:20210314T030000
TZOFFSETFROM:-0500
TZOFFSETTO:-0600
TZNAME:America/Chicago CST
END:STANDARD
BEGIN:STANDARD
DTSTART:20211107T010000
RDATE:20220313T030000
TZOFFSETFROM:-0500
TZOFFSETTO:-0600
TZNAME:America/Chicago CST
END:STANDARD
BEGIN:STANDARD
DTSTART:20221106T010000
RDATE:20230312T030000
TZOFFSETFROM:-0500
TZOFFSETTO:-0600
TZNAME:America/Chicago CST
END:STANDARD
BEGIN:STANDARD
DTSTART:20231105T010000
RDATE:20240310T030000
TZOFFSETFROM:-0500
TZOFFSETTO:-0600
TZNAME:America/Chicago CST
END:STANDARD
BEGIN:STANDARD
DTSTART:20241103T010000
RDATE:20250309T030000
TZOFFSETFROM:-0500
TZOFFSETTO:-0600
TZNAME:America/Chicago CST
END:STANDARD
BEGIN:STANDARD
DTSTART:20251102T010000
RDATE:20260308T030000
TZOFFSETFROM:-0500
TZOFFSETTO:-0600
TZNAME:America/Chicago CST
END:STANDARD
BEGIN:STANDARD
DTSTART:20261101T010000
RDATE:20270314T030000
TZOFFSETFROM:-0500
TZOFFSETTO:-0600
TZNAME:America/Chicago CST
END:STANDARD
BEGIN:STANDARD
DTSTART:20271107T010000
RDATE:20280312T030000
TZOFFSETFROM:-0500
TZOFFSETTO:-0600
TZNAME:America/Chicago CST
END:STANDARD
BEGIN:STANDARD
DTSTART:20281105T010000
RDATE:20290311T030000
TZOFFSETFROM:-0500
TZOFFSETTO:-0600
TZNAME:America/Chicago CST
END:STANDARD
BEGIN:DAYLIGHT
DTSTART:20180311T030000
RDATE:20181104T010000
TZOFFSETFROM:-0600
TZOFFSETTO:-0500
TZNAME:America/Chicago CDT
END:DAYLIGHT
BEGIN:DAYLIGHT
DTSTART:20190310T030000
RDATE:20191103T010000
TZOFFSETFROM:-0600
TZOFFSETTO:-0500
TZNAME:America/Chicago CDT
END:DAYLIGHT
BEGIN:DAYLIGHT
DTSTART:20200308T030000
RDATE:20201101T010000
TZOFFSETFROM:-0600
TZOFFSETTO:-0500
TZNAME:America/Chicago CDT
END:DAYLIGHT
BEGIN:DAYLIGHT
DTSTART:20210314T030000
RDATE:20211107T010000
TZOFFSETFROM:-0600
TZOFFSETTO:-0500
TZNAME:America/Chicago CDT
END:DAYLIGHT
BEGIN:DAYLIGHT
DTSTART:20220313T030000
RDATE:20221106T010000
TZOFFSETFROM:-0600
TZOFFSETTO:-0500
TZNAME:America/Chicago CDT
END:DAYLIGHT
BEGIN:DAYLIGHT
DTSTART:20230312T030000
RDATE:20231105T010000
TZOFFSETFROM:-0600
TZOFFSETTO:-0500
TZNAME:America/Chicago CDT
END:DAYLIGHT
BEGIN:DAYLIGHT
DTSTART:20240310T030000
RDATE:20241103T010000
TZOFFSETFROM:-0600
TZOFFSETTO:-0500
TZNAME:America/Chicago CDT
END:DAYLIGHT
BEGIN:DAYLIGHT
DTSTART:20250309T030000
RDATE:20251102T010000
TZOFFSETFROM:-0600
TZOFFSETTO:-0500
TZNAME:America/Chicago CDT
END:DAYLIGHT
BEGIN:DAYLIGHT
DTSTART:20260308T030000
RDATE:20261101T010000
TZOFFSETFROM:-0600
TZOFFSETTO:-0500
TZNAME:America/Chicago CDT
END:DAYLIGHT
BEGIN:DAYLIGHT
DTSTART:20270314T030000
RDATE:20271107T010000
TZOFFSETFROM:-0600
TZOFFSETTO:-0500
TZNAME:America/Chicago CDT
END:DAYLIGHT
BEGIN:DAYLIGHT
DTSTART:20280312T030000
RDATE:20281105T010000
TZOFFSETFROM:-0600
TZOFFSETTO:-0500
TZNAME:America/Chicago CDT
END:DAYLIGHT
END:VTIMEZONE
BEGIN:VEVENT
UID:22c0b1e05824b78c1d1f334e9991cc8c
CATEGORIES:5K, Other
CREATED:20180718T061641
SUMMARY:4th Annual Ruck 'N' Run
GEO:-93.50104523;37.11849213
LOCATION:Ruck 'N' Run Base Camp - 1100 W State HWY 174\, Republic\, MO\, \, 
URL;VALUE=URI:https://beta.actnowracing.com/events/389/4th-annual-ruck-n-run-geo-93-50104
 523-37-11849213?tmpl=component
DESCRIPTION:Ruck ‘N’ Run brings Veterans and Civilians together in a fun, motivating ye
 t challenging event to honor those who serve(d).\n \nRuck ‘N’ Run is a boot
  camp inspired walk/run that honors Veterans and connects the community. Th
 rough past events, $10,500 and 4,459lbs of food has been donated to Veteran
  organizations!\n \nRuckers ruck (walk with their own rucksack/backpack)\nR
 unners run (do not wear a rucksack/backpack)\n \nRuck ‘N’ Run is a walk/run
  event with a little extra. There are stations along the route where partic
 ipants must complete a set of exercises before continuing (push ups, bodywe
 ight squats, etc.). \n \nA friendly competition between U.S. Military branc
 hes will determine which branch finished with the fastest time for both Ruc
 kers &amp; Runners. Be sure to mark the branch you serve(d) in during regis
 tration to include your time in this competition.\n\n This event was import
 ed from: https://beta.actnowracing.com/events/389/4th-annual-ruck-n-run-geo
 -93-50104523-37-11849213?tmpl=component
X-ALT-DESC;FMTTYPE=text/html:<p>Ruck ‘N’ Run brings Veterans and Civilians together in a fun, motivating
  yet challenging event to honor those who serve(d).<br /> <br />Ruck ‘N’ Ru
 n is a boot camp inspired walk/run that honors Veterans and connects the co
 mmunity. Through past events, $10,500 and 4,459lbs of food has been donated
  to Veteran organizations!<br /> <br />Ruckers ruck (walk with their own ru
 cksack/backpack)<br />Runners run (do not wear a rucksack/backpack)<br /> <
 br />Ruck ‘N’ Run is a walk/run event with a little extra. There are statio
 ns along the route where participants must complete a set of exercises befo
 re continuing (push ups, bodyweight squats, etc.).&nbsp;<br /> <br />A frie
 ndly competition between U.S. Military branches will determine which branch
  finished with the fastest time for both Ruckers &amp; Runners. Be sure to 
 mark the branch you serve(d) in during registration to include your time in
  this competition.</p><p style="line-height: 15.6px;"></p> <a href="https:/
 /beta.actnowracing.com/events/389/4th-annual-ruck-n-run-geo-93-50104523-37-
 11849213?tmpl=component">This event was imported from: https://beta.actnowr
 acing.com/events/389/4th-annual-ruck-n-run-geo-93-50104523-37-11849213?tmpl
 =component</a>CONTACT:George Fuller at RegularLabs.EmailProtector.unCloak("ep_490e8e7e");
DTSTAMP:20260423T094504
DTSTART;TZID=America/Chicago:20181110T090000
SEQUENCE:0
TRANSP:OPAQUE
END:VEVENT
END:VCALENDAR