BEGIN:VCALENDAR
VERSION:2.0
PRODID:-//jEvents 2.0 for Joomla//EN
CALSCALE:GREGORIAN
METHOD:PUBLISH
BEGIN:VTIMEZONE
TZID:America/Chicago
BEGIN:STANDARD
DTSTART:20181104T010000
RDATE:20190310T030000
TZOFFSETFROM:-0500
TZOFFSETTO:-0600
TZNAME:America/Chicago CST
END:STANDARD
BEGIN:STANDARD
DTSTART:20191103T010000
RDATE:20200308T030000
TZOFFSETFROM:-0500
TZOFFSETTO:-0600
TZNAME:America/Chicago CST
END:STANDARD
BEGIN:STANDARD
DTSTART:20201101T010000
RDATE:20210314T030000
TZOFFSETFROM:-0500
TZOFFSETTO:-0600
TZNAME:America/Chicago CST
END:STANDARD
BEGIN:STANDARD
DTSTART:20211107T010000
RDATE:20220313T030000
TZOFFSETFROM:-0500
TZOFFSETTO:-0600
TZNAME:America/Chicago CST
END:STANDARD
BEGIN:STANDARD
DTSTART:20221106T010000
RDATE:20230312T030000
TZOFFSETFROM:-0500
TZOFFSETTO:-0600
TZNAME:America/Chicago CST
END:STANDARD
BEGIN:STANDARD
DTSTART:20231105T010000
RDATE:20240310T030000
TZOFFSETFROM:-0500
TZOFFSETTO:-0600
TZNAME:America/Chicago CST
END:STANDARD
BEGIN:STANDARD
DTSTART:20241103T010000
RDATE:20250309T030000
TZOFFSETFROM:-0500
TZOFFSETTO:-0600
TZNAME:America/Chicago CST
END:STANDARD
BEGIN:STANDARD
DTSTART:20251102T010000
RDATE:20260308T030000
TZOFFSETFROM:-0500
TZOFFSETTO:-0600
TZNAME:America/Chicago CST
END:STANDARD
BEGIN:STANDARD
DTSTART:20261101T010000
RDATE:20270314T030000
TZOFFSETFROM:-0500
TZOFFSETTO:-0600
TZNAME:America/Chicago CST
END:STANDARD
BEGIN:STANDARD
DTSTART:20271107T010000
RDATE:20280312T030000
TZOFFSETFROM:-0500
TZOFFSETTO:-0600
TZNAME:America/Chicago CST
END:STANDARD
BEGIN:STANDARD
DTSTART:20281105T010000
RDATE:20290311T030000
TZOFFSETFROM:-0500
TZOFFSETTO:-0600
TZNAME:America/Chicago CST
END:STANDARD
BEGIN:DAYLIGHT
DTSTART:20180315T080000
RDATE:20181104T010000
TZOFFSETFROM:-0600
TZOFFSETTO:-0500
TZNAME:America/Chicago CDT
END:DAYLIGHT
BEGIN:DAYLIGHT
DTSTART:20190310T030000
RDATE:20191103T010000
TZOFFSETFROM:-0600
TZOFFSETTO:-0500
TZNAME:America/Chicago CDT
END:DAYLIGHT
BEGIN:DAYLIGHT
DTSTART:20200308T030000
RDATE:20201101T010000
TZOFFSETFROM:-0600
TZOFFSETTO:-0500
TZNAME:America/Chicago CDT
END:DAYLIGHT
BEGIN:DAYLIGHT
DTSTART:20210314T030000
RDATE:20211107T010000
TZOFFSETFROM:-0600
TZOFFSETTO:-0500
TZNAME:America/Chicago CDT
END:DAYLIGHT
BEGIN:DAYLIGHT
DTSTART:20220313T030000
RDATE:20221106T010000
TZOFFSETFROM:-0600
TZOFFSETTO:-0500
TZNAME:America/Chicago CDT
END:DAYLIGHT
BEGIN:DAYLIGHT
DTSTART:20230312T030000
RDATE:20231105T010000
TZOFFSETFROM:-0600
TZOFFSETTO:-0500
TZNAME:America/Chicago CDT
END:DAYLIGHT
BEGIN:DAYLIGHT
DTSTART:20240310T030000
RDATE:20241103T010000
TZOFFSETFROM:-0600
TZOFFSETTO:-0500
TZNAME:America/Chicago CDT
END:DAYLIGHT
BEGIN:DAYLIGHT
DTSTART:20250309T030000
RDATE:20251102T010000
TZOFFSETFROM:-0600
TZOFFSETTO:-0500
TZNAME:America/Chicago CDT
END:DAYLIGHT
BEGIN:DAYLIGHT
DTSTART:20260308T030000
RDATE:20261101T010000
TZOFFSETFROM:-0600
TZOFFSETTO:-0500
TZNAME:America/Chicago CDT
END:DAYLIGHT
BEGIN:DAYLIGHT
DTSTART:20270314T030000
RDATE:20271107T010000
TZOFFSETFROM:-0600
TZOFFSETTO:-0500
TZNAME:America/Chicago CDT
END:DAYLIGHT
BEGIN:DAYLIGHT
DTSTART:20280312T030000
RDATE:20281105T010000
TZOFFSETFROM:-0600
TZOFFSETTO:-0500
TZNAME:America/Chicago CDT
END:DAYLIGHT
END:VTIMEZONE
BEGIN:VEVENT
UID:d117ce165eefeca41568cd7b3297d111
CATEGORIES:5K
CREATED:20181211T044015
SUMMARY:2019 Running of the Squirrels
GEO:-93.63919067;36.99893951
LOCATION:Marionville Elementary School - 200 O'Dell\, Marionville\, MO\, \, 
URL;VALUE=URI:https://beta.actnowracing.com/events/420/2019-running-of-the-squirrels-geo-
 93-63919067-36-99893951?tmpl=component
DESCRIPTION:Happy St. Patrick's Day from the Marionville Comet Pride Marching Band! Com
 e celebrate with the band on March 16th, as we run through historic Marionv
 ille, home of the white squirrel, for the 14th annual Running of the Squirr
 els 5K. The course is flat and easy to navigate, perfect for all ages and a
 bilities. We will have live music and refreshments. Feel free to dress up i
 n your favorite Irish gear and join the fun! Cash awards will be given for 
 Overall Male and Overall Female winners in addition to medals for the top t
 hree male and female finishers in each age category. All proceeds raised fr
 om our 5K will benefit the Marionville Comet Pride Marching Band. Thank you
  for your support!\n This event was imported from: https://beta.actnowracin
 g.com/events/420/2019-running-of-the-squirrels-geo-93-63919067-36-99893951?
 tmpl=component
X-ALT-DESC;FMTTYPE=text/html:<p>Happy St. Patrick's Day from the Marionville Comet Pride Marching Band! 
 Come celebrate with the band on March 16th, as we run through historic Mari
 onville, home of the white squirrel, for the 14th annual Running of the Squ
 irrels 5K. The course is flat and easy to navigate, perfect for all ages an
 d abilities. We will have live music and refreshments. Feel free to dress u
 p in your favorite Irish gear and join the fun! Cash awards will be given f
 or Overall Male and Overall Female winners in addition to medals for the to
 p three male and female finishers in each age category. All proceeds raised
  from our 5K will benefit the Marionville Comet Pride Marching Band. Thank 
 you for your support!</p> <a href="https://beta.actnowracing.com/events/420
 /2019-running-of-the-squirrels-geo-93-63919067-36-99893951?tmpl=component">
 This event was imported from: https://beta.actnowracing.com/events/420/2019
 -running-of-the-squirrels-geo-93-63919067-36-99893951?tmpl=component</a>CONTACT:Race Director Molly Crider at RegularLabs.EmailProtector.unCloak("ep_92b10178");
DTSTAMP:20260423T181918
DTSTART;TZID=America/Chicago:20190316T080000
SEQUENCE:0
TRANSP:OPAQUE
END:VEVENT
END:VCALENDAR