BEGIN:VCALENDAR
VERSION:2.0
PRODID:-//jEvents 2.0 for Joomla//EN
CALSCALE:GREGORIAN
METHOD:PUBLISH
BEGIN:VTIMEZONE
TZID:America/Chicago
BEGIN:STANDARD
DTSTART:20181104T010000
RDATE:20190310T030000
TZOFFSETFROM:-0500
TZOFFSETTO:-0600
TZNAME:America/Chicago CST
END:STANDARD
BEGIN:STANDARD
DTSTART:20191103T010000
RDATE:20200308T030000
TZOFFSETFROM:-0500
TZOFFSETTO:-0600
TZNAME:America/Chicago CST
END:STANDARD
BEGIN:STANDARD
DTSTART:20201101T010000
RDATE:20210314T030000
TZOFFSETFROM:-0500
TZOFFSETTO:-0600
TZNAME:America/Chicago CST
END:STANDARD
BEGIN:STANDARD
DTSTART:20211107T010000
RDATE:20220313T030000
TZOFFSETFROM:-0500
TZOFFSETTO:-0600
TZNAME:America/Chicago CST
END:STANDARD
BEGIN:STANDARD
DTSTART:20221106T010000
RDATE:20230312T030000
TZOFFSETFROM:-0500
TZOFFSETTO:-0600
TZNAME:America/Chicago CST
END:STANDARD
BEGIN:STANDARD
DTSTART:20231105T010000
RDATE:20240310T030000
TZOFFSETFROM:-0500
TZOFFSETTO:-0600
TZNAME:America/Chicago CST
END:STANDARD
BEGIN:STANDARD
DTSTART:20241103T010000
RDATE:20250309T030000
TZOFFSETFROM:-0500
TZOFFSETTO:-0600
TZNAME:America/Chicago CST
END:STANDARD
BEGIN:STANDARD
DTSTART:20251102T010000
RDATE:20260308T030000
TZOFFSETFROM:-0500
TZOFFSETTO:-0600
TZNAME:America/Chicago CST
END:STANDARD
BEGIN:STANDARD
DTSTART:20261101T010000
RDATE:20270314T030000
TZOFFSETFROM:-0500
TZOFFSETTO:-0600
TZNAME:America/Chicago CST
END:STANDARD
BEGIN:STANDARD
DTSTART:20271107T010000
RDATE:20280312T030000
TZOFFSETFROM:-0500
TZOFFSETTO:-0600
TZNAME:America/Chicago CST
END:STANDARD
BEGIN:STANDARD
DTSTART:20281105T010000
RDATE:20290311T030000
TZOFFSETFROM:-0500
TZOFFSETTO:-0600
TZNAME:America/Chicago CST
END:STANDARD
BEGIN:DAYLIGHT
DTSTART:20180726T073000
RDATE:20181104T010000
TZOFFSETFROM:-0600
TZOFFSETTO:-0500
TZNAME:America/Chicago CDT
END:DAYLIGHT
BEGIN:DAYLIGHT
DTSTART:20190310T030000
RDATE:20191103T010000
TZOFFSETFROM:-0600
TZOFFSETTO:-0500
TZNAME:America/Chicago CDT
END:DAYLIGHT
BEGIN:DAYLIGHT
DTSTART:20200308T030000
RDATE:20201101T010000
TZOFFSETFROM:-0600
TZOFFSETTO:-0500
TZNAME:America/Chicago CDT
END:DAYLIGHT
BEGIN:DAYLIGHT
DTSTART:20210314T030000
RDATE:20211107T010000
TZOFFSETFROM:-0600
TZOFFSETTO:-0500
TZNAME:America/Chicago CDT
END:DAYLIGHT
BEGIN:DAYLIGHT
DTSTART:20220313T030000
RDATE:20221106T010000
TZOFFSETFROM:-0600
TZOFFSETTO:-0500
TZNAME:America/Chicago CDT
END:DAYLIGHT
BEGIN:DAYLIGHT
DTSTART:20230312T030000
RDATE:20231105T010000
TZOFFSETFROM:-0600
TZOFFSETTO:-0500
TZNAME:America/Chicago CDT
END:DAYLIGHT
BEGIN:DAYLIGHT
DTSTART:20240310T030000
RDATE:20241103T010000
TZOFFSETFROM:-0600
TZOFFSETTO:-0500
TZNAME:America/Chicago CDT
END:DAYLIGHT
BEGIN:DAYLIGHT
DTSTART:20250309T030000
RDATE:20251102T010000
TZOFFSETFROM:-0600
TZOFFSETTO:-0500
TZNAME:America/Chicago CDT
END:DAYLIGHT
BEGIN:DAYLIGHT
DTSTART:20260308T030000
RDATE:20261101T010000
TZOFFSETFROM:-0600
TZOFFSETTO:-0500
TZNAME:America/Chicago CDT
END:DAYLIGHT
BEGIN:DAYLIGHT
DTSTART:20270314T030000
RDATE:20271107T010000
TZOFFSETFROM:-0600
TZOFFSETTO:-0500
TZNAME:America/Chicago CDT
END:DAYLIGHT
BEGIN:DAYLIGHT
DTSTART:20280312T030000
RDATE:20281105T010000
TZOFFSETFROM:-0600
TZOFFSETTO:-0500
TZNAME:America/Chicago CDT
END:DAYLIGHT
END:VTIMEZONE
BEGIN:VEVENT
UID:37e9c3a7c0b8f037170a6a6a0b7998bf
CATEGORIES:5K
CREATED:20190130T062044
SUMMARY:Take a Walk on the Wild Side 5K
GEO:-93.24964142;37.2174263
LOCATION:Lake Country Soccer Complex - 2334 E Pythian Street\, Springfield\, MO\, \,
  
URL;VALUE=URI:https://beta.actnowracing.com/events/434/take-a-walk-on-the-wild-side-5k-ge
 o-93-24964142-37-2174263?tmpl=component
DESCRIPTION:Join us for the second annual Take a Walk on the Wild Side 5k benefiting La
 ndan’s LegOcy! This is event two of two in our 2019 Wild Summer Family Fun 
 Series (you can find more information about our May 4 kickoff event, the Wi
 ld for Awareness Carnival, on Facebook).\nLandan’s LegOcy is a local organi
 zation that assists families with nonmedical expenses after a child has bee
 n diagnosed with cancer. With almost $200,000 of assistance provided to 144
  families since 2013, Landan’s LegOcy is making a nationwide impact, and yo
 u can be a part of it! We welcome walkers, runners and everyone in between-
 this is an all ages, rain or shine event and we can’t wait to see you there
 !\nFor more information about Landan's LegOcy, go to landanslegOcy.org (htt
 p://www.landanslegocy.org/Page/Landans-Story.aspx)\n This event was importe
 d from: https://beta.actnowracing.com/events/434/take-a-walk-on-the-wild-si
 de-5k-geo-93-24964142-37-2174263?tmpl=component
X-ALT-DESC;FMTTYPE=text/html:<p>Join us for the second annual Take a Walk on the Wild Side 5k benefiting
  Landan’s LegOcy! This is event two of two in our <a href="https://www.face
 book.com/wildforawarenesscarnival/">2019 Wild Summer Family Fun Series</a> 
 (you can find more information about our May 4 kickoff event, the Wild for 
 Awareness Carnival, on Facebook).</p><p>Landan’s LegOcy is a local organiza
 tion that assists families with nonmedical expenses after a child has been 
 diagnosed with cancer. With almost $200,000 of assistance provided to 144 f
 amilies since 2013, Landan’s LegOcy is making a nationwide impact, and you 
 can be a part of it! We welcome walkers, runners and everyone in between-th
 is is an all ages, rain or shine event and we can’t wait to see you there!<
 /p><p>For more information about Landan's LegOcy, go to&nbsp;<a href="http:
 //www.landanslegocy.org/Page/Landans-Story.aspx">landanslegOcy.org</a></p> 
 <a href="https://beta.actnowracing.com/events/434/take-a-walk-on-the-wild-s
 ide-5k-geo-93-24964142-37-2174263?tmpl=component">This event was imported f
 rom: https://beta.actnowracing.com/events/434/take-a-walk-on-the-wild-side-
 5k-geo-93-24964142-37-2174263?tmpl=component</a>CONTACT:Ashley Grady at RegularLabs.EmailProtector.unCloak("ep_0b25b7f6");
DTSTAMP:20260424T144221
DTSTART;TZID=America/Chicago:20190727T073000
SEQUENCE:0
TRANSP:OPAQUE
END:VEVENT
END:VCALENDAR