BEGIN:VCALENDAR
VERSION:2.0
PRODID:-//jEvents 2.0 for Joomla//EN
CALSCALE:GREGORIAN
METHOD:PUBLISH
BEGIN:VTIMEZONE
TZID:America/Chicago
BEGIN:STANDARD
DTSTART:20181104T010000
RDATE:20190310T030000
TZOFFSETFROM:-0500
TZOFFSETTO:-0600
TZNAME:America/Chicago CST
END:STANDARD
BEGIN:STANDARD
DTSTART:20191103T010000
RDATE:20200308T030000
TZOFFSETFROM:-0500
TZOFFSETTO:-0600
TZNAME:America/Chicago CST
END:STANDARD
BEGIN:STANDARD
DTSTART:20201101T010000
RDATE:20210314T030000
TZOFFSETFROM:-0500
TZOFFSETTO:-0600
TZNAME:America/Chicago CST
END:STANDARD
BEGIN:STANDARD
DTSTART:20211107T010000
RDATE:20220313T030000
TZOFFSETFROM:-0500
TZOFFSETTO:-0600
TZNAME:America/Chicago CST
END:STANDARD
BEGIN:STANDARD
DTSTART:20221106T010000
RDATE:20230312T030000
TZOFFSETFROM:-0500
TZOFFSETTO:-0600
TZNAME:America/Chicago CST
END:STANDARD
BEGIN:STANDARD
DTSTART:20231105T010000
RDATE:20240310T030000
TZOFFSETFROM:-0500
TZOFFSETTO:-0600
TZNAME:America/Chicago CST
END:STANDARD
BEGIN:STANDARD
DTSTART:20241103T010000
RDATE:20250309T030000
TZOFFSETFROM:-0500
TZOFFSETTO:-0600
TZNAME:America/Chicago CST
END:STANDARD
BEGIN:STANDARD
DTSTART:20251102T010000
RDATE:20260308T030000
TZOFFSETFROM:-0500
TZOFFSETTO:-0600
TZNAME:America/Chicago CST
END:STANDARD
BEGIN:STANDARD
DTSTART:20261101T010000
RDATE:20270314T030000
TZOFFSETFROM:-0500
TZOFFSETTO:-0600
TZNAME:America/Chicago CST
END:STANDARD
BEGIN:STANDARD
DTSTART:20271107T010000
RDATE:20280312T030000
TZOFFSETFROM:-0500
TZOFFSETTO:-0600
TZNAME:America/Chicago CST
END:STANDARD
BEGIN:STANDARD
DTSTART:20281105T010000
RDATE:20290311T030000
TZOFFSETFROM:-0500
TZOFFSETTO:-0600
TZNAME:America/Chicago CST
END:STANDARD
BEGIN:DAYLIGHT
DTSTART:20180719T080000
RDATE:20181104T010000
TZOFFSETFROM:-0600
TZOFFSETTO:-0500
TZNAME:America/Chicago CDT
END:DAYLIGHT
BEGIN:DAYLIGHT
DTSTART:20190310T030000
RDATE:20191103T010000
TZOFFSETFROM:-0600
TZOFFSETTO:-0500
TZNAME:America/Chicago CDT
END:DAYLIGHT
BEGIN:DAYLIGHT
DTSTART:20200308T030000
RDATE:20201101T010000
TZOFFSETFROM:-0600
TZOFFSETTO:-0500
TZNAME:America/Chicago CDT
END:DAYLIGHT
BEGIN:DAYLIGHT
DTSTART:20210314T030000
RDATE:20211107T010000
TZOFFSETFROM:-0600
TZOFFSETTO:-0500
TZNAME:America/Chicago CDT
END:DAYLIGHT
BEGIN:DAYLIGHT
DTSTART:20220313T030000
RDATE:20221106T010000
TZOFFSETFROM:-0600
TZOFFSETTO:-0500
TZNAME:America/Chicago CDT
END:DAYLIGHT
BEGIN:DAYLIGHT
DTSTART:20230312T030000
RDATE:20231105T010000
TZOFFSETFROM:-0600
TZOFFSETTO:-0500
TZNAME:America/Chicago CDT
END:DAYLIGHT
BEGIN:DAYLIGHT
DTSTART:20240310T030000
RDATE:20241103T010000
TZOFFSETFROM:-0600
TZOFFSETTO:-0500
TZNAME:America/Chicago CDT
END:DAYLIGHT
BEGIN:DAYLIGHT
DTSTART:20250309T030000
RDATE:20251102T010000
TZOFFSETFROM:-0600
TZOFFSETTO:-0500
TZNAME:America/Chicago CDT
END:DAYLIGHT
BEGIN:DAYLIGHT
DTSTART:20260308T030000
RDATE:20261101T010000
TZOFFSETFROM:-0600
TZOFFSETTO:-0500
TZNAME:America/Chicago CDT
END:DAYLIGHT
BEGIN:DAYLIGHT
DTSTART:20270314T030000
RDATE:20271107T010000
TZOFFSETFROM:-0600
TZOFFSETTO:-0500
TZNAME:America/Chicago CDT
END:DAYLIGHT
BEGIN:DAYLIGHT
DTSTART:20280312T030000
RDATE:20281105T010000
TZOFFSETFROM:-0600
TZOFFSETTO:-0500
TZNAME:America/Chicago CDT
END:DAYLIGHT
END:VTIMEZONE
BEGIN:VEVENT
UID:af44f554dbe2deaf71bc3ddd12aa64c5
CATEGORIES:5K
CREATED:20190314T150507
SUMMARY:Run for Hope Family 5K
GEO:-93.21303558;36.64141846
LOCATION:Branson Landing - 100 Branson Landing\, Branson\, MO\, \, 
URL;VALUE=URI:https://beta.actnowracing.com/events/444/run-for-hope-family-5k-geo-93-2130
 3558-36-64141846?tmpl=component
DESCRIPTION:We invite you to join the students and families of Ozarks Teen Challenge in
  the fight against teen addiction as we Run for Hope!  \nOzarks Teen Challe
 nge is a local non-profit, Christian rehabilitation center for teenage boys
  ages 11-17 who are struggling with addiction or other life controlling iss
 ues. Every aspect of our 15-month program: the daily routine, individualize
 d academic &amp; discipleship tracts, recreation therapy, leadership traini
 ng, &amp; life skills projects are developed with intentionality, focusing 
 upon each student's personal growth and development. We are passionate abou
 t life transformation and restoring family relationships! To learn more abo
 ut us go to: www.ozarksteenchallenge.com.\n This event was imported from: h
 ttps://beta.actnowracing.com/events/444/run-for-hope-family-5k-geo-93-21303
 558-36-64141846?tmpl=component
X-ALT-DESC;FMTTYPE=text/html:<p style="text-align: center;"><em><strong>We invite you to join the studen
 ts and families of Ozarks Teen Challenge in the fight against teen addictio
 n as we Run for Hope!&nbsp;&nbsp;</strong></em></p><p><span class="wf_file_
 text">Ozarks Teen Challenge is a local non-profit, Christian rehabilitation
  center for teenage boys ages 11-17 who are struggling with addiction or ot
 her life controlling issues. Every aspect of our 15-month program: the dail
 y routine, individualized academic &amp; discipleship tracts, recreation th
 erapy, leadership training, &amp; life skills projects are developed with i
 ntentionality, focusing upon each student's personal growth and development
 . We are passionate about life transformation and restoring family relation
 ships! To learn more about us go to: www.ozarksteenchallenge.com.</span></p
 > <a href="https://beta.actnowracing.com/events/444/run-for-hope-family-5k-
 geo-93-21303558-36-64141846?tmpl=component">This event was imported from: h
 ttps://beta.actnowracing.com/events/444/run-for-hope-family-5k-geo-93-21303
 558-36-64141846?tmpl=component</a>CONTACT:Cindi Gaunt at RegularLabs.EmailProtector.unCloak("ep_a59d35f6");
DTSTAMP:20260424T144306
DTSTART;TZID=America/Chicago:20190720T080000
SEQUENCE:0
TRANSP:OPAQUE
END:VEVENT
END:VCALENDAR