BEGIN:VCALENDAR
VERSION:2.0
PRODID:-//jEvents 2.0 for Joomla//EN
CALSCALE:GREGORIAN
METHOD:PUBLISH
BEGIN:VTIMEZONE
TZID:America/Chicago
BEGIN:STANDARD
DTSTART:20181104T010000
RDATE:20190310T030000
TZOFFSETFROM:-0500
TZOFFSETTO:-0600
TZNAME:America/Chicago CST
END:STANDARD
BEGIN:STANDARD
DTSTART:20191103T010000
RDATE:20200308T030000
TZOFFSETFROM:-0500
TZOFFSETTO:-0600
TZNAME:America/Chicago CST
END:STANDARD
BEGIN:STANDARD
DTSTART:20201101T010000
RDATE:20210314T030000
TZOFFSETFROM:-0500
TZOFFSETTO:-0600
TZNAME:America/Chicago CST
END:STANDARD
BEGIN:STANDARD
DTSTART:20211107T010000
RDATE:20220313T030000
TZOFFSETFROM:-0500
TZOFFSETTO:-0600
TZNAME:America/Chicago CST
END:STANDARD
BEGIN:STANDARD
DTSTART:20221106T010000
RDATE:20230312T030000
TZOFFSETFROM:-0500
TZOFFSETTO:-0600
TZNAME:America/Chicago CST
END:STANDARD
BEGIN:STANDARD
DTSTART:20231105T010000
RDATE:20240310T030000
TZOFFSETFROM:-0500
TZOFFSETTO:-0600
TZNAME:America/Chicago CST
END:STANDARD
BEGIN:STANDARD
DTSTART:20241103T010000
RDATE:20250309T030000
TZOFFSETFROM:-0500
TZOFFSETTO:-0600
TZNAME:America/Chicago CST
END:STANDARD
BEGIN:STANDARD
DTSTART:20251102T010000
RDATE:20260308T030000
TZOFFSETFROM:-0500
TZOFFSETTO:-0600
TZNAME:America/Chicago CST
END:STANDARD
BEGIN:STANDARD
DTSTART:20261101T010000
RDATE:20270314T030000
TZOFFSETFROM:-0500
TZOFFSETTO:-0600
TZNAME:America/Chicago CST
END:STANDARD
BEGIN:STANDARD
DTSTART:20271107T010000
RDATE:20280312T030000
TZOFFSETFROM:-0500
TZOFFSETTO:-0600
TZNAME:America/Chicago CST
END:STANDARD
BEGIN:STANDARD
DTSTART:20281105T010000
RDATE:20290311T030000
TZOFFSETFROM:-0500
TZOFFSETTO:-0600
TZNAME:America/Chicago CST
END:STANDARD
BEGIN:DAYLIGHT
DTSTART:20180604T183000
RDATE:20181104T010000
TZOFFSETFROM:-0600
TZOFFSETTO:-0500
TZNAME:America/Chicago CDT
END:DAYLIGHT
BEGIN:DAYLIGHT
DTSTART:20190310T030000
RDATE:20191103T010000
TZOFFSETFROM:-0600
TZOFFSETTO:-0500
TZNAME:America/Chicago CDT
END:DAYLIGHT
BEGIN:DAYLIGHT
DTSTART:20200308T030000
RDATE:20201101T010000
TZOFFSETFROM:-0600
TZOFFSETTO:-0500
TZNAME:America/Chicago CDT
END:DAYLIGHT
BEGIN:DAYLIGHT
DTSTART:20210314T030000
RDATE:20211107T010000
TZOFFSETFROM:-0600
TZOFFSETTO:-0500
TZNAME:America/Chicago CDT
END:DAYLIGHT
BEGIN:DAYLIGHT
DTSTART:20220313T030000
RDATE:20221106T010000
TZOFFSETFROM:-0600
TZOFFSETTO:-0500
TZNAME:America/Chicago CDT
END:DAYLIGHT
BEGIN:DAYLIGHT
DTSTART:20230312T030000
RDATE:20231105T010000
TZOFFSETFROM:-0600
TZOFFSETTO:-0500
TZNAME:America/Chicago CDT
END:DAYLIGHT
BEGIN:DAYLIGHT
DTSTART:20240310T030000
RDATE:20241103T010000
TZOFFSETFROM:-0600
TZOFFSETTO:-0500
TZNAME:America/Chicago CDT
END:DAYLIGHT
BEGIN:DAYLIGHT
DTSTART:20250309T030000
RDATE:20251102T010000
TZOFFSETFROM:-0600
TZOFFSETTO:-0500
TZNAME:America/Chicago CDT
END:DAYLIGHT
BEGIN:DAYLIGHT
DTSTART:20260308T030000
RDATE:20261101T010000
TZOFFSETFROM:-0600
TZOFFSETTO:-0500
TZNAME:America/Chicago CDT
END:DAYLIGHT
BEGIN:DAYLIGHT
DTSTART:20270314T030000
RDATE:20271107T010000
TZOFFSETFROM:-0600
TZOFFSETTO:-0500
TZNAME:America/Chicago CDT
END:DAYLIGHT
BEGIN:DAYLIGHT
DTSTART:20280312T030000
RDATE:20281105T010000
TZOFFSETFROM:-0600
TZOFFSETTO:-0500
TZNAME:America/Chicago CDT
END:DAYLIGHT
END:VTIMEZONE
BEGIN:VEVENT
UID:af7e874416b97bb2b0d0cce598cf9af4
CATEGORIES:5K
CREATED:20190507T050654
SUMMARY:The Big Run 2019 
GEO:-93.27681732;37.13709259
LOCATION:Fleet Feet Sports - 1254 E Republic Road\, Springfield\, MO\, \, 
URL;VALUE=URI:https://beta.actnowracing.com/events/454/the-big-run-2019-geo-93-27681732-3
 7-13709259?tmpl=component
DESCRIPTION:Be a part of something big. For the third year, Fleet Feet and Brooks will 
 come together on June 5 to host The Big run. The annual nationwide 5k bring
 s thousands of runners together on Global Running Day to do what we love mo
 st--run.\nLast year, 16,000 runners logged 25,000 miles at more than 100 ev
 ents in more than 20 states. Help us top that number this year. Why? Becaus
 e we want to bring running to more communities; we want more people to set 
 goals and meet them; we want more people to experience that feeling of acco
 mplishment as they cross the finish line.\nBecause running changes everythi
 ng.\nWe want to see the whole community participate because, seriously, run
 ning together rocks. Let us recap the ways:\nYou get to join Fleet Feet Spo
 rts communities across the country participating in a nationally-coordinate
 d event in different locations all on the same day.\nIt's on a Wednesday—wh
 o couldn't use a mid-week pump-up?\nWe know some people. And some pretty co
 ol brands (cough, cough, Brooks). Let's just say, we're planning some fun r
 affle giveaways and category prizes.\n This event was imported from: https:
 //beta.actnowracing.com/events/454/the-big-run-2019-geo-93-27681732-37-1370
 9259?tmpl=component
X-ALT-DESC;FMTTYPE=text/html:<p>Be a part of something big. For the third year, Fleet Feet and Brooks wi
 ll come together on June 5 to host The Big run. The annual nationwide 5k br
 ings thousands of runners together on Global Running Day to do what we love
  most--run.</p><p>Last year, 16,000 runners logged 25,000 miles at more tha
 n 100 events in more than 20 states. Help us top that number this year. Why
 ? Because we want to bring running to more communities; we want more people
  to set goals and meet them; we want more people to experience that feeling
  of accomplishment as they cross the finish line.</p><p>Because running cha
 nges everything.</p><p>We want to see the whole community participate becau
 se, seriously, running together rocks. Let us recap the ways:</p><p>You get
  to join Fleet Feet Sports communities across the country participating in 
 a nationally-coordinated event in different locations all on the same day.<
 br />It's on a Wednesday—who couldn't use a mid-week pump-up?<br />We know 
 some people. And some pretty cool brands (cough, cough, Brooks). Let's just
  say, we're planning some fun raffle giveaways and category prizes.</p> <a 
 href="https://beta.actnowracing.com/events/454/the-big-run-2019-geo-93-2768
 1732-37-13709259?tmpl=component">This event was imported from: https://beta
 .actnowracing.com/events/454/the-big-run-2019-geo-93-27681732-37-13709259?t
 mpl=component</a>CONTACT:Eric at RegularLabs.EmailProtector.unCloak("ep_aff7b265");
DTSTAMP:20260424T121735
DTSTART;TZID=America/Chicago:20190605T183000
SEQUENCE:0
TRANSP:OPAQUE
END:VEVENT
END:VCALENDAR