BEGIN:VCALENDAR
VERSION:2.0
PRODID:-//jEvents 2.0 for Joomla//EN
CALSCALE:GREGORIAN
METHOD:PUBLISH
BEGIN:VTIMEZONE
TZID:America/Chicago
BEGIN:STANDARD
DTSTART:20181104T010000
RDATE:20190310T030000
TZOFFSETFROM:-0500
TZOFFSETTO:-0600
TZNAME:America/Chicago CST
END:STANDARD
BEGIN:STANDARD
DTSTART:20191103T010000
RDATE:20200308T030000
TZOFFSETFROM:-0500
TZOFFSETTO:-0600
TZNAME:America/Chicago CST
END:STANDARD
BEGIN:STANDARD
DTSTART:20201101T010000
RDATE:20210314T030000
TZOFFSETFROM:-0500
TZOFFSETTO:-0600
TZNAME:America/Chicago CST
END:STANDARD
BEGIN:STANDARD
DTSTART:20211107T010000
RDATE:20220313T030000
TZOFFSETFROM:-0500
TZOFFSETTO:-0600
TZNAME:America/Chicago CST
END:STANDARD
BEGIN:STANDARD
DTSTART:20221106T010000
RDATE:20230312T030000
TZOFFSETFROM:-0500
TZOFFSETTO:-0600
TZNAME:America/Chicago CST
END:STANDARD
BEGIN:STANDARD
DTSTART:20231105T010000
RDATE:20240310T030000
TZOFFSETFROM:-0500
TZOFFSETTO:-0600
TZNAME:America/Chicago CST
END:STANDARD
BEGIN:STANDARD
DTSTART:20241103T010000
RDATE:20250309T030000
TZOFFSETFROM:-0500
TZOFFSETTO:-0600
TZNAME:America/Chicago CST
END:STANDARD
BEGIN:STANDARD
DTSTART:20251102T010000
RDATE:20260308T030000
TZOFFSETFROM:-0500
TZOFFSETTO:-0600
TZNAME:America/Chicago CST
END:STANDARD
BEGIN:STANDARD
DTSTART:20261101T010000
RDATE:20270314T030000
TZOFFSETFROM:-0500
TZOFFSETTO:-0600
TZNAME:America/Chicago CST
END:STANDARD
BEGIN:STANDARD
DTSTART:20271107T010000
RDATE:20280312T030000
TZOFFSETFROM:-0500
TZOFFSETTO:-0600
TZNAME:America/Chicago CST
END:STANDARD
BEGIN:STANDARD
DTSTART:20281105T010000
RDATE:20290311T030000
TZOFFSETFROM:-0500
TZOFFSETTO:-0600
TZNAME:America/Chicago CST
END:STANDARD
BEGIN:DAYLIGHT
DTSTART:20181018T090000
RDATE:20181104T010000
TZOFFSETFROM:-0600
TZOFFSETTO:-0500
TZNAME:America/Chicago CDT
END:DAYLIGHT
BEGIN:DAYLIGHT
DTSTART:20190310T030000
RDATE:20191103T010000
TZOFFSETFROM:-0600
TZOFFSETTO:-0500
TZNAME:America/Chicago CDT
END:DAYLIGHT
BEGIN:DAYLIGHT
DTSTART:20200308T030000
RDATE:20201101T010000
TZOFFSETFROM:-0600
TZOFFSETTO:-0500
TZNAME:America/Chicago CDT
END:DAYLIGHT
BEGIN:DAYLIGHT
DTSTART:20210314T030000
RDATE:20211107T010000
TZOFFSETFROM:-0600
TZOFFSETTO:-0500
TZNAME:America/Chicago CDT
END:DAYLIGHT
BEGIN:DAYLIGHT
DTSTART:20220313T030000
RDATE:20221106T010000
TZOFFSETFROM:-0600
TZOFFSETTO:-0500
TZNAME:America/Chicago CDT
END:DAYLIGHT
BEGIN:DAYLIGHT
DTSTART:20230312T030000
RDATE:20231105T010000
TZOFFSETFROM:-0600
TZOFFSETTO:-0500
TZNAME:America/Chicago CDT
END:DAYLIGHT
BEGIN:DAYLIGHT
DTSTART:20240310T030000
RDATE:20241103T010000
TZOFFSETFROM:-0600
TZOFFSETTO:-0500
TZNAME:America/Chicago CDT
END:DAYLIGHT
BEGIN:DAYLIGHT
DTSTART:20250309T030000
RDATE:20251102T010000
TZOFFSETFROM:-0600
TZOFFSETTO:-0500
TZNAME:America/Chicago CDT
END:DAYLIGHT
BEGIN:DAYLIGHT
DTSTART:20260308T030000
RDATE:20261101T010000
TZOFFSETFROM:-0600
TZOFFSETTO:-0500
TZNAME:America/Chicago CDT
END:DAYLIGHT
BEGIN:DAYLIGHT
DTSTART:20270314T030000
RDATE:20271107T010000
TZOFFSETFROM:-0600
TZOFFSETTO:-0500
TZNAME:America/Chicago CDT
END:DAYLIGHT
BEGIN:DAYLIGHT
DTSTART:20280312T030000
RDATE:20281105T010000
TZOFFSETFROM:-0600
TZOFFSETTO:-0500
TZNAME:America/Chicago CDT
END:DAYLIGHT
END:VTIMEZONE
BEGIN:VEVENT
UID:b441465e34bd5d1a5c8713165fa57934
CATEGORIES:5K
CREATED:20190510T121719
SUMMARY:3rd Annual Run to Care
GEO:-93.71004486;36.96978378
LOCATION:Mercy Aurora Clinic - 550 South Hudson\, Aurora\, MO\, \, 
URL;VALUE=URI:https://beta.actnowracing.com/events/456/3rd-annual-run-to-care-geo-93-7100
 4486-36-96978378?tmpl=component
DESCRIPTION:We are gearing up for our 3rd Annual Run to Care and cannot be more excited
  about this year’s event!!!!! Grab your neon, parachute pants and jelly bra
 celets and join us for a race back to the 80’s at the 3rd Annual Mercy Auro
 ra and Cassville Run to Care! This year we are doing things A LOT different
 . Our race continues to grow and we have officially outgrown ourselves so t
 his year ACT NOW Racing will be running the show at the start/finish line, 
 as well as, marking a new and improved course. The timing will be done via 
 chip on your runners bib but you are still welcome to walk if you would pre
 fer and you can still bring your dogs on a leash.\nThis year is also differ
 ent because we are honoring Brandon Roy, former EMS Regional Manager. Brand
 on passed away from cancer in 2018. Brandon was a key player in starting th
 is event and truly lived the Mercy mission both at work and in his communit
 y. This year’s t-shirt design and colors are also in honor of Brandon.\nAll
  of the proceeds from the event benefit the Mercy Aurora and Cassville Miss
 ion Fund, which helps provide support to our patients and visitors in need.
 \n \n \n This event was imported from: https://beta.actnowracing.com/events
 /456/3rd-annual-run-to-care-geo-93-71004486-36-96978378?tmpl=component
X-ALT-DESC;FMTTYPE=text/html:<p>We are gearing up for our 3rd Annual Run to Care and cannot be more exci
 ted about this year’s event!!!!! Grab your neon, parachute pants and jelly 
 bracelets and join us for a race back to the 80’s at the 3rd Annual Mercy A
 urora and Cassville Run to Care! This year we are doing things A LOT differ
 ent. Our race continues to grow and we have officially outgrown ourselves s
 o this year ACT NOW Racing will be running the show at the start/finish lin
 e, as well as, marking a new and improved course. The timing will be done v
 ia chip on your runners bib but you are still welcome to walk if you would 
 prefer and you can still bring your dogs on a leash.</p><p>This year is als
 o different because we are honoring Brandon Roy, former EMS Regional Manage
 r. Brandon passed away from cancer in 2018. Brandon was a key player in sta
 rting this event and truly lived the Mercy mission both at work and in his 
 community. This year’s t-shirt design and colors are also in honor of Brand
 on.</p><p>All of the proceeds from the event benefit the Mercy Aurora and C
 assville Mission Fund, which helps provide support to our patients and visi
 tors in need.</p><p>&nbsp;</p><p>&nbsp;</p> <a href="https://beta.actnowrac
 ing.com/events/456/3rd-annual-run-to-care-geo-93-71004486-36-96978378?tmpl=
 component">This event was imported from: https://beta.actnowracing.com/even
 ts/456/3rd-annual-run-to-care-geo-93-71004486-36-96978378?tmpl=component</a
 >CONTACT:Martha Youngblood at RegularLabs.EmailProtector.unCloak("ep_e311129b");
DTSTAMP:20260425T024257
DTSTART;TZID=America/Chicago:20191019T090000
SEQUENCE:0
TRANSP:OPAQUE
END:VEVENT
END:VCALENDAR