BEGIN:VCALENDAR
VERSION:2.0
PRODID:-//jEvents 2.0 for Joomla//EN
CALSCALE:GREGORIAN
METHOD:PUBLISH
BEGIN:VTIMEZONE
TZID:America/Chicago
BEGIN:STANDARD
DTSTART:20181104T010000
RDATE:20190310T030000
TZOFFSETFROM:-0500
TZOFFSETTO:-0600
TZNAME:America/Chicago CST
END:STANDARD
BEGIN:STANDARD
DTSTART:20191103T010000
RDATE:20200308T030000
TZOFFSETFROM:-0500
TZOFFSETTO:-0600
TZNAME:America/Chicago CST
END:STANDARD
BEGIN:STANDARD
DTSTART:20201101T010000
RDATE:20210314T030000
TZOFFSETFROM:-0500
TZOFFSETTO:-0600
TZNAME:America/Chicago CST
END:STANDARD
BEGIN:STANDARD
DTSTART:20211107T010000
RDATE:20220313T030000
TZOFFSETFROM:-0500
TZOFFSETTO:-0600
TZNAME:America/Chicago CST
END:STANDARD
BEGIN:STANDARD
DTSTART:20221106T010000
RDATE:20230312T030000
TZOFFSETFROM:-0500
TZOFFSETTO:-0600
TZNAME:America/Chicago CST
END:STANDARD
BEGIN:STANDARD
DTSTART:20231105T010000
RDATE:20240310T030000
TZOFFSETFROM:-0500
TZOFFSETTO:-0600
TZNAME:America/Chicago CST
END:STANDARD
BEGIN:STANDARD
DTSTART:20241103T010000
RDATE:20250309T030000
TZOFFSETFROM:-0500
TZOFFSETTO:-0600
TZNAME:America/Chicago CST
END:STANDARD
BEGIN:STANDARD
DTSTART:20251102T010000
RDATE:20260308T030000
TZOFFSETFROM:-0500
TZOFFSETTO:-0600
TZNAME:America/Chicago CST
END:STANDARD
BEGIN:STANDARD
DTSTART:20261101T010000
RDATE:20270314T030000
TZOFFSETFROM:-0500
TZOFFSETTO:-0600
TZNAME:America/Chicago CST
END:STANDARD
BEGIN:STANDARD
DTSTART:20271107T010000
RDATE:20280312T030000
TZOFFSETFROM:-0500
TZOFFSETTO:-0600
TZNAME:America/Chicago CST
END:STANDARD
BEGIN:STANDARD
DTSTART:20281105T010000
RDATE:20290311T030000
TZOFFSETFROM:-0500
TZOFFSETTO:-0600
TZNAME:America/Chicago CST
END:STANDARD
BEGIN:DAYLIGHT
DTSTART:20180913T093000
RDATE:20181104T010000
TZOFFSETFROM:-0600
TZOFFSETTO:-0500
TZNAME:America/Chicago CDT
END:DAYLIGHT
BEGIN:DAYLIGHT
DTSTART:20190310T030000
RDATE:20191103T010000
TZOFFSETFROM:-0600
TZOFFSETTO:-0500
TZNAME:America/Chicago CDT
END:DAYLIGHT
BEGIN:DAYLIGHT
DTSTART:20200308T030000
RDATE:20201101T010000
TZOFFSETFROM:-0600
TZOFFSETTO:-0500
TZNAME:America/Chicago CDT
END:DAYLIGHT
BEGIN:DAYLIGHT
DTSTART:20210314T030000
RDATE:20211107T010000
TZOFFSETFROM:-0600
TZOFFSETTO:-0500
TZNAME:America/Chicago CDT
END:DAYLIGHT
BEGIN:DAYLIGHT
DTSTART:20220313T030000
RDATE:20221106T010000
TZOFFSETFROM:-0600
TZOFFSETTO:-0500
TZNAME:America/Chicago CDT
END:DAYLIGHT
BEGIN:DAYLIGHT
DTSTART:20230312T030000
RDATE:20231105T010000
TZOFFSETFROM:-0600
TZOFFSETTO:-0500
TZNAME:America/Chicago CDT
END:DAYLIGHT
BEGIN:DAYLIGHT
DTSTART:20240310T030000
RDATE:20241103T010000
TZOFFSETFROM:-0600
TZOFFSETTO:-0500
TZNAME:America/Chicago CDT
END:DAYLIGHT
BEGIN:DAYLIGHT
DTSTART:20250309T030000
RDATE:20251102T010000
TZOFFSETFROM:-0600
TZOFFSETTO:-0500
TZNAME:America/Chicago CDT
END:DAYLIGHT
BEGIN:DAYLIGHT
DTSTART:20260308T030000
RDATE:20261101T010000
TZOFFSETFROM:-0600
TZOFFSETTO:-0500
TZNAME:America/Chicago CDT
END:DAYLIGHT
BEGIN:DAYLIGHT
DTSTART:20270314T030000
RDATE:20271107T010000
TZOFFSETFROM:-0600
TZOFFSETTO:-0500
TZNAME:America/Chicago CDT
END:DAYLIGHT
BEGIN:DAYLIGHT
DTSTART:20280312T030000
RDATE:20281105T010000
TZOFFSETFROM:-0600
TZOFFSETTO:-0500
TZNAME:America/Chicago CDT
END:DAYLIGHT
END:VTIMEZONE
BEGIN:VEVENT
UID:29543a7dc0bf0100d46c11868366b493
CATEGORIES:Other
CREATED:20190524T052237
SUMMARY:2019 Landing to Landing
GEO:-93.24610901;36.61894226
LOCATION:Cooper Creek Access - 471 Cooper Creek Rd\, Branson\, MO\, \, 
URL;VALUE=URI:https://beta.actnowracing.com/events/457/2019-landing-to-landing-geo-93-246
 10901-36-61894226?tmpl=component
DESCRIPTION:Together Forever: A Skyler Sanders Family Foundation is a non-profit organi
 zation 501(c) (3) that was created in memory and honor of Skyler Sanders. T
 he goal of Together Forever is to create opportunities for young families t
 hat are given the life shattering news that their child or themselves as a 
 young parent has cancer to make memories that last a lifetime. Together For
 ever’s purpose is to select qualified young families and provide them with 
 an all-expense-paid vacation to the Branson Tri-Lakes area to give them a b
 reak from their normal lives of treatments, hospital and doctor visits. For
  information about Together Forever: A Skyler Sanders Family Foundation, vi
 sit www.togetherforeverskyler.org (http://www.togetherforeverskyler.org).\n
  This event was imported from: https://beta.actnowracing.com/events/457/201
 9-landing-to-landing-geo-93-24610901-36-61894226?tmpl=component
X-ALT-DESC;FMTTYPE=text/html:<p style="text-align: center;">Together Forever: A Skyler Sanders Family Fo
 undation is a non-profit organization 501(c) (3) that was created in memory
  and honor of Skyler Sanders. The goal of Together Forever is to create opp
 ortunities for young families that are given the life shattering news that 
 their child or themselves as a young parent has cancer to make memories tha
 t last a lifetime. Together Forever’s purpose is to select qualified young 
 families and provide them with an all-expense-paid vacation to the Branson 
 Tri-Lakes area to give them a break from their normal lives of treatments, 
 hospital and doctor visits. For information about Together Forever: A Skyle
 r Sanders Family Foundation, visit <a href="http://www.togetherforeverskyle
 r.org" style="background-color: inherit; font-family: inherit; font-size: 1
 rem;">www.togetherforeverskyler.org</a>.</p> <a href="https://beta.actnowra
 cing.com/events/457/2019-landing-to-landing-geo-93-24610901-36-61894226?tmp
 l=component">This event was imported from: https://beta.actnowracing.com/ev
 ents/457/2019-landing-to-landing-geo-93-24610901-36-61894226?tmpl=component
 </a>CONTACT:Ryan Sanders at  RegularLabs.EmailProtector.unCloak("ep_5e18a9c1");
DTSTAMP:20260424T235519
DTSTART;TZID=America/Chicago:20190914T093000
SEQUENCE:0
TRANSP:OPAQUE
END:VEVENT
END:VCALENDAR