BEGIN:VCALENDAR
VERSION:2.0
PRODID:-//jEvents 2.0 for Joomla//EN
CALSCALE:GREGORIAN
METHOD:PUBLISH
BEGIN:VTIMEZONE
TZID:America/Chicago
BEGIN:STANDARD
DTSTART:20181104T010000
RDATE:20190310T030000
TZOFFSETFROM:-0500
TZOFFSETTO:-0600
TZNAME:America/Chicago CST
END:STANDARD
BEGIN:STANDARD
DTSTART:20191103T010000
RDATE:20200308T030000
TZOFFSETFROM:-0500
TZOFFSETTO:-0600
TZNAME:America/Chicago CST
END:STANDARD
BEGIN:STANDARD
DTSTART:20201101T010000
RDATE:20210314T030000
TZOFFSETFROM:-0500
TZOFFSETTO:-0600
TZNAME:America/Chicago CST
END:STANDARD
BEGIN:STANDARD
DTSTART:20211107T010000
RDATE:20220313T030000
TZOFFSETFROM:-0500
TZOFFSETTO:-0600
TZNAME:America/Chicago CST
END:STANDARD
BEGIN:STANDARD
DTSTART:20221106T010000
RDATE:20230312T030000
TZOFFSETFROM:-0500
TZOFFSETTO:-0600
TZNAME:America/Chicago CST
END:STANDARD
BEGIN:STANDARD
DTSTART:20231105T010000
RDATE:20240310T030000
TZOFFSETFROM:-0500
TZOFFSETTO:-0600
TZNAME:America/Chicago CST
END:STANDARD
BEGIN:STANDARD
DTSTART:20241103T010000
RDATE:20250309T030000
TZOFFSETFROM:-0500
TZOFFSETTO:-0600
TZNAME:America/Chicago CST
END:STANDARD
BEGIN:STANDARD
DTSTART:20251102T010000
RDATE:20260308T030000
TZOFFSETFROM:-0500
TZOFFSETTO:-0600
TZNAME:America/Chicago CST
END:STANDARD
BEGIN:STANDARD
DTSTART:20261101T010000
RDATE:20270314T030000
TZOFFSETFROM:-0500
TZOFFSETTO:-0600
TZNAME:America/Chicago CST
END:STANDARD
BEGIN:STANDARD
DTSTART:20271107T010000
RDATE:20280312T030000
TZOFFSETFROM:-0500
TZOFFSETTO:-0600
TZNAME:America/Chicago CST
END:STANDARD
BEGIN:STANDARD
DTSTART:20281105T010000
RDATE:20290311T030000
TZOFFSETFROM:-0500
TZOFFSETTO:-0600
TZNAME:America/Chicago CST
END:STANDARD
BEGIN:DAYLIGHT
DTSTART:20180927T083000
RDATE:20181104T010000
TZOFFSETFROM:-0600
TZOFFSETTO:-0500
TZNAME:America/Chicago CDT
END:DAYLIGHT
BEGIN:DAYLIGHT
DTSTART:20190310T030000
RDATE:20191103T010000
TZOFFSETFROM:-0600
TZOFFSETTO:-0500
TZNAME:America/Chicago CDT
END:DAYLIGHT
BEGIN:DAYLIGHT
DTSTART:20200308T030000
RDATE:20201101T010000
TZOFFSETFROM:-0600
TZOFFSETTO:-0500
TZNAME:America/Chicago CDT
END:DAYLIGHT
BEGIN:DAYLIGHT
DTSTART:20210314T030000
RDATE:20211107T010000
TZOFFSETFROM:-0600
TZOFFSETTO:-0500
TZNAME:America/Chicago CDT
END:DAYLIGHT
BEGIN:DAYLIGHT
DTSTART:20220313T030000
RDATE:20221106T010000
TZOFFSETFROM:-0600
TZOFFSETTO:-0500
TZNAME:America/Chicago CDT
END:DAYLIGHT
BEGIN:DAYLIGHT
DTSTART:20230312T030000
RDATE:20231105T010000
TZOFFSETFROM:-0600
TZOFFSETTO:-0500
TZNAME:America/Chicago CDT
END:DAYLIGHT
BEGIN:DAYLIGHT
DTSTART:20240310T030000
RDATE:20241103T010000
TZOFFSETFROM:-0600
TZOFFSETTO:-0500
TZNAME:America/Chicago CDT
END:DAYLIGHT
BEGIN:DAYLIGHT
DTSTART:20250309T030000
RDATE:20251102T010000
TZOFFSETFROM:-0600
TZOFFSETTO:-0500
TZNAME:America/Chicago CDT
END:DAYLIGHT
BEGIN:DAYLIGHT
DTSTART:20260308T030000
RDATE:20261101T010000
TZOFFSETFROM:-0600
TZOFFSETTO:-0500
TZNAME:America/Chicago CDT
END:DAYLIGHT
BEGIN:DAYLIGHT
DTSTART:20270314T030000
RDATE:20271107T010000
TZOFFSETFROM:-0600
TZOFFSETTO:-0500
TZNAME:America/Chicago CDT
END:DAYLIGHT
BEGIN:DAYLIGHT
DTSTART:20280312T030000
RDATE:20281105T010000
TZOFFSETFROM:-0600
TZOFFSETTO:-0500
TZNAME:America/Chicago CDT
END:DAYLIGHT
END:VTIMEZONE
BEGIN:VEVENT
UID:9c6193095a8cd301c8a0c12441192954
CATEGORIES:5K, 1 Mile
CREATED:20190611T115354
SUMMARY:8th Annual Vision Clinic Run
GEO:-93.27767944;37.15171432
LOCATION:Vision Clinic - 3440 South National\, Springfield\, MO\, \, US
URL;VALUE=URI:https://beta.actnowracing.com/events/462/8th-annual-vision-clinic-run-geo-9
 3-27767944-37-15171432?tmpl=component
DESCRIPTION:<p>Join us for the 8th Annual Vision Clinic 5K and 1 Mile Fun Run! All proc
 eeds proceeds benefit Optometry Giving Sight!</p> <a href="https://beta.act
 nowracing.com/events/462/8th-annual-vision-clinic-run-geo-93-27767944-37-15
 171432?tmpl=component">This event was imported from: https://beta.actnowrac
 ing.com/events/462/8th-annual-vision-clinic-run-geo-93-27767944-37-15171432
 ?tmpl=component</a>CONTACT:Cindy Doss at RegularLabs.EmailProtector.unCloak("ep_88b50742");
DTSTAMP:20260424T235608
DTSTART;TZID=America/Chicago:20190928T083000
SEQUENCE:0
TRANSP:OPAQUE
END:VEVENT
END:VCALENDAR