BEGIN:VCALENDAR
VERSION:2.0
PRODID:-//jEvents 2.0 for Joomla//EN
CALSCALE:GREGORIAN
METHOD:PUBLISH
BEGIN:VTIMEZONE
TZID:America/Chicago
BEGIN:STANDARD
DTSTART:20181104T010000
RDATE:20190310T030000
TZOFFSETFROM:-0500
TZOFFSETTO:-0600
TZNAME:America/Chicago CST
END:STANDARD
BEGIN:STANDARD
DTSTART:20191103T010000
RDATE:20200308T030000
TZOFFSETFROM:-0500
TZOFFSETTO:-0600
TZNAME:America/Chicago CST
END:STANDARD
BEGIN:STANDARD
DTSTART:20201101T010000
RDATE:20210314T030000
TZOFFSETFROM:-0500
TZOFFSETTO:-0600
TZNAME:America/Chicago CST
END:STANDARD
BEGIN:STANDARD
DTSTART:20211107T010000
RDATE:20220313T030000
TZOFFSETFROM:-0500
TZOFFSETTO:-0600
TZNAME:America/Chicago CST
END:STANDARD
BEGIN:STANDARD
DTSTART:20221106T010000
RDATE:20230312T030000
TZOFFSETFROM:-0500
TZOFFSETTO:-0600
TZNAME:America/Chicago CST
END:STANDARD
BEGIN:STANDARD
DTSTART:20231105T010000
RDATE:20240310T030000
TZOFFSETFROM:-0500
TZOFFSETTO:-0600
TZNAME:America/Chicago CST
END:STANDARD
BEGIN:STANDARD
DTSTART:20241103T010000
RDATE:20250309T030000
TZOFFSETFROM:-0500
TZOFFSETTO:-0600
TZNAME:America/Chicago CST
END:STANDARD
BEGIN:STANDARD
DTSTART:20251102T010000
RDATE:20260308T030000
TZOFFSETFROM:-0500
TZOFFSETTO:-0600
TZNAME:America/Chicago CST
END:STANDARD
BEGIN:STANDARD
DTSTART:20261101T010000
RDATE:20270314T030000
TZOFFSETFROM:-0500
TZOFFSETTO:-0600
TZNAME:America/Chicago CST
END:STANDARD
BEGIN:STANDARD
DTSTART:20271107T010000
RDATE:20280312T030000
TZOFFSETFROM:-0500
TZOFFSETTO:-0600
TZNAME:America/Chicago CST
END:STANDARD
BEGIN:STANDARD
DTSTART:20281105T010000
RDATE:20290311T030000
TZOFFSETFROM:-0500
TZOFFSETTO:-0600
TZNAME:America/Chicago CST
END:STANDARD
BEGIN:DAYLIGHT
DTSTART:20181018T090000
RDATE:20181104T010000
TZOFFSETFROM:-0600
TZOFFSETTO:-0500
TZNAME:America/Chicago CDT
END:DAYLIGHT
BEGIN:DAYLIGHT
DTSTART:20190310T030000
RDATE:20191103T010000
TZOFFSETFROM:-0600
TZOFFSETTO:-0500
TZNAME:America/Chicago CDT
END:DAYLIGHT
BEGIN:DAYLIGHT
DTSTART:20200308T030000
RDATE:20201101T010000
TZOFFSETFROM:-0600
TZOFFSETTO:-0500
TZNAME:America/Chicago CDT
END:DAYLIGHT
BEGIN:DAYLIGHT
DTSTART:20210314T030000
RDATE:20211107T010000
TZOFFSETFROM:-0600
TZOFFSETTO:-0500
TZNAME:America/Chicago CDT
END:DAYLIGHT
BEGIN:DAYLIGHT
DTSTART:20220313T030000
RDATE:20221106T010000
TZOFFSETFROM:-0600
TZOFFSETTO:-0500
TZNAME:America/Chicago CDT
END:DAYLIGHT
BEGIN:DAYLIGHT
DTSTART:20230312T030000
RDATE:20231105T010000
TZOFFSETFROM:-0600
TZOFFSETTO:-0500
TZNAME:America/Chicago CDT
END:DAYLIGHT
BEGIN:DAYLIGHT
DTSTART:20240310T030000
RDATE:20241103T010000
TZOFFSETFROM:-0600
TZOFFSETTO:-0500
TZNAME:America/Chicago CDT
END:DAYLIGHT
BEGIN:DAYLIGHT
DTSTART:20250309T030000
RDATE:20251102T010000
TZOFFSETFROM:-0600
TZOFFSETTO:-0500
TZNAME:America/Chicago CDT
END:DAYLIGHT
BEGIN:DAYLIGHT
DTSTART:20260308T030000
RDATE:20261101T010000
TZOFFSETFROM:-0600
TZOFFSETTO:-0500
TZNAME:America/Chicago CDT
END:DAYLIGHT
BEGIN:DAYLIGHT
DTSTART:20270314T030000
RDATE:20271107T010000
TZOFFSETFROM:-0600
TZOFFSETTO:-0500
TZNAME:America/Chicago CDT
END:DAYLIGHT
BEGIN:DAYLIGHT
DTSTART:20280312T030000
RDATE:20281105T010000
TZOFFSETFROM:-0600
TZOFFSETTO:-0500
TZNAME:America/Chicago CDT
END:DAYLIGHT
END:VTIMEZONE
BEGIN:VEVENT
UID:1afc755c3552f98c2d9fad07d85d7a3f
CATEGORIES:5K, 1 Mile
CREATED:20190626T123730
SUMMARY:2019 Reach for the Stars 5K
GEO:-93.30027008;37.19074249
LOCATION:JFK Stadium - 1333 S. Grant Ave\, Springfield\, MO\, \, 
URL;VALUE=URI:https://beta.actnowracing.com/events/464/2019-reach-for-the-stars-5k-geo-93
 -30027008-37-19074249?tmpl=component
DESCRIPTION:<p>Shining Stars Early Childhood Center is excited to present the 4th Annua
 l Reach for the Stars! Our goal is to improve the quality of the playground
  in order to give students meaningful experiences as they develop their gro
 ss motor skills. Shining Stars Early Childhood Center provides special educ
 ation services to students age 3 to 5 with significant developmental delays
 .</p><p>All proceeds from the event will be donated to Shining Stars Early 
 Childhood Center to make purchases and improvements to their playground. Gr
 oss motor skills are the skills needed to control the large muscles of the 
 body in a controlled and coordinated way. The window to develop gross motor
  skills is a relatively narrow one, therefore it is crucial to provide oppo
 rtunities for these skills to develop. Gross motor skills begin developing 
 at birth with the most critical time for development occurring between eigh
 teen (1.5 years) and sixty months (5 years) of age. According to the Nation
 al Association for the Education of Young Children, some children entering 
 kindergarten may exhibit developmental delays in gross motor skills if they
  do not have sufficient opportunities to learn and practice these active sk
 ills during early childhood. Research also supports that children who engag
 e in physical activity regularly have increased attention spans which are n
 ecessary for successful academic participation in school settings.</p><p><s
 pan style="font-size: 12pt;"><strong><a href="https://actnowracing.com/imag
 es/Events/REACH_FOR_THE_STARS/REACH_FOR_THE_STARS_AGE_GROUP_RESULTS.pdf" cl
 ass="wf_file"><span class="wf_file_text"></span></a></strong></span></p> <a
  href="https://beta.actnowracing.com/events/464/2019-reach-for-the-stars-5k
 -geo-93-30027008-37-19074249?tmpl=component">This event was imported from: 
 https://beta.actnowracing.com/events/464/2019-reach-for-the-stars-5k-geo-93
 -30027008-37-19074249?tmpl=component</a>CONTACT:Ellie Crumbaugh at RegularLabs.EmailProtector.unCloak("ep_daac0884");
DTSTAMP:20260425T024255
DTSTART;TZID=America/Chicago:20191019T090000
SEQUENCE:0
TRANSP:OPAQUE
END:VEVENT
END:VCALENDAR