BEGIN:VCALENDAR
VERSION:2.0
PRODID:-//jEvents 2.0 for Joomla//EN
CALSCALE:GREGORIAN
METHOD:PUBLISH
BEGIN:VTIMEZONE
TZID:America/Chicago
BEGIN:STANDARD
DTSTART:20181104T010000
RDATE:20190310T030000
TZOFFSETFROM:-0500
TZOFFSETTO:-0600
TZNAME:America/Chicago CST
END:STANDARD
BEGIN:STANDARD
DTSTART:20191103T010000
RDATE:20200308T030000
TZOFFSETFROM:-0500
TZOFFSETTO:-0600
TZNAME:America/Chicago CST
END:STANDARD
BEGIN:STANDARD
DTSTART:20201101T010000
RDATE:20210314T030000
TZOFFSETFROM:-0500
TZOFFSETTO:-0600
TZNAME:America/Chicago CST
END:STANDARD
BEGIN:STANDARD
DTSTART:20211107T010000
RDATE:20220313T030000
TZOFFSETFROM:-0500
TZOFFSETTO:-0600
TZNAME:America/Chicago CST
END:STANDARD
BEGIN:STANDARD
DTSTART:20221106T010000
RDATE:20230312T030000
TZOFFSETFROM:-0500
TZOFFSETTO:-0600
TZNAME:America/Chicago CST
END:STANDARD
BEGIN:STANDARD
DTSTART:20231105T010000
RDATE:20240310T030000
TZOFFSETFROM:-0500
TZOFFSETTO:-0600
TZNAME:America/Chicago CST
END:STANDARD
BEGIN:STANDARD
DTSTART:20241103T010000
RDATE:20250309T030000
TZOFFSETFROM:-0500
TZOFFSETTO:-0600
TZNAME:America/Chicago CST
END:STANDARD
BEGIN:STANDARD
DTSTART:20251102T010000
RDATE:20260308T030000
TZOFFSETFROM:-0500
TZOFFSETTO:-0600
TZNAME:America/Chicago CST
END:STANDARD
BEGIN:STANDARD
DTSTART:20261101T010000
RDATE:20270314T030000
TZOFFSETFROM:-0500
TZOFFSETTO:-0600
TZNAME:America/Chicago CST
END:STANDARD
BEGIN:STANDARD
DTSTART:20271107T010000
RDATE:20280312T030000
TZOFFSETFROM:-0500
TZOFFSETTO:-0600
TZNAME:America/Chicago CST
END:STANDARD
BEGIN:STANDARD
DTSTART:20281105T010000
RDATE:20290311T030000
TZOFFSETFROM:-0500
TZOFFSETTO:-0600
TZNAME:America/Chicago CST
END:STANDARD
BEGIN:DAYLIGHT
DTSTART:20181101T083000
RDATE:20181104T010000
TZOFFSETFROM:-0600
TZOFFSETTO:-0500
TZNAME:America/Chicago CDT
END:DAYLIGHT
BEGIN:DAYLIGHT
DTSTART:20190310T030000
RDATE:20191103T010000
TZOFFSETFROM:-0600
TZOFFSETTO:-0500
TZNAME:America/Chicago CDT
END:DAYLIGHT
BEGIN:DAYLIGHT
DTSTART:20200308T030000
RDATE:20201101T010000
TZOFFSETFROM:-0600
TZOFFSETTO:-0500
TZNAME:America/Chicago CDT
END:DAYLIGHT
BEGIN:DAYLIGHT
DTSTART:20210314T030000
RDATE:20211107T010000
TZOFFSETFROM:-0600
TZOFFSETTO:-0500
TZNAME:America/Chicago CDT
END:DAYLIGHT
BEGIN:DAYLIGHT
DTSTART:20220313T030000
RDATE:20221106T010000
TZOFFSETFROM:-0600
TZOFFSETTO:-0500
TZNAME:America/Chicago CDT
END:DAYLIGHT
BEGIN:DAYLIGHT
DTSTART:20230312T030000
RDATE:20231105T010000
TZOFFSETFROM:-0600
TZOFFSETTO:-0500
TZNAME:America/Chicago CDT
END:DAYLIGHT
BEGIN:DAYLIGHT
DTSTART:20240310T030000
RDATE:20241103T010000
TZOFFSETFROM:-0600
TZOFFSETTO:-0500
TZNAME:America/Chicago CDT
END:DAYLIGHT
BEGIN:DAYLIGHT
DTSTART:20250309T030000
RDATE:20251102T010000
TZOFFSETFROM:-0600
TZOFFSETTO:-0500
TZNAME:America/Chicago CDT
END:DAYLIGHT
BEGIN:DAYLIGHT
DTSTART:20260308T030000
RDATE:20261101T010000
TZOFFSETFROM:-0600
TZOFFSETTO:-0500
TZNAME:America/Chicago CDT
END:DAYLIGHT
BEGIN:DAYLIGHT
DTSTART:20270314T030000
RDATE:20271107T010000
TZOFFSETFROM:-0600
TZOFFSETTO:-0500
TZNAME:America/Chicago CDT
END:DAYLIGHT
BEGIN:DAYLIGHT
DTSTART:20280312T030000
RDATE:20281105T010000
TZOFFSETFROM:-0600
TZOFFSETTO:-0500
TZNAME:America/Chicago CDT
END:DAYLIGHT
END:VTIMEZONE
BEGIN:VEVENT
UID:499b79fa4c0797743a12265859671988
CATEGORIES:5K
CREATED:20190630T193947
SUMMARY:Heroes 5K
GEO:-93.43685913;37.3102417
LOCATION:Willard Community Center - 222 W. Jackson Street\, Willard\, MO\, \, 
URL;VALUE=URI:https://beta.actnowracing.com/events/467/heroes-5k-geo-93-43685913-37-31024
 17?tmpl=component
DESCRIPTION:<p>Join us this year for the 1st Annual Heroes 5k Run. We will be holding t
 his in an effort to raise money for the Sunshine Brotherhood Charity. This 
 event will be held on the same day as the Willard Veteran's Day Parade and 
 is the perfect event for families and individuals who are looking to give b
 ack to our local heroes.</p><p>In 2015 the Sunshine Brotherhood was started
  by Aaron and Linda Goddard. Aaron was a Rescue Specialist for the Springfi
 eld, Missouri Fire Department, eleven years into his career he was diagnose
 d with Esophageal Cancer. He lost his battle to cancer after 2 1/2 years of
  courageous fighting in June 2015. While battling cancer Linda and Aaron cr
 eated a foundation to help firefighters financially during a crisis. A coup
 le of times during their journey the Fire Department did fundraisers and co
 llected money for the Goddard family to help with medical costs. They were 
 extremely touched by these financial gifts and decided they wanted to give 
 something back. They discussed several times that they didn't know what fam
 ilies did if it was not a dual income household. A firefighter's income wou
 ld not sustain a household during a time of crisis. Linda took the money th
 at was donated after Aaron's passing into the Sunshine Brotherhood - Aaron 
 Goddard Foundation. The purpose of the foundation is to provide financial s
 upport, education on cancer prevention in the fire service, and to sustain 
 an annual scholarship to Willard High School to a graduate pursuing a trade
  or public service career. To date four $1000 scholarships have been awarde
 d to Willard High School seniors since 2015. Two families have received mon
 etary gifts during this time of need.</p> <a href="https://beta.actnowracin
 g.com/events/467/heroes-5k-geo-93-43685913-37-3102417?tmpl=component">This 
 event was imported from: https://beta.actnowracing.com/events/467/heroes-5k
 -geo-93-43685913-37-3102417?tmpl=component</a>CONTACT:Anthony Perkins at RegularLabs.EmailProtector.unCloak("ep_8f0e008a");
DTSTAMP:20260423T110527
DTSTART;TZID=America/Chicago:20191102T083000
SEQUENCE:0
TRANSP:OPAQUE
END:VEVENT
END:VCALENDAR