BEGIN:VCALENDAR
VERSION:2.0
PRODID:-//jEvents 2.0 for Joomla//EN
CALSCALE:GREGORIAN
METHOD:PUBLISH
BEGIN:VTIMEZONE
TZID:America/Chicago
BEGIN:STANDARD
DTSTART:20181104T010000
RDATE:20190310T030000
TZOFFSETFROM:-0500
TZOFFSETTO:-0600
TZNAME:America/Chicago CST
END:STANDARD
BEGIN:STANDARD
DTSTART:20191103T010000
RDATE:20200308T030000
TZOFFSETFROM:-0500
TZOFFSETTO:-0600
TZNAME:America/Chicago CST
END:STANDARD
BEGIN:STANDARD
DTSTART:20201101T010000
RDATE:20210314T030000
TZOFFSETFROM:-0500
TZOFFSETTO:-0600
TZNAME:America/Chicago CST
END:STANDARD
BEGIN:STANDARD
DTSTART:20211107T010000
RDATE:20220313T030000
TZOFFSETFROM:-0500
TZOFFSETTO:-0600
TZNAME:America/Chicago CST
END:STANDARD
BEGIN:STANDARD
DTSTART:20221106T010000
RDATE:20230312T030000
TZOFFSETFROM:-0500
TZOFFSETTO:-0600
TZNAME:America/Chicago CST
END:STANDARD
BEGIN:STANDARD
DTSTART:20231105T010000
RDATE:20240310T030000
TZOFFSETFROM:-0500
TZOFFSETTO:-0600
TZNAME:America/Chicago CST
END:STANDARD
BEGIN:STANDARD
DTSTART:20241103T010000
RDATE:20250309T030000
TZOFFSETFROM:-0500
TZOFFSETTO:-0600
TZNAME:America/Chicago CST
END:STANDARD
BEGIN:STANDARD
DTSTART:20251102T010000
RDATE:20260308T030000
TZOFFSETFROM:-0500
TZOFFSETTO:-0600
TZNAME:America/Chicago CST
END:STANDARD
BEGIN:STANDARD
DTSTART:20261101T010000
RDATE:20270314T030000
TZOFFSETFROM:-0500
TZOFFSETTO:-0600
TZNAME:America/Chicago CST
END:STANDARD
BEGIN:STANDARD
DTSTART:20271107T010000
RDATE:20280312T030000
TZOFFSETFROM:-0500
TZOFFSETTO:-0600
TZNAME:America/Chicago CST
END:STANDARD
BEGIN:STANDARD
DTSTART:20281105T010000
RDATE:20290311T030000
TZOFFSETFROM:-0500
TZOFFSETTO:-0600
TZNAME:America/Chicago CST
END:STANDARD
BEGIN:DAYLIGHT
DTSTART:20180823T070000
RDATE:20181104T010000
TZOFFSETFROM:-0600
TZOFFSETTO:-0500
TZNAME:America/Chicago CDT
END:DAYLIGHT
BEGIN:DAYLIGHT
DTSTART:20190310T030000
RDATE:20191103T010000
TZOFFSETFROM:-0600
TZOFFSETTO:-0500
TZNAME:America/Chicago CDT
END:DAYLIGHT
BEGIN:DAYLIGHT
DTSTART:20200308T030000
RDATE:20201101T010000
TZOFFSETFROM:-0600
TZOFFSETTO:-0500
TZNAME:America/Chicago CDT
END:DAYLIGHT
BEGIN:DAYLIGHT
DTSTART:20210314T030000
RDATE:20211107T010000
TZOFFSETFROM:-0600
TZOFFSETTO:-0500
TZNAME:America/Chicago CDT
END:DAYLIGHT
BEGIN:DAYLIGHT
DTSTART:20220313T030000
RDATE:20221106T010000
TZOFFSETFROM:-0600
TZOFFSETTO:-0500
TZNAME:America/Chicago CDT
END:DAYLIGHT
BEGIN:DAYLIGHT
DTSTART:20230312T030000
RDATE:20231105T010000
TZOFFSETFROM:-0600
TZOFFSETTO:-0500
TZNAME:America/Chicago CDT
END:DAYLIGHT
BEGIN:DAYLIGHT
DTSTART:20240310T030000
RDATE:20241103T010000
TZOFFSETFROM:-0600
TZOFFSETTO:-0500
TZNAME:America/Chicago CDT
END:DAYLIGHT
BEGIN:DAYLIGHT
DTSTART:20250309T030000
RDATE:20251102T010000
TZOFFSETFROM:-0600
TZOFFSETTO:-0500
TZNAME:America/Chicago CDT
END:DAYLIGHT
BEGIN:DAYLIGHT
DTSTART:20260308T030000
RDATE:20261101T010000
TZOFFSETFROM:-0600
TZOFFSETTO:-0500
TZNAME:America/Chicago CDT
END:DAYLIGHT
BEGIN:DAYLIGHT
DTSTART:20270314T030000
RDATE:20271107T010000
TZOFFSETFROM:-0600
TZOFFSETTO:-0500
TZNAME:America/Chicago CDT
END:DAYLIGHT
BEGIN:DAYLIGHT
DTSTART:20280312T030000
RDATE:20281105T010000
TZOFFSETFROM:-0600
TZOFFSETTO:-0500
TZNAME:America/Chicago CDT
END:DAYLIGHT
END:VTIMEZONE
BEGIN:VEVENT
UID:eb4790d1018418c4cb098830b060e0b8
CATEGORIES:5K, 10K, 1 Mile
CREATED:20190729T144931
SUMMARY:Habitat Home Run
GEO:-93.29200745;37.23325348
LOCATION:Lafayette Park - 202 E. Atlantic Street\, Springfield\, MO\, \, 
URL;VALUE=URI:https://beta.actnowracing.com/events/477/habitat-home-run-geo-93-29200745-3
 7-23325348?tmpl=component
DESCRIPTION:Join us for the 10th annual Habitat Home Run, a 5k, 10k, and 1 mile fun run
  on Saturday, August 24, 2019! Run through our fast, flat, and shady course
  on our new race route in Woodland Heights, Habitat’s partner in Neighborho
 od Revitalization!\nAll proceeds benefit Habitat for Humanity’s Neighborhoo
 d Revitalization efforts in Woodland Heights\nThe Habitat Home Run: 5k, 10k
 , 1 mile run is presented by Great American Title Company – a five-year par
 tnership!\n This event was imported from: https://beta.actnowracing.com/eve
 nts/477/habitat-home-run-geo-93-29200745-37-23325348?tmpl=component (https:
 //beta.actnowracing.com/events/477/habitat-home-run-geo-93-29200745-37-2332
 5348?tmpl=component)
X-ALT-DESC;FMTTYPE=text/html:<p>Join us for the 10th annual Habitat Home Run, a 5k, 10k, and 1 mile fun 
 run on Saturday, August 24, 2019! Run through our fast, flat, and shady cou
 rse on our new race route in Woodland Heights, Habitat’s partner in Neighbo
 rhood Revitalization!</p><p>All proceeds benefit Habitat for Humanity’s Nei
 ghborhood Revitalization efforts in Woodland Heights</p><p>The Habitat Home
  Run: 5k, 10k, 1 mile run is presented by Great American Title Company – a 
 five-year partnership!</p> <a href="https://beta.actnowracing.com/events/47
 7/habitat-home-run-geo-93-29200745-37-23325348?tmpl=component">This event w
 as imported from: https://beta.actnowracing.com/events/477/habitat-home-run
 -geo-93-29200745-37-23325348?tmpl=component</a>CONTACT:Abby Glenn at RegularLabs.EmailProtector.unCloak("ep_3b1b1fd7");
DTSTAMP:20260424T190749
DTSTART;TZID=America/Chicago:20190824T070000
SEQUENCE:0
TRANSP:OPAQUE
END:VEVENT
END:VCALENDAR