BEGIN:VCALENDAR
VERSION:2.0
PRODID:-//jEvents 2.0 for Joomla//EN
CALSCALE:GREGORIAN
METHOD:PUBLISH
BEGIN:VTIMEZONE
TZID:America/Chicago
BEGIN:STANDARD
DTSTART:20191103T010000
RDATE:20200308T030000
TZOFFSETFROM:-0500
TZOFFSETTO:-0600
TZNAME:America/Chicago CST
END:STANDARD
BEGIN:STANDARD
DTSTART:20201101T010000
RDATE:20210314T030000
TZOFFSETFROM:-0500
TZOFFSETTO:-0600
TZNAME:America/Chicago CST
END:STANDARD
BEGIN:STANDARD
DTSTART:20211107T010000
RDATE:20220313T030000
TZOFFSETFROM:-0500
TZOFFSETTO:-0600
TZNAME:America/Chicago CST
END:STANDARD
BEGIN:STANDARD
DTSTART:20221106T010000
RDATE:20230312T030000
TZOFFSETFROM:-0500
TZOFFSETTO:-0600
TZNAME:America/Chicago CST
END:STANDARD
BEGIN:STANDARD
DTSTART:20231105T010000
RDATE:20240310T030000
TZOFFSETFROM:-0500
TZOFFSETTO:-0600
TZNAME:America/Chicago CST
END:STANDARD
BEGIN:STANDARD
DTSTART:20241103T010000
RDATE:20250309T030000
TZOFFSETFROM:-0500
TZOFFSETTO:-0600
TZNAME:America/Chicago CST
END:STANDARD
BEGIN:STANDARD
DTSTART:20251102T010000
RDATE:20260308T030000
TZOFFSETFROM:-0500
TZOFFSETTO:-0600
TZNAME:America/Chicago CST
END:STANDARD
BEGIN:STANDARD
DTSTART:20261101T010000
RDATE:20270314T030000
TZOFFSETFROM:-0500
TZOFFSETTO:-0600
TZNAME:America/Chicago CST
END:STANDARD
BEGIN:STANDARD
DTSTART:20271107T010000
RDATE:20280312T030000
TZOFFSETFROM:-0500
TZOFFSETTO:-0600
TZNAME:America/Chicago CST
END:STANDARD
BEGIN:STANDARD
DTSTART:20281105T010000
RDATE:20290311T030000
TZOFFSETFROM:-0500
TZOFFSETTO:-0600
TZNAME:America/Chicago CST
END:STANDARD
BEGIN:DAYLIGHT
DTSTART:20190711T200000
RDATE:20191103T010000
TZOFFSETFROM:-0600
TZOFFSETTO:-0500
TZNAME:America/Chicago CDT
END:DAYLIGHT
BEGIN:DAYLIGHT
DTSTART:20200308T030000
RDATE:20201101T010000
TZOFFSETFROM:-0600
TZOFFSETTO:-0500
TZNAME:America/Chicago CDT
END:DAYLIGHT
BEGIN:DAYLIGHT
DTSTART:20210314T030000
RDATE:20211107T010000
TZOFFSETFROM:-0600
TZOFFSETTO:-0500
TZNAME:America/Chicago CDT
END:DAYLIGHT
BEGIN:DAYLIGHT
DTSTART:20220313T030000
RDATE:20221106T010000
TZOFFSETFROM:-0600
TZOFFSETTO:-0500
TZNAME:America/Chicago CDT
END:DAYLIGHT
BEGIN:DAYLIGHT
DTSTART:20230312T030000
RDATE:20231105T010000
TZOFFSETFROM:-0600
TZOFFSETTO:-0500
TZNAME:America/Chicago CDT
END:DAYLIGHT
BEGIN:DAYLIGHT
DTSTART:20240310T030000
RDATE:20241103T010000
TZOFFSETFROM:-0600
TZOFFSETTO:-0500
TZNAME:America/Chicago CDT
END:DAYLIGHT
BEGIN:DAYLIGHT
DTSTART:20250309T030000
RDATE:20251102T010000
TZOFFSETFROM:-0600
TZOFFSETTO:-0500
TZNAME:America/Chicago CDT
END:DAYLIGHT
BEGIN:DAYLIGHT
DTSTART:20260308T030000
RDATE:20261101T010000
TZOFFSETFROM:-0600
TZOFFSETTO:-0500
TZNAME:America/Chicago CDT
END:DAYLIGHT
BEGIN:DAYLIGHT
DTSTART:20270314T030000
RDATE:20271107T010000
TZOFFSETFROM:-0600
TZOFFSETTO:-0500
TZNAME:America/Chicago CDT
END:DAYLIGHT
BEGIN:DAYLIGHT
DTSTART:20280312T030000
RDATE:20281105T010000
TZOFFSETFROM:-0600
TZOFFSETTO:-0500
TZNAME:America/Chicago CDT
END:DAYLIGHT
END:VTIMEZONE
BEGIN:VEVENT
UID:b99ea8f6fc809d11d1d5fbe32ac4359e
CATEGORIES:Other
CREATED:20191001T053238
SUMMARY:2020 Sweatfest
GEO:-93.13640594;37.2694931
LOCATION:Landmark Church - 200 N. Peachtree\, Strafford\, MO\, 65757\, 
URL;VALUE=URI:https://beta.actnowracing.com/events/493/2020-sweatfest-geo-93-13640594-37-
 2694931?tmpl=component
DESCRIPTION:<p>#sweatfest is a unique opportunity to set a Missouri State records on ou
 r certified 2-mile, 5 mile and 10-mile course. OMRR picked these odd distan
 ces because a lot of road races are not run at these distances, so you have
  a better chance of getting a MO state record AND a PR!</p><p>OMRR also set
  up an opt-in sweat off challenge. Do you sweat a lot when you run? Ever wa
 nt to prove just how sweaty you are? Then this race is for you! Come claim 
 your sweaty title for the 5 mile or the 10-mile distance and brag to your f
 riends that you ARE the sweatiest of them all! Last year’s winners lost mor
 e than 2% of their body weight! Can you beat that? The person that sweats t
 he most during the race, gets a unique prize!</p><p>OMRR hosts this race to
  benefit the Strafford School Foundation. Which is currently in need of sch
 ool supplies for the 2019/2020 school year.<strong> Items most commonly req
 uested</strong>: Backpacks, Pen/Paper, Folders and 3-Ring Binders, Scientif
 ic Calculators, Composition Notebooks. <strong>Primary Grades Require</stro
 ng>: Paste, Crayons, Glue Sticks, Note Cards, Colored Pencils, Rulers. MONE
 TARY DONATIONS ALSO ACCEPTED! Bring your items to packet pickup or race eve
 ning to be donated.</p><p>Night races are the best kind of races!</p><p>&nb
 sp;</p><p><strong>&nbsp;</strong></p> <a href="https://beta.actnowracing.co
 m/events/493/2020-sweatfest-geo-93-13640594-37-2694931?tmpl=component">This
  event was imported from: https://beta.actnowracing.com/events/493/2020-swe
 atfest-geo-93-13640594-37-2694931?tmpl=component</a>CONTACT:John Everett at RegularLabs.EmailProtector.unCloak("ep_e4632978");
DTSTAMP:20260424T135952
DTSTART;TZID=America/Chicago:20200711T200000
SEQUENCE:0
TRANSP:OPAQUE
END:VEVENT
END:VCALENDAR