BEGIN:VCALENDAR
VERSION:2.0
PRODID:-//jEvents 2.0 for Joomla//EN
CALSCALE:GREGORIAN
METHOD:PUBLISH
BEGIN:VTIMEZONE
TZID:America/Chicago
BEGIN:STANDARD
DTSTART:20181108T090700
RDATE:20190310T030000
TZOFFSETFROM:-0500
TZOFFSETTO:-0600
TZNAME:America/Chicago CST
END:STANDARD
BEGIN:STANDARD
DTSTART:20191103T010000
RDATE:20200308T030000
TZOFFSETFROM:-0500
TZOFFSETTO:-0600
TZNAME:America/Chicago CST
END:STANDARD
BEGIN:STANDARD
DTSTART:20201101T010000
RDATE:20210314T030000
TZOFFSETFROM:-0500
TZOFFSETTO:-0600
TZNAME:America/Chicago CST
END:STANDARD
BEGIN:STANDARD
DTSTART:20211107T010000
RDATE:20220313T030000
TZOFFSETFROM:-0500
TZOFFSETTO:-0600
TZNAME:America/Chicago CST
END:STANDARD
BEGIN:STANDARD
DTSTART:20221106T010000
RDATE:20230312T030000
TZOFFSETFROM:-0500
TZOFFSETTO:-0600
TZNAME:America/Chicago CST
END:STANDARD
BEGIN:STANDARD
DTSTART:20231105T010000
RDATE:20240310T030000
TZOFFSETFROM:-0500
TZOFFSETTO:-0600
TZNAME:America/Chicago CST
END:STANDARD
BEGIN:STANDARD
DTSTART:20241103T010000
RDATE:20250309T030000
TZOFFSETFROM:-0500
TZOFFSETTO:-0600
TZNAME:America/Chicago CST
END:STANDARD
BEGIN:STANDARD
DTSTART:20251102T010000
RDATE:20260308T030000
TZOFFSETFROM:-0500
TZOFFSETTO:-0600
TZNAME:America/Chicago CST
END:STANDARD
BEGIN:STANDARD
DTSTART:20261101T010000
RDATE:20270314T030000
TZOFFSETFROM:-0500
TZOFFSETTO:-0600
TZNAME:America/Chicago CST
END:STANDARD
BEGIN:STANDARD
DTSTART:20271107T010000
RDATE:20280312T030000
TZOFFSETFROM:-0500
TZOFFSETTO:-0600
TZNAME:America/Chicago CST
END:STANDARD
BEGIN:STANDARD
DTSTART:20281105T010000
RDATE:20290311T030000
TZOFFSETFROM:-0500
TZOFFSETTO:-0600
TZNAME:America/Chicago CST
END:STANDARD
BEGIN:DAYLIGHT
DTSTART:20190310T030000
RDATE:20191103T010000
TZOFFSETFROM:-0600
TZOFFSETTO:-0500
TZNAME:America/Chicago CDT
END:DAYLIGHT
BEGIN:DAYLIGHT
DTSTART:20200308T030000
RDATE:20201101T010000
TZOFFSETFROM:-0600
TZOFFSETTO:-0500
TZNAME:America/Chicago CDT
END:DAYLIGHT
BEGIN:DAYLIGHT
DTSTART:20210314T030000
RDATE:20211107T010000
TZOFFSETFROM:-0600
TZOFFSETTO:-0500
TZNAME:America/Chicago CDT
END:DAYLIGHT
BEGIN:DAYLIGHT
DTSTART:20220313T030000
RDATE:20221106T010000
TZOFFSETFROM:-0600
TZOFFSETTO:-0500
TZNAME:America/Chicago CDT
END:DAYLIGHT
BEGIN:DAYLIGHT
DTSTART:20230312T030000
RDATE:20231105T010000
TZOFFSETFROM:-0600
TZOFFSETTO:-0500
TZNAME:America/Chicago CDT
END:DAYLIGHT
BEGIN:DAYLIGHT
DTSTART:20240310T030000
RDATE:20241103T010000
TZOFFSETFROM:-0600
TZOFFSETTO:-0500
TZNAME:America/Chicago CDT
END:DAYLIGHT
BEGIN:DAYLIGHT
DTSTART:20250309T030000
RDATE:20251102T010000
TZOFFSETFROM:-0600
TZOFFSETTO:-0500
TZNAME:America/Chicago CDT
END:DAYLIGHT
BEGIN:DAYLIGHT
DTSTART:20260308T030000
RDATE:20261101T010000
TZOFFSETFROM:-0600
TZOFFSETTO:-0500
TZNAME:America/Chicago CDT
END:DAYLIGHT
BEGIN:DAYLIGHT
DTSTART:20270314T030000
RDATE:20271107T010000
TZOFFSETFROM:-0600
TZOFFSETTO:-0500
TZNAME:America/Chicago CDT
END:DAYLIGHT
BEGIN:DAYLIGHT
DTSTART:20280312T030000
RDATE:20281105T010000
TZOFFSETFROM:-0600
TZOFFSETTO:-0500
TZNAME:America/Chicago CDT
END:DAYLIGHT
END:VTIMEZONE
BEGIN:VEVENT
UID:c99d9c14c0745414ba2b99017e36deea
CATEGORIES:5K
CREATED:20191021T130307
SUMMARY:PFC Matthew J. England Memorial 5K 
GEO:-92.42955017;36.60301208
LOCATION:Gainesville Square - 444 3rd Street\, Gainesville\, MO\, \, 
URL;VALUE=URI:https://beta.actnowracing.com/events/498/pfc-matthew-j-england-memorial-5k-
 geo-92-42955017-36-60301208?tmpl=component
DESCRIPTION:Matthew Joseph England was killed in action in An Najah province, Iraq when
  enemy forces attacked his unit with an improvised explosive device. He was
  assigned to the 3rd squadron, 3rd Armored Calvary regiment Ft Hood Texas. 
 He was 22 years of age.\nMatthew attended school at Lutie R-6 accelerated s
 chool in Theodosia, MO where he was in the Honors Society and graduated as 
 salutatorian. He was also the president of the Tech Club, played basketball
 , and participated in other student activities. In addition to serving in t
 he US Army Matthew was working hard at earning his college degree.\nPlease 
 join us when we honor his memory by running or walking at the Matthew Engla
 nd Memorial 5K on November 9th.\nPam Hengen, Matthew’s mom, said Matthew lo
 ved to run and this is a perfect way for us to remember his sacrifice. If y
 ou cannot join us in Gainesville, you can still participate by running or w
 alking a 5K (3.1 miles) wherever you happen to be on that day.\nAll proceed
 s from this event go to the Matthew England Memorial Scholarship Fund.\n Th
 is event was imported from: https://beta.actnowracing.com/events/498/pfc-ma
 tthew-j-england-memorial-5k-geo-92-42955017-36-60301208?tmpl=component
X-ALT-DESC;FMTTYPE=text/html:<p>Matthew Joseph England was killed in action in An Najah province, Iraq w
 hen enemy forces attacked his unit with an improvised explosive device. He 
 was assigned to the 3rd squadron, 3rd Armored Calvary regiment Ft Hood Texa
 s. He was 22 years of age.</p><p>Matthew attended school at Lutie R-6 accel
 erated school in Theodosia, MO where he was in the Honors Society and gradu
 ated as salutatorian. He was also the president of the Tech Club, played ba
 sketball, and participated in other student activities. In addition to serv
 ing in the US Army Matthew was working hard at earning his college degree.<
 /p><p>Please join us when we honor his memory by running or walking at the 
 Matthew England Memorial 5K on November 9th.</p><p>Pam Hengen, Matthew’s mo
 m, said Matthew loved to run and this is a perfect way for us to remember h
 is sacrifice. If you cannot join us in Gainesville, you can still participa
 te by running or walking a 5K (3.1 miles) wherever you happen to be on that
  day.</p><p>All proceeds from this event go to the Matthew England Memorial
  Scholarship Fund.</p> <a href="https://beta.actnowracing.com/events/498/pf
 c-matthew-j-england-memorial-5k-geo-92-42955017-36-60301208?tmpl=component"
 >This event was imported from: https://beta.actnowracing.com/events/498/pfc
 -matthew-j-england-memorial-5k-geo-92-42955017-36-60301208?tmpl=component</
 a>CONTACT:David Murphy at RegularLabs.EmailProtector.unCloak("ep_e95432b0");
DTSTAMP:20260423T111725
DTSTART;TZID=America/Chicago:20191109T090700
SEQUENCE:0
TRANSP:OPAQUE
END:VEVENT
END:VCALENDAR