BEGIN:VCALENDAR
VERSION:2.0
PRODID:-//jEvents 2.0 for Joomla//EN
CALSCALE:GREGORIAN
METHOD:PUBLISH
BEGIN:VTIMEZONE
TZID:America/Chicago
BEGIN:STANDARD
DTSTART:20191103T010000
RDATE:20200308T030000
TZOFFSETFROM:-0500
TZOFFSETTO:-0600
TZNAME:America/Chicago CST
END:STANDARD
BEGIN:STANDARD
DTSTART:20201101T010000
RDATE:20210314T030000
TZOFFSETFROM:-0500
TZOFFSETTO:-0600
TZNAME:America/Chicago CST
END:STANDARD
BEGIN:STANDARD
DTSTART:20211107T010000
RDATE:20220313T030000
TZOFFSETFROM:-0500
TZOFFSETTO:-0600
TZNAME:America/Chicago CST
END:STANDARD
BEGIN:STANDARD
DTSTART:20221106T010000
RDATE:20230312T030000
TZOFFSETFROM:-0500
TZOFFSETTO:-0600
TZNAME:America/Chicago CST
END:STANDARD
BEGIN:STANDARD
DTSTART:20231105T010000
RDATE:20240310T030000
TZOFFSETFROM:-0500
TZOFFSETTO:-0600
TZNAME:America/Chicago CST
END:STANDARD
BEGIN:STANDARD
DTSTART:20241103T010000
RDATE:20250309T030000
TZOFFSETFROM:-0500
TZOFFSETTO:-0600
TZNAME:America/Chicago CST
END:STANDARD
BEGIN:STANDARD
DTSTART:20251102T010000
RDATE:20260308T030000
TZOFFSETFROM:-0500
TZOFFSETTO:-0600
TZNAME:America/Chicago CST
END:STANDARD
BEGIN:STANDARD
DTSTART:20261101T010000
RDATE:20270314T030000
TZOFFSETFROM:-0500
TZOFFSETTO:-0600
TZNAME:America/Chicago CST
END:STANDARD
BEGIN:STANDARD
DTSTART:20271107T010000
RDATE:20280312T030000
TZOFFSETFROM:-0500
TZOFFSETTO:-0600
TZNAME:America/Chicago CST
END:STANDARD
BEGIN:STANDARD
DTSTART:20281105T010000
RDATE:20290311T030000
TZOFFSETFROM:-0500
TZOFFSETTO:-0600
TZNAME:America/Chicago CST
END:STANDARD
BEGIN:DAYLIGHT
DTSTART:20190620T083000
RDATE:20191103T010000
TZOFFSETFROM:-0600
TZOFFSETTO:-0500
TZNAME:America/Chicago CDT
END:DAYLIGHT
BEGIN:DAYLIGHT
DTSTART:20200308T030000
RDATE:20201101T010000
TZOFFSETFROM:-0600
TZOFFSETTO:-0500
TZNAME:America/Chicago CDT
END:DAYLIGHT
BEGIN:DAYLIGHT
DTSTART:20210314T030000
RDATE:20211107T010000
TZOFFSETFROM:-0600
TZOFFSETTO:-0500
TZNAME:America/Chicago CDT
END:DAYLIGHT
BEGIN:DAYLIGHT
DTSTART:20220313T030000
RDATE:20221106T010000
TZOFFSETFROM:-0600
TZOFFSETTO:-0500
TZNAME:America/Chicago CDT
END:DAYLIGHT
BEGIN:DAYLIGHT
DTSTART:20230312T030000
RDATE:20231105T010000
TZOFFSETFROM:-0600
TZOFFSETTO:-0500
TZNAME:America/Chicago CDT
END:DAYLIGHT
BEGIN:DAYLIGHT
DTSTART:20240310T030000
RDATE:20241103T010000
TZOFFSETFROM:-0600
TZOFFSETTO:-0500
TZNAME:America/Chicago CDT
END:DAYLIGHT
BEGIN:DAYLIGHT
DTSTART:20250309T030000
RDATE:20251102T010000
TZOFFSETFROM:-0600
TZOFFSETTO:-0500
TZNAME:America/Chicago CDT
END:DAYLIGHT
BEGIN:DAYLIGHT
DTSTART:20260308T030000
RDATE:20261101T010000
TZOFFSETFROM:-0600
TZOFFSETTO:-0500
TZNAME:America/Chicago CDT
END:DAYLIGHT
BEGIN:DAYLIGHT
DTSTART:20270314T030000
RDATE:20271107T010000
TZOFFSETFROM:-0600
TZOFFSETTO:-0500
TZNAME:America/Chicago CDT
END:DAYLIGHT
BEGIN:DAYLIGHT
DTSTART:20280312T030000
RDATE:20281105T010000
TZOFFSETFROM:-0600
TZOFFSETTO:-0500
TZNAME:America/Chicago CDT
END:DAYLIGHT
END:VTIMEZONE
BEGIN:VEVENT
UID:8949722e6988fff7437eccb43bfdea4e
CATEGORIES:5K
CREATED:20191107T145634
SUMMARY:2020 Happy Feet 5K
GEO:-93.46678925;37.12269211
LOCATION:Calvary Baptist Church - 804 U.S. 60 Hwy\, Republic\, MO\, 65738\, 
URL;VALUE=URI:https://beta.actnowracing.com/events/500/2020-happy-feet-5k-geo-93-46678925
 -37-12269211?tmpl=component
DESCRIPTION:Due to COVID-19 race has been moved to Saturday, June 20, 2020.\nJoin us fo
 r a 5K run/walk to support the life-affirming ministry of the Republic Preg
 nancy Resource Center. The RPRC believes that every life has value and ever
 y baby deserves the chance to experience this world!\nFifty percent of all 
 pregnancies in the U.S. are unplanned and 70 percent of these unplanned pre
 gnancies are experienced by single women. The RPRC works to support and emp
 ower these women to be awesome mothers and live hope-filled lives through e
 ducation, mentoring, and basic-needs assistance.\nThe mission of the Republ
 ic Pregnancy Resource Center is to offer support and comfort to those in ou
 r community facing need during and after pregnancy, making positive choices
  through mentoring and education, providing hope for a life-giving future. 
 \n \nThis will be a family friendly run/walk over mostly flat terrain and a
  post-race breakfast!\n This event was imported from: https://beta.actnowra
 cing.com/events/500/2020-happy-feet-5k-geo-93-46678925-37-12269211?tmpl=com
 ponent
X-ALT-DESC;FMTTYPE=text/html:<p>Due to COVID-19 race has been moved to Saturday, June 20, 2020.</p><p>Jo
 in us for a 5K run/walk to support the life-affirming ministry of the Repub
 lic Pregnancy Resource Center. The RPRC believes that every life has value 
 and every baby deserves the chance to experience this world!</p><p>Fifty pe
 rcent of all pregnancies in the U.S. are unplanned and 70 percent of these 
 unplanned pregnancies are experienced by single women. The RPRC works to su
 pport and empower these women to be awesome mothers and live hope-filled li
 ves through education, mentoring, and basic-needs assistance.</p><p>The mis
 sion of the Republic Pregnancy Resource Center is to offer support and comf
 ort to those in our community facing need during and after pregnancy, makin
 g positive choices through mentoring and education, providing hope for a li
 fe-giving future. <br /> <br />This will be a family friendly run/walk over
  mostly flat terrain and a <strong>post-race breakfast</strong>!</p> <a hre
 f="https://beta.actnowracing.com/events/500/2020-happy-feet-5k-geo-93-46678
 925-37-12269211?tmpl=component">This event was imported from: https://beta.
 actnowracing.com/events/500/2020-happy-feet-5k-geo-93-46678925-37-12269211?
 tmpl=component</a>CONTACT:RPRC by calling 417-732-5993 or email RegularLabs.EmailProtector.unCloak("ep_bd5839fb");
DTSTAMP:20260424T135849
DTSTART;TZID=America/Chicago:20200620T083000
SEQUENCE:0
TRANSP:OPAQUE
END:VEVENT
END:VCALENDAR