BEGIN:VCALENDAR
VERSION:2.0
PRODID:-//jEvents 2.0 for Joomla//EN
CALSCALE:GREGORIAN
METHOD:PUBLISH
BEGIN:VTIMEZONE
TZID:America/Chicago
BEGIN:STANDARD
DTSTART:20191103T010000
RDATE:20200308T030000
TZOFFSETFROM:-0500
TZOFFSETTO:-0600
TZNAME:America/Chicago CST
END:STANDARD
BEGIN:STANDARD
DTSTART:20201101T010000
RDATE:20210314T030000
TZOFFSETFROM:-0500
TZOFFSETTO:-0600
TZNAME:America/Chicago CST
END:STANDARD
BEGIN:STANDARD
DTSTART:20211107T010000
RDATE:20220313T030000
TZOFFSETFROM:-0500
TZOFFSETTO:-0600
TZNAME:America/Chicago CST
END:STANDARD
BEGIN:STANDARD
DTSTART:20221106T010000
RDATE:20230312T030000
TZOFFSETFROM:-0500
TZOFFSETTO:-0600
TZNAME:America/Chicago CST
END:STANDARD
BEGIN:STANDARD
DTSTART:20231105T010000
RDATE:20240310T030000
TZOFFSETFROM:-0500
TZOFFSETTO:-0600
TZNAME:America/Chicago CST
END:STANDARD
BEGIN:STANDARD
DTSTART:20241103T010000
RDATE:20250309T030000
TZOFFSETFROM:-0500
TZOFFSETTO:-0600
TZNAME:America/Chicago CST
END:STANDARD
BEGIN:STANDARD
DTSTART:20251102T010000
RDATE:20260308T030000
TZOFFSETFROM:-0500
TZOFFSETTO:-0600
TZNAME:America/Chicago CST
END:STANDARD
BEGIN:STANDARD
DTSTART:20261101T010000
RDATE:20270314T030000
TZOFFSETFROM:-0500
TZOFFSETTO:-0600
TZNAME:America/Chicago CST
END:STANDARD
BEGIN:STANDARD
DTSTART:20271107T010000
RDATE:20280312T030000
TZOFFSETFROM:-0500
TZOFFSETTO:-0600
TZNAME:America/Chicago CST
END:STANDARD
BEGIN:STANDARD
DTSTART:20281105T010000
RDATE:20290311T030000
TZOFFSETFROM:-0500
TZOFFSETTO:-0600
TZNAME:America/Chicago CST
END:STANDARD
BEGIN:DAYLIGHT
DTSTART:20190724T181500
RDATE:20191103T010000
TZOFFSETFROM:-0600
TZOFFSETTO:-0500
TZNAME:America/Chicago CDT
END:DAYLIGHT
BEGIN:DAYLIGHT
DTSTART:20200308T030000
RDATE:20201101T010000
TZOFFSETFROM:-0600
TZOFFSETTO:-0500
TZNAME:America/Chicago CDT
END:DAYLIGHT
BEGIN:DAYLIGHT
DTSTART:20210314T030000
RDATE:20211107T010000
TZOFFSETFROM:-0600
TZOFFSETTO:-0500
TZNAME:America/Chicago CDT
END:DAYLIGHT
BEGIN:DAYLIGHT
DTSTART:20220313T030000
RDATE:20221106T010000
TZOFFSETFROM:-0600
TZOFFSETTO:-0500
TZNAME:America/Chicago CDT
END:DAYLIGHT
BEGIN:DAYLIGHT
DTSTART:20230312T030000
RDATE:20231105T010000
TZOFFSETFROM:-0600
TZOFFSETTO:-0500
TZNAME:America/Chicago CDT
END:DAYLIGHT
BEGIN:DAYLIGHT
DTSTART:20240310T030000
RDATE:20241103T010000
TZOFFSETFROM:-0600
TZOFFSETTO:-0500
TZNAME:America/Chicago CDT
END:DAYLIGHT
BEGIN:DAYLIGHT
DTSTART:20250309T030000
RDATE:20251102T010000
TZOFFSETFROM:-0600
TZOFFSETTO:-0500
TZNAME:America/Chicago CDT
END:DAYLIGHT
BEGIN:DAYLIGHT
DTSTART:20260308T030000
RDATE:20261101T010000
TZOFFSETFROM:-0600
TZOFFSETTO:-0500
TZNAME:America/Chicago CDT
END:DAYLIGHT
BEGIN:DAYLIGHT
DTSTART:20270314T030000
RDATE:20271107T010000
TZOFFSETFROM:-0600
TZOFFSETTO:-0500
TZNAME:America/Chicago CDT
END:DAYLIGHT
BEGIN:DAYLIGHT
DTSTART:20280312T030000
RDATE:20281105T010000
TZOFFSETFROM:-0600
TZOFFSETTO:-0500
TZNAME:America/Chicago CDT
END:DAYLIGHT
END:VTIMEZONE
BEGIN:VEVENT
UID:8d6d93ee840db5865fb326a3b26978d5
CATEGORIES:5K, 1 Mile
CREATED:20200115T091727
SUMMARY:Raptor Run 2020
GEO:-93.32967377;37.10590363
LOCATION:Missouri Institute of Natural Science - 2327 W. Farm Road 190\, Springfield
 \, MO\, \, 
URL;VALUE=URI:https://beta.actnowracing.com/events/515/raptor-run-2020-geo-93-32967377-37
 -10590363?tmpl=component
DESCRIPTION:Due to COVID-19, the race has been rescheduled to July 24, 2020. \nBring th
 e family for a night of fun to help raise money for the Missouri Institute 
 of Natural Science and Riverbluff Cave! Participants can run or walk the 5K
 , or 1 mile Fun Run. Funds from this fundraiser will benefit the museum and
  aid in continued research within Riverbluff Cave. In addition, donations w
 ill aid in partnering with area schools to offer educational experiences to
  local students on Missouri’s natural history and its fragile ecosystem.\nS
 tick around after the run for free tours of the museum and activities for t
 he kids. Enjoy the museum grounds on this sure to be Spectacular Spring Eve
 ning! Complete with fossil dig for kids, popcorn, snacks and other entertai
 nment.\n This event was imported from: https://beta.actnowracing.com/events
 /515/raptor-run-2020-geo-93-32967377-37-10590363?tmpl=component
X-ALT-DESC;FMTTYPE=text/html:<p>Due to COVID-19, the race has been rescheduled to July 24, 2020.&nbsp;</
 p><p>Bring the family for a night of fun to help raise money for the Missou
 ri Institute of Natural Science and Riverbluff Cave! Participants can run o
 r walk the 5K, or 1 mile Fun Run. Funds from this fundraiser will benefit t
 he museum and aid in continued research within Riverbluff Cave. In addition
 , donations will aid in partnering with area schools to offer educational e
 xperiences to local students on Missouri’s natural history and its fragile 
 ecosystem.</p><p>Stick around after the run for free tours of the museum an
 d activities for the kids. Enjoy the museum grounds on this sure to be Spec
 tacular Spring Evening! Complete with fossil dig for kids, popcorn, snacks 
 and other entertainment.</p> <a href="https://beta.actnowracing.com/events/
 515/raptor-run-2020-geo-93-32967377-37-10590363?tmpl=component">This event 
 was imported from: https://beta.actnowracing.com/events/515/raptor-run-2020
 -geo-93-32967377-37-10590363?tmpl=component</a>CONTACT:Samantha Forir at RegularLabs.EmailProtector.unCloak("ep_590082ed");
DTSTAMP:20260424T162823
DTSTART;TZID=America/Chicago:20200724T181500
SEQUENCE:0
TRANSP:OPAQUE
END:VEVENT
END:VCALENDAR